Workbook

Sheet 様式第1号　指定申請書
A1: 様式第１号（第９条関係）
H3: 令和 年 月 日
A4: 豊田市長 様
B6: （申請者） | D6: 所在地 | J6: →本店住所
C7: 法人名又は屋号
B8: 代表者 役職・氏名 | J8: →代表者肩書+代表者氏名
J9: 例）代表取締役 豊田 太郎
A10: 豊田市LED照明器具更新支援補助金交付対象事業者指定申請書
A12: 豊田市LED照明器具更新支援補助金交付要綱第９条の規定により、次のとおり申請します。
A14: １ 事業者（申請者）概要
A15: 種別 | B15: □中小企業 □個人事業主 □その他法人
A16: 法人番号（※１） （個人事業主は記載不要） | J16: ※１ 国税庁HP「法人番号検索サイト」で公開されている13桁の番号を記入すること。
A17: 代表者 役職・氏名 | B17: =E8 -> 0 | J17: → 自動入力
A18: 設立年月日 （個人事業主は事業開始年月日） | B18: 年 月 日
A19: 資本金額又は出資総額 （個人事業主は記載不要） | B19: 円
A20: 常時使用する従業員数 （組合にあっては事務に従事する者） | B20: 人
A21: 業種 | B21: 日本標準産業分類 中分類（ ） | J21: → 日本標準産業分類 中分類 になります。
A22: 事業内容
A23: 担当者連絡先 | B23: 担当者
B24: 電話番号
B25: Email
A26: ※１ 国税庁HP「法人番号検索サイト」で公開されている13桁の番号を記入すること。
A28: ２ 事業実施期間
A29: 事業着手日（※２） | B29: 令和 年 月 日
A30: 事業完了日（※３） | B30: 令和 年 月 日
A31: ※２ 事業着手日には、補助対象事業の発注・契約をする予定日を記載すること。
A32: ※３ 事業完了日には、補助対象事業の実施及び補助対象経費に係る全ての支払いが完了する予定日を
A33: 記載すること。
A35: ３ 補助金申請額 | J35: →「様式第2号 収支予算（決算）書」の 予算額「C 申請補助額」を記入すること
A36: 補助金申請額 | B36: 金 | G36: 円
A37: ※ 収支予算（決算）書（様式第２号）に記載された補助金額の合計と整合がとれること。
A39: ４ 補助対象設備を導入（LED化）する事業所及び更新予定設備の内容
A40: 事業所の名称
A41: 事業所の所在地 | B41: 〒
A43: 事業所の業種 | B43: 日本標準産業分類 中分類（ ） | J43: → 日本標準産業分類 中分類 になります。
A44: 事業所の事業内容
A45: 補助対象事業計画 （更新予定設備） | B45: 既存照明器具のランプ種別 | G45: 更新数量
B46: □ 蛍光灯 | I46: 基
B47: □ 白熱電球・クリプトン電球 | I47: 基
B48: □ ハロゲン電球 | I48: 基
...

Sheet 様式第2号　収支予算（決算）書
A1: 様式第２号（第９条、第１３条関係）
A2: 収支予算（決算）書
A4: １ 支出
A5: 科目 | F5: 予算額 | I5: 決算額 | J5: 摘要 | M5: ★指定申請時は、予算額に記入してください
A6: 補助対象事業に要する経費 | B6: 【対象経費】 設備費（設置工事費を含む。） | M6: ※決算額は、交付申請時に追記すること
B7: 【対象外経費】 調査費
B8: 【対象外経費】 設計費
B9: 【対象外経費】 附帯工事費
B10: 【対象外経費】 処分費
B11: 【対象外経費】 消費税及び地方消費税相当額
B12: 【対象外経費】 印紙税・登録免許税
B13: 【対象外経費】 法令手続に係る手数料
B14: 【対象外経費】 その他公租公課
B15: 【対象外経費】 その他経費
B16: 支出合計 | F16: =SUM(F6:H15) -> 0 | I16: =SUM(I6:I15) -> 0
A17: A 補助対象経費 | F17: =F6 -> 0 | I17: =I6 -> 0
A18: B 補助上限額 | F18: 3,000,000円
A19: C 申請補助額（A×１/２） AとBを比べて低い方の額 | J19: 千円未満切り捨て | L19: →「様式第1号 指定申請書」３ 補助金申請額に、「C 申請補助額」を記入すること
A21: ２ 収入
A22: 科目 | F22: 予算額 | I22: 決算額 | J22: 摘要
A23: 補助金 | F23: =F19 -> 0 | I23: =I19 -> 0
A24: 自己資金・買入金 | F24: =F25-F23 -> 0 | I24: =I25-I23 -> 0
A25: 収入合計 | F25: =F16 -> 0 | I25: =I16 -> 0
A27: ※支出合計と収入合計は必ず一致すること。
A28: ※申請の際に「予算額」欄を使用し、交付申請の際に「決算額」欄を使用すること。

Sheet 様式第3号　省エネルギー計算書
A1: 様式第3号（第９条関係）
A2: 省エネルギー計算書
A3: １ 照明器具一覧
A4: 既存照明器具 | G4: 導入LED照明器具
A5: 種類 | B5: 大きさ | C5: 数量 | D5: 月間平均稼働時間 | E5: 照明器具消費電力 （Ｗ） | F5: 年間消費電力量 （Wh） | G5: メーカー名 | H5: 型式番号 | I5: 数量 | J5: 月間平均稼働時間 | K5: 消費電力 （W） | L5: 年間消費電力量 （Wh）
F6: =C6*D6*E6*12 -> 0 | J6: =D6 -> 0 | L6: =I6*J6*K6*12 -> 0
F7: =C7*D7*E7*12 -> 0 | J7: =D7 -> 0 | L7: =I7*J7*K7*12 -> 0
F8: =C8*D8*E8*12 -> 0 | J8: =D8 -> 0 | L8: =I8*J8*K8*12 -> 0
F9: =C9*D9*E9*12 -> 0 | J9: =D9 -> 0 | L9: =I9*J9*K9*12 -> 0
F10: =C10*D10*E10*12 -> 0 | J10: =D10 -> 0 | L10: =I10*J10*K10*12 -> 0
F11: =C11*D11*E11*12 -> 0 | J11: =D11 -> 0 | L11: =I11*J11*K11*12 -> 0
F12: =C12*D12*E12*12 -> 0 | J12: =D12 -> 0 | L12: =I12*J12*K12*12 -> 0
F13: =C13*D13*E13*12 -> 0 | J13: =D13 -> 0 | L13: =I13*J13*K13*12 -> 0
F14: =C14*D14*E14*12 -> 0 | J14: =D14 -> 0 | L14: =I14*J14*K14*12 -> 0
F15: =C15*D15*E15*12 -> 0 | J15: =D15 -> 0 | L15: =I15*J15*K15*12 -> 0
F16: =C16*D16*E16*12 -> 0 | J16: =D16 -> 0 | L16: =I16*J16*K16*12 -> 0
F17: =C17*D17*E17*12 -> 0 | J17: =D17 -> 0 | L17: =I17*J17*K17*12 -> 0
... F20: =C20*D20*E20*12 -> 0 | J20: =D20 -> 0 | L20: =I20*J20*K20*12 -> 0
A21: 合計 | C21: =SUM(C6:C20) -> 0 | F21: =SUM(F6:F20) -> 0 | G21: 合計 | I21: =SUM(I6:I20) -> 0 | L21: =SUM(L6:L20) -> 0
A23: 【記入上の注意】
A24: １ 黄色のセルのみ記入してください。
A25: ２ 「既存照明器具」と「導入LED照明器具」が同じ行で対になるように記載してください。
A26: ３ 「既存照明器具」の「種類」、「大きさ」及び「照明器具消費電力量（W)」については、一般社団法人日本照明工業会が公表する
A27: ガイド 114「照明エネルギー消費係数算出のための照明器具の消費電力の参考値」に記載されている「種類」、「大きさ」及び「照明器具消費電力量（W)」を引用して記載すること。 | M27: → 次シートにある「照明器具の根拠書類」に
A28: 参照：https://www.jlma.or.jp/siryo/pdf/kokai/guide114.pdf | M28: 既存照明器具の「種類」、「大きさ」及び「照明器具消費電力量（W)」の
A29: ３ 行が不足するときなどは、適宜、シートの追加等をしてください。 | M29: 該当箇所を□で囲うこと
A30: ４ 型式番号及び消費電力の根拠となる資料（カタログ、仕様書等）を添付してください。
A32: ２ 年間CO2排出量
A33: 既存設備 | B33: =F21*0.000411/1000 -> 0 | C33: t-CO2/年
A34: 導入設備 | B34: =L21*0.000411/1000 -> 0 | C34: t-CO2/年
A35: 削減量 | B35: =B33-B34 -> 0 | C35: t-CO2/年

Sheet （参考資料）既設照明器具の根拠書類
A1: 【出典】一般社団法人日本照明工業会
A2: ガイド114「照明エネルギー消費係数算出のための照明器具の消費電力の参考値」
A4: 【蛍光灯器具の消費電力（参考値）】
K5: 既存照明器具の「種類」、「大きさ」及び「照明器具消費電力量（W)」の
K6: 該当箇所を□で囲うこと
K8: ↓ ご活用ください
K17: 例）
A141: 【白熱灯器具の消費電力（参考値）】
A156: 【HID器具の消費電力（参考値）】

Sheet 様式第4号　誓約書
A1: 様式第４号（第９条関係）
A3: 誓約書
A5: 豊田市LED照明器具更新支援補助金の申請に当たり、以下のことについて誓約します。
A7: □豊田市LED照明器具更新支援補助金交付要綱（以下「要綱」という。）
A8: 第４条に規定する補助対象事業者の要件を全て満たしていること。
A9: □要綱第５条に規定する補助対象設備の要件を全て満たしていること。
A10: □要綱第６条に規定する補助対象事業の要件を全て満たしていること。
A11: □事業活動を行うに当たり、関係する法令を遵守していること。
A12: □豊田市が交付決定事業者の氏名・名称、補助事業の取組内容・成果等について、
A13: 地域産業振興の実例として公表することに同意すること。
A14: □提出した書類に軽微な不備がある場合に、その不備を市職員が修正することに同意すること。
A15: □本補助金の交付事務に必要な内容に関し、法人の場合は市税の収納状況を、
... A18: □その他この要綱の規定及び市長の指示を遵守すること。
I20: 以上
G21: ='様式第1号 指定申請書'!H3 -> 令和 年 月 日 | K21: → 自動入力
A22: 豊田市長 様
E24: 所在地 | F24: ='様式第1号 指定申請書'!E6 -> 0 | K24: → 自動入力
D25: 法人名又は屋号 | F25: ='様式第1号 指定申請書'!E7 -> 0 | K25: → 自動入力
C26: 代表者 役職・氏名 | F26: ='様式第1号 指定申請書'!E8 -> 0 | K26: → 自動入力

Sheet 様式第5号　役員一覧表
A1: 様式第５号（第９条関係）
A2: 役員一覧表 | J2: → 中小企業及びその他法人に限る
G4: 法人名 | I4: ='様式第1号 指定申請書'!E7 -> 0 | J4: →自動入力 | L4: ※注意事項
A6: 役職名 | B6: ﾌﾘｶﾞﾅ | C6: 氏 名 | D6: 和暦 | E6: 年 | F6: 月 | G6: 日 | H6: 性別 | I6: 住 所 | L6: ★役職名：履歴事項全部証明書の肩書にすること
A7: （例）代表取締役 | B7: ﾄﾖﾀ ﾀﾛｳ | C7: 豊田 太郎 | D7: S | E7: 49 | F7: 2 | G7: 1 | H7: M | I7: 豊田市西町３丁目６０番地 | M7: 会社での肩書ではない
M8: ✕ 取締役役員
M9: ○ 取締役
L11: ★監査役：履歴事項全部証明書に記載の監査役についても記載すること
L13: ★履歴事項全部証明書：以下、項目について着色や四角で囲う等
N14: 該当箇所がわかるようにすること
N15: ・会社名
N16: ・本店住所
N17: ・設立年月日
N18: ・資本金
N19: ・役員一覧表に記載の役員肩書、氏名
N20: ・登記簿 取得日（一番最後のページの下部にあります。）
A23: ※１ 履歴事項全部証明書に記載された役員全員について記載すること。
A24: ※２ 役職名は履歴事項全部証明書に記載された役職名と一致すること。

Sheet 様式第6号　委任状
A1: 様式第６号（第９条関係）
J2: 申請を第三者に委任する場合のみ記載してください。
A3: 委任状 | J3: → 申請者の従業員が作成し、提出する場合は不要
J4: 申請者ではなく、販売店が提出する場合は必要
H5: ='様式第1号 指定申請書'!H3 -> 令和 年 月 日 | J5: → 自動入力
A6: 豊田市長 様
A9: （代理人）
A10: 住 所
A11: 名 称
A12: 代表者 役職・氏名
A13: 担当者
A14: 連絡先
A16: 私は、上記の者を代理人と定め、 豊田市LED照明器具更新支援補助金の申請等に関する一切の権限を委任します。
A18: 以上
A20: （申請者）
A21: 住 所 | C21: ='様式第1号 指定申請書'!E6 -> 0 | J21: →自動入力
A22: 名 称 | C22: ='様式第1号 指定申請書'!E7 -> 0 | J22: →自動入力
A23: 代表者 役職・氏名 | C23: ='様式第1号 指定申請書'!E8 -> 0 | J23: →自動入力
A24: 連絡先
