Workbook

Sheet 月報
A2: 46054 | C2: 46143
C4: 地点名 | D4: 野入浄水場 | E4: 山の駅大野瀬 | F4: 小田木浄水場 | G4: 田津原公会堂 | H4: 押川浄水場 | I4: 川手消防詰所
C6: 住所 | D6: 野入町井ノ入14-2 | E6: 大野瀬町ヤシロジマ 25-16 | F6: 小田木町タカドヤ1-29 | G6: 田津原町松ケ下 19-1 | H6: 押山町上川入630-15 | I6: 川手町前田11
A7: Ｎｏ | B7: 試 験 項 目
A8: 測定項目 | C8: （ 単 位 ）
A9: 1 | B9: 採水年月日 | C9: --- | D9: 2026/05/18 | E9: 2026/05/18 | F9: 2026/05/18 | G9: 2026/05/18 | H9: 2026/05/18 | I9: 2026/05/18 | R9: =#REF! -> #REF! | S9: =#REF! -> #REF! | T9: =#REF! -> #REF! | U9: =#REF! -> #REF! | V9: =#REF! -> #REF! | W9: =#REF! -> #REF! | X9: =#REF! -> #REF! | Y9: =#REF! -> #REF! | ... AH9: =#REF! -> #REF! | AI9: 月報値
A10: 2 | B10: 採水時刻 | C10: --- | D10: 10:46 | E10: 10:31 | F10: 11:16 | G10: 09:29 | H10: 10:08 | I10: 09:53
A11: 3 | B11: 天候(前日) | C11: --- | D11: 晴 | E11: 晴 | F11: 晴 | G11: 晴 | H11: 晴 | I11: 晴
A12: 4 | B12: 天候(当日) | C12: --- | D12: 晴 | E12: 晴 | F12: 晴 | G12: 晴 | H12: 晴 | I12: 晴
A13: 5 | B13: 気温 | C13: ℃ | D13: 24 | E13: 23 | F13: 22.5 | G13: 28 | H13: 22 | I13: 25 | R13: =IFERROR(VLOOKUP(R$9,#REF!,2,FALSE),"") | S13: =IFERROR(VLOOKUP(S$9,#REF!,2,FALSE),"") | T13: =IFERROR(VLOOKUP(T$9,#REF!,2,FALSE),"") | U13: =IFERROR(VLOOKUP(U$9,#REF!,2,FALSE),"") | V13: =IFERROR(VLOOKUP(V$9,#REF!,2,FALSE),"") | W13: =IFERROR(VLOOKUP(W$9,#REF!,2,FALSE),"") | X13: =IFERROR(VLOOKUP(X$9,#REF!,2,FALSE),"") | Y13: =IFERROR(VLOOKUP(Y$9,#REF!,2,FALSE),"") | ... AB13: =IFERROR(VLOOKUP(AB$9,#REF!,2,FALSE),"") | AC13: =IFERROR(VLOOKUP(ACK$9,#REF!,2,FALSE),"") | AD13: =IFERROR(VLOOKUP(AD$9,#REF!,2,FALSE),"") | AE13: =IFERROR(VLOOKUP(AE$9,#REF!,2,FALSE),"") | AF13: =IFERROR(VLOOKUP(AF$9,#REF!,2,FALSE),"") | AG13: =IFERROR(VLOOKUP(AG$9,#REF!,2,FALSE),"") | AH13: =IFERROR(VLOOKUP(AH$9,#REF!,2,FALSE),"") | AI13: =#REF! -> #REF!
A14: 6 | B14: 水温 | C14: ℃ | D14: 13.4 | E14: 18 | F14: 14.8 | G14: 19.5 | H14: 13.6 | I14: 17.2 | R14: =IFERROR(VLOOKUP(R$9,#REF!,3,FALSE),"") | S14: =IFERROR(VLOOKUP(S$9,#REF!,3,FALSE),"") | T14: =IFERROR(VLOOKUP(T$9,#REF!,3,FALSE),"") | U14: =IFERROR(VLOOKUP(U$9,#REF!,3,FALSE),"") | V14: =IFERROR(VLOOKUP(V$9,#REF!,3,FALSE),"") | W14: =IFERROR(VLOOKUP(W$9,#REF!,3,FALSE),"") | X14: =IFERROR(VLOOKUP(X$9,#REF!,3,FALSE),"") | Y14: =IFERROR(VLOOKUP(Y$9,#REF!,3,FALSE),"") | ... AB14: =IFERROR(VLOOKUP(AB$9,#REF!,3,FALSE),"") | AC14: =IFERROR(VLOOKUP(ACK$9,#REF!,3,FALSE),"") | AD14: =IFERROR(VLOOKUP(AD$9,#REF!,3,FALSE),"") | AE14: =IFERROR(VLOOKUP(AE$9,#REF!,3,FALSE),"") | AF14: =IFERROR(VLOOKUP(AF$9,#REF!,3,FALSE),"") | AG14: =IFERROR(VLOOKUP(AG$9,#REF!,3,FALSE),"") | AH14: =IFERROR(VLOOKUP(AH$9,#REF!,3,FALSE),"") | AI14: =#REF! -> #REF!
A15: 水質基準項目 | C15: （ 単 位 ）
A16: 1 | B16: 一般細菌 | C16: 個/mL | D16: 0 | E16: 0 | F16: 0 | G16: 0 | H16: 0 | I16: 0 | R16: =IFERROR(VLOOKUP(R$9,#REF!,9,FALSE),"") | S16: =IFERROR(VLOOKUP(S$9,#REF!,9,FALSE),"") | T16: =IFERROR(VLOOKUP(T$9,#REF!,9,FALSE),"") | U16: =IFERROR(VLOOKUP(U$9,#REF!,9,FALSE),"") | V16: =IFERROR(VLOOKUP(V$9,#REF!,9,FALSE),"") | W16: =IFERROR(VLOOKUP(W$9,#REF!,9,FALSE),"") | X16: =IFERROR(VLOOKUP(X$9,#REF!,9,FALSE),"") | Y16: =IFERROR(VLOOKUP(Y$9,#REF!,9,FALSE),"") | ... AB16: =IFERROR(VLOOKUP(AB$9,#REF!,9,FALSE),"") | AC16: =IFERROR(VLOOKUP(ACK$9,#REF!,9,FALSE),"") | AD16: =IFERROR(VLOOKUP(AD$9,#REF!,9,FALSE),"") | AE16: =IFERROR(VLOOKUP(AE$9,#REF!,9,FALSE),"") | AF16: =IFERROR(VLOOKUP(AF$9,#REF!,9,FALSE),"") | AG16: =IFERROR(VLOOKUP(AG$9,#REF!,9,FALSE),"") | AH16: =IFERROR(VLOOKUP(AH$9,#REF!,9,FALSE),"") | AI16: =#REF! -> #REF!
A17: 2 | B17: 大腸菌 | C17: --- | D17: 不検出 | E17: 不検出 | F17: 不検出 | G17: 不検出 | H17: 不検出 | I17: 不検出 | R17: =IFERROR(VLOOKUP(R$9,#REF!,10,FALSE),"") | S17: =IFERROR(VLOOKUP(S$9,#REF!,10,FALSE),"") | T17: =IFERROR(VLOOKUP(T$9,#REF!,10,FALSE),"") | U17: =IFERROR(VLOOKUP(U$9,#REF!,10,FALSE),"") | V17: =IFERROR(VLOOKUP(V$9,#REF!,10,FALSE),"") | W17: =IFERROR(VLOOKUP(W$9,#REF!,10,FALSE),"") | X17: =IFERROR(VLOOKUP(X$9,#REF!,10,FALSE),"") | Y17: =IFERROR(VLOOKUP(Y$9,#REF!,10,FALSE),"") | ... AB17: =IFERROR(VLOOKUP(AB$9,#REF!,10,FALSE),"") | AC17: =IFERROR(VLOOKUP(ACK$9,#REF!,10,FALSE),"") | AD17: =IFERROR(VLOOKUP(AD$9,#REF!,10,FALSE),"") | AE17: =IFERROR(VLOOKUP(AE$9,#REF!,10,FALSE),"") | AF17: =IFERROR(VLOOKUP(AF$9,#REF!,10,FALSE),"") | AG17: =IFERROR(VLOOKUP(AG$9,#REF!,10,FALSE),"") | AH17: =IFERROR(VLOOKUP(AH$9,#REF!,10,FALSE),"")
A18: 3 | B18: カドミウム及びその化合物 | C18: ㎎/L | R18: =IFERROR(VLOOKUP(R$9,#REF!,12,FALSE),"") | S18: =IFERROR(VLOOKUP(S$9,#REF!,12,FALSE),"") | T18: =IFERROR(VLOOKUP(T$9,#REF!,12,FALSE),"") | U18: =IFERROR(VLOOKUP(U$9,#REF!,12,FALSE),"") | V18: =IFERROR(VLOOKUP(V$9,#REF!,12,FALSE),"") | W18: =IFERROR(VLOOKUP(W$9,#REF!,12,FALSE),"") | X18: =IFERROR(VLOOKUP(X$9,#REF!,12,FALSE),"") | Y18: =IFERROR(VLOOKUP(Y$9,#REF!,12,FALSE),"") | ... AB18: =IFERROR(VLOOKUP(AB$9,#REF!,12,FALSE),"") | AC18: =IFERROR(VLOOKUP(ACK$9,#REF!,12,FALSE),"") | AD18: =IFERROR(VLOOKUP(AD$9,#REF!,12,FALSE),"") | AE18: =IFERROR(VLOOKUP(AE$9,#REF!,12,FALSE),"") | AF18: =IFERROR(VLOOKUP(AF$9,#REF!,12,FALSE),"") | AG18: =IFERROR(VLOOKUP(AG$9,#REF!,12,FALSE),"") | AH18: =IFERROR(VLOOKUP(AH$9,#REF!,12,FALSE),"") | AI18: =#REF! -> #REF!
A19: 4 | B19: 水銀及びその化合物 | C19: ㎎/L | R19: =IFERROR(VLOOKUP(R$9,#REF!,25,FALSE),"") | S19: =IFERROR(VLOOKUP(S$9,#REF!,25,FALSE),"") | T19: =IFERROR(VLOOKUP(T$9,#REF!,25,FALSE),"") | U19: =IFERROR(VLOOKUP(U$9,#REF!,25,FALSE),"") | V19: =IFERROR(VLOOKUP(V$9,#REF!,25,FALSE),"") | W19: =IFERROR(VLOOKUP(W$9,#REF!,25,FALSE),"") | X19: =IFERROR(VLOOKUP(X$9,#REF!,25,FALSE),"") | Y19: =IFERROR(VLOOKUP(Y$9,#REF!,25,FALSE),"") | ... AB19: =IFERROR(VLOOKUP(AB$9,#REF!,25,FALSE),"") | AC19: =IFERROR(VLOOKUP(ACK$9,#REF!,25,FALSE),"") | AD19: =IFERROR(VLOOKUP(AD$9,#REF!,25,FALSE),"") | AE19: =IFERROR(VLOOKUP(AE$9,#REF!,25,FALSE),"") | AF19: =IFERROR(VLOOKUP(AF$9,#REF!,25,FALSE),"") | AG19: =IFERROR(VLOOKUP(AG$9,#REF!,25,FALSE),"") | AH19: =IFERROR(VLOOKUP(AH$9,#REF!,25,FALSE),"") | AI19: =#REF! -> #REF!
A20: 5 | B20: セレン及びその化合物 | C20: ㎎/L | R20: =IFERROR(VLOOKUP(R$9,#REF!,13,FALSE),"") | S20: =IFERROR(VLOOKUP(S$9,#REF!,13,FALSE),"") | T20: =IFERROR(VLOOKUP(T$9,#REF!,13,FALSE),"") | U20: =IFERROR(VLOOKUP(U$9,#REF!,13,FALSE),"") | V20: =IFERROR(VLOOKUP(V$9,#REF!,13,FALSE),"") | W20: =IFERROR(VLOOKUP(W$9,#REF!,13,FALSE),"") | X20: =IFERROR(VLOOKUP(X$9,#REF!,13,FALSE),"") | Y20: =IFERROR(VLOOKUP(Y$9,#REF!,13,FALSE),"") | ... AB20: =IFERROR(VLOOKUP(AB$9,#REF!,13,FALSE),"") | AC20: =IFERROR(VLOOKUP(ACK$9,#REF!,13,FALSE),"") | AD20: =IFERROR(VLOOKUP(AD$9,#REF!,13,FALSE),"") | AE20: =IFERROR(VLOOKUP(AE$9,#REF!,13,FALSE),"") | AF20: =IFERROR(VLOOKUP(AF$9,#REF!,13,FALSE),"") | AG20: =IFERROR(VLOOKUP(AG$9,#REF!,13,FALSE),"") | AH20: =IFERROR(VLOOKUP(AH$9,#REF!,13,FALSE),"") | AI20: =#REF! -> #REF!
A21: 6 | B21: 鉛及びその化合物 | C21: ㎎/L | R21: =IFERROR(VLOOKUP(R$9,#REF!,14,FALSE),"") | S21: =IFERROR(VLOOKUP(S$9,#REF!,14,FALSE),"") | T21: =IFERROR(VLOOKUP(T$9,#REF!,14,FALSE),"") | U21: =IFERROR(VLOOKUP(U$9,#REF!,14,FALSE),"") | V21: =IFERROR(VLOOKUP(V$9,#REF!,14,FALSE),"") | W21: =IFERROR(VLOOKUP(W$9,#REF!,14,FALSE),"") | X21: =IFERROR(VLOOKUP(X$9,#REF!,14,FALSE),"") | Y21: =IFERROR(VLOOKUP(Y$9,#REF!,14,FALSE),"") | ... AB21: =IFERROR(VLOOKUP(AB$9,#REF!,14,FALSE),"") | AC21: =IFERROR(VLOOKUP(ACK$9,#REF!,14,FALSE),"") | AD21: =IFERROR(VLOOKUP(AD$9,#REF!,14,FALSE),"") | AE21: =IFERROR(VLOOKUP(AE$9,#REF!,14,FALSE),"") | AF21: =IFERROR(VLOOKUP(AF$9,#REF!,14,FALSE),"") | AG21: =IFERROR(VLOOKUP(AG$9,#REF!,14,FALSE),"") | AH21: =IFERROR(VLOOKUP(AH$9,#REF!,14,FALSE),"") | AI21: =#REF! -> #REF!
A22: 7 | B22: ヒ素及びその化合物 | C22: ㎎/L | R22: =IFERROR(VLOOKUP(R$9,#REF!,15,FALSE),"") | S22: =IFERROR(VLOOKUP(S$9,#REF!,15,FALSE),"") | T22: =IFERROR(VLOOKUP(T$9,#REF!,15,FALSE),"") | U22: =IFERROR(VLOOKUP(U$9,#REF!,15,FALSE),"") | V22: =IFERROR(VLOOKUP(V$9,#REF!,15,FALSE),"") | W22: =IFERROR(VLOOKUP(W$9,#REF!,15,FALSE),"") | X22: =IFERROR(VLOOKUP(X$9,#REF!,15,FALSE),"") | Y22: =IFERROR(VLOOKUP(Y$9,#REF!,15,FALSE),"") | ... AB22: =IFERROR(VLOOKUP(AB$9,#REF!,15,FALSE),"") | AC22: =IFERROR(VLOOKUP(ACK$9,#REF!,15,FALSE),"") | AD22: =IFERROR(VLOOKUP(AD$9,#REF!,15,FALSE),"") | AE22: =IFERROR(VLOOKUP(AE$9,#REF!,15,FALSE),"") | AF22: =IFERROR(VLOOKUP(AF$9,#REF!,15,FALSE),"") | AG22: =IFERROR(VLOOKUP(AG$9,#REF!,15,FALSE),"") | AH22: =IFERROR(VLOOKUP(AH$9,#REF!,15,FALSE),"") | AI22: =#REF! -> #REF!
A23: 8 | B23: 六価クロム化合物 | C23: ㎎/L | R23: =IFERROR(VLOOKUP(R$9,#REF!,16,FALSE),"") | S23: =IFERROR(VLOOKUP(S$9,#REF!,16,FALSE),"") | T23: =IFERROR(VLOOKUP(T$9,#REF!,16,FALSE),"") | U23: =IFERROR(VLOOKUP(U$9,#REF!,16,FALSE),"") | V23: =IFERROR(VLOOKUP(V$9,#REF!,16,FALSE),"") | W23: =IFERROR(VLOOKUP(W$9,#REF!,16,FALSE),"") | X23: =IFERROR(VLOOKUP(X$9,#REF!,16,FALSE),"") | Y23: =IFERROR(VLOOKUP(Y$9,#REF!,16,FALSE),"") | ... AB23: =IFERROR(VLOOKUP(AB$9,#REF!,16,FALSE),"") | AC23: =IFERROR(VLOOKUP(ACK$9,#REF!,16,FALSE),"") | AD23: =IFERROR(VLOOKUP(AD$9,#REF!,16,FALSE),"") | AE23: =IFERROR(VLOOKUP(AE$9,#REF!,16,FALSE),"") | AF23: =IFERROR(VLOOKUP(AF$9,#REF!,16,FALSE),"") | AG23: =IFERROR(VLOOKUP(AG$9,#REF!,16,FALSE),"") | AH23: =IFERROR(VLOOKUP(AH$9,#REF!,16,FALSE),"") | AI23: =#REF! -> #REF!
A24: 9 | B24: 亜硝酸態窒素 | C24: ㎎/L | D24: 0.004未満 | E24: 0.004未満 | F24: 0.004未満 | G24: 0.004未満 | H24: 0.004未満 | I24: 0.004未満 | R24: =IFERROR(VLOOKUP(R$9,#REF!,34,FALSE),"") | S24: =IFERROR(VLOOKUP(S$9,#REF!,34,FALSE),"") | T24: =IFERROR(VLOOKUP(T$9,#REF!,34,FALSE),"") | U24: =IFERROR(VLOOKUP(U$9,#REF!,34,FALSE),"") | V24: =IFERROR(VLOOKUP(V$9,#REF!,34,FALSE),"") | W24: =IFERROR(VLOOKUP(W$9,#REF!,34,FALSE),"") | X24: =IFERROR(VLOOKUP(X$9,#REF!,34,FALSE),"") | Y24: =IFERROR(VLOOKUP(Y$9,#REF!,34,FALSE),"") | ... AB24: =IFERROR(VLOOKUP(AB$9,#REF!,34,FALSE),"") | AC24: =IFERROR(VLOOKUP(ACK$9,#REF!,34,FALSE),"") | AD24: =IFERROR(VLOOKUP(AD$9,#REF!,34,FALSE),"") | AE24: =IFERROR(VLOOKUP(AE$9,#REF!,34,FALSE),"") | AF24: =IFERROR(VLOOKUP(AF$9,#REF!,34,FALSE),"") | AG24: =IFERROR(VLOOKUP(AG$9,#REF!,34,FALSE),"") | AH24: =IFERROR(VLOOKUP(AH$9,#REF!,34,FALSE),"") | AI24: =#REF! -> #REF!
A25: 10 | B25: シアン化物イオン及び塩化シアン | C25: ㎎/L | R25: =IFERROR(VLOOKUP(R$9,#REF!,29,FALSE),"") | S25: =IFERROR(VLOOKUP(S$9,#REF!,29,FALSE),"") | T25: =IFERROR(VLOOKUP(T$9,#REF!,29,FALSE),"") | U25: =IFERROR(VLOOKUP(U$9,#REF!,29,FALSE),"") | V25: =IFERROR(VLOOKUP(V$9,#REF!,29,FALSE),"") | W25: =IFERROR(VLOOKUP(W$9,#REF!,29,FALSE),"") | X25: =IFERROR(VLOOKUP(X$9,#REF!,29,FALSE),"") | Y25: =IFERROR(VLOOKUP(Y$9,#REF!,29,FALSE),"") | ... AB25: =IFERROR(VLOOKUP(AB$9,#REF!,29,FALSE),"") | AC25: =IFERROR(VLOOKUP(ACK$9,#REF!,29,FALSE),"") | AD25: =IFERROR(VLOOKUP(AD$9,#REF!,29,FALSE),"") | AE25: =IFERROR(VLOOKUP(AE$9,#REF!,29,FALSE),"") | AF25: =IFERROR(VLOOKUP(AF$9,#REF!,29,FALSE),"") | AG25: =IFERROR(VLOOKUP(AG$9,#REF!,29,FALSE),"") | AH25: =IFERROR(VLOOKUP(AH$9,#REF!,29,FALSE),"") | AI25: =#REF! -> #REF!
A26: 11 | B26: 硝酸態窒素及び亜硝酸態窒素 | C26: ㎎/L | D26: 0.11 | E26: 0.11 | F26: 0.19 | G26: 0.19 | H26: 0.43 | I26: 0.44 | R26: =IFERROR(VLOOKUP(R$9,#REF!,36,FALSE),"") | S26: =IFERROR(VLOOKUP(S$9,#REF!,36,FALSE),"") | T26: =IFERROR(VLOOKUP(T$9,#REF!,36,FALSE),"") | U26: =IFERROR(VLOOKUP(U$9,#REF!,36,FALSE),"") | V26: =IFERROR(VLOOKUP(V$9,#REF!,36,FALSE),"") | W26: =IFERROR(VLOOKUP(W$9,#REF!,36,FALSE),"") | X26: =IFERROR(VLOOKUP(X$9,#REF!,36,FALSE),"") | Y26: =IFERROR(VLOOKUP(Y$9,#REF!,36,FALSE),"") | ... AB26: =IFERROR(VLOOKUP(AB$9,#REF!,36,FALSE),"") | AC26: =IFERROR(VLOOKUP(ACK$9,#REF!,36,FALSE),"") | AD26: =IFERROR(VLOOKUP(AD$9,#REF!,36,FALSE),"") | AE26: =IFERROR(VLOOKUP(AE$9,#REF!,36,FALSE),"") | AF26: =IFERROR(VLOOKUP(AF$9,#REF!,36,FALSE),"") | AG26: =IFERROR(VLOOKUP(AG$9,#REF!,36,FALSE),"") | AH26: =IFERROR(VLOOKUP(AH$9,#REF!,36,FALSE),"") | AI26: =#REF! -> #REF!
A27: 12 | B27: フッ素及びその化合物 | C27: ㎎/L | D27: 0.05未満 | E27: 0.05未満 | F27: 0.05未満 | G27: 0.05未満 | H27: 0.05未満 | I27: 0.05未満 | R27: =IFERROR(VLOOKUP(R$9,#REF!,31,FALSE),"") | S27: =IFERROR(VLOOKUP(S$9,#REF!,31,FALSE),"") | T27: =IFERROR(VLOOKUP(T$9,#REF!,31,FALSE),"") | U27: =IFERROR(VLOOKUP(U$9,#REF!,31,FALSE),"") | V27: =IFERROR(VLOOKUP(V$9,#REF!,31,FALSE),"") | W27: =IFERROR(VLOOKUP(W$9,#REF!,31,FALSE),"") | X27: =IFERROR(VLOOKUP(X$9,#REF!,31,FALSE),"") | Y27: =IFERROR(VLOOKUP(Y$9,#REF!,31,FALSE),"") | ... AB27: =IFERROR(VLOOKUP(AB$9,#REF!,31,FALSE),"") | AC27: =IFERROR(VLOOKUP(ACK$9,#REF!,31,FALSE),"") | AD27: =IFERROR(VLOOKUP(AD$9,#REF!,31,FALSE),"") | AE27: =IFERROR(VLOOKUP(AE$9,#REF!,31,FALSE),"") | AF27: =IFERROR(VLOOKUP(AF$9,#REF!,31,FALSE),"") | AG27: =IFERROR(VLOOKUP(AG$9,#REF!,31,FALSE),"") | AH27: =IFERROR(VLOOKUP(AH$9,#REF!,31,FALSE),"") | AI27: =#REF! -> #REF!
A28: 13 | B28: ホウ素及びその化合物 | C28: ㎎/L | R28: =IFERROR(VLOOKUP(R$9,#REF!,17,FALSE),"") | S28: =IFERROR(VLOOKUP(S$9,#REF!,17,FALSE),"") | T28: =IFERROR(VLOOKUP(T$9,#REF!,17,FALSE),"") | U28: =IFERROR(VLOOKUP(U$9,#REF!,17,FALSE),"") | V28: =IFERROR(VLOOKUP(V$9,#REF!,17,FALSE),"") | W28: =IFERROR(VLOOKUP(W$9,#REF!,17,FALSE),"") | X28: =IFERROR(VLOOKUP(X$9,#REF!,17,FALSE),"") | Y28: =IFERROR(VLOOKUP(Y$9,#REF!,17,FALSE),"") | ... AB28: =IFERROR(VLOOKUP(AB$9,#REF!,17,FALSE),"") | AC28: =IFERROR(VLOOKUP(ACK$9,#REF!,17,FALSE),"") | AD28: =IFERROR(VLOOKUP(AD$9,#REF!,17,FALSE),"") | AE28: =IFERROR(VLOOKUP(AE$9,#REF!,17,FALSE),"") | AF28: =IFERROR(VLOOKUP(AF$9,#REF!,17,FALSE),"") | AG28: =IFERROR(VLOOKUP(AG$9,#REF!,17,FALSE),"") | AH28: =IFERROR(VLOOKUP(AH$9,#REF!,17,FALSE),"") | AI28: =#REF! -> #REF!
A29: 14 | B29: 四塩化炭素 | C29: ㎎/L | R29: =IFERROR(VLOOKUP(R$9,#REF!,42,FALSE),"") | S29: =IFERROR(VLOOKUP(S$9,#REF!,42,FALSE),"") | T29: =IFERROR(VLOOKUP(T$9,#REF!,42,FALSE),"") | U29: =IFERROR(VLOOKUP(U$9,#REF!,42,FALSE),"") | V29: =IFERROR(VLOOKUP(V$9,#REF!,42,FALSE),"") | W29: =IFERROR(VLOOKUP(W$9,#REF!,42,FALSE),"") | X29: =IFERROR(VLOOKUP(X$9,#REF!,42,FALSE),"") | Y29: =IFERROR(VLOOKUP(Y$9,#REF!,42,FALSE),"") | ... AB29: =IFERROR(VLOOKUP(AB$9,#REF!,42,FALSE),"") | AC29: =IFERROR(VLOOKUP(ACK$9,#REF!,42,FALSE),"") | AD29: =IFERROR(VLOOKUP(AD$9,#REF!,42,FALSE),"") | AE29: =IFERROR(VLOOKUP(AE$9,#REF!,42,FALSE),"") | AF29: =IFERROR(VLOOKUP(AF$9,#REF!,42,FALSE),"") | AG29: =IFERROR(VLOOKUP(AG$9,#REF!,42,FALSE),"") | AH29: =IFERROR(VLOOKUP(AH$9,#REF!,42,FALSE),"") | AI29: =#REF! -> #REF!
A30: 15 | B30: １,４-ジオキサン | C30: ㎎/L | R30: =IFERROR(VLOOKUP(R$9,#REF!,43,FALSE),"") | S30: =IFERROR(VLOOKUP(S$9,#REF!,43,FALSE),"") | T30: =IFERROR(VLOOKUP(T$9,#REF!,43,FALSE),"") | U30: =IFERROR(VLOOKUP(U$9,#REF!,43,FALSE),"") | V30: =IFERROR(VLOOKUP(V$9,#REF!,43,FALSE),"") | W30: =IFERROR(VLOOKUP(W$9,#REF!,43,FALSE),"") | X30: =IFERROR(VLOOKUP(X$9,#REF!,43,FALSE),"") | Y30: =IFERROR(VLOOKUP(Y$9,#REF!,43,FALSE),"") | ... AB30: =IFERROR(VLOOKUP(AB$9,#REF!,43,FALSE),"") | AC30: =IFERROR(VLOOKUP(ACK$9,#REF!,43,FALSE),"") | AD30: =IFERROR(VLOOKUP(AD$9,#REF!,43,FALSE),"") | AE30: =IFERROR(VLOOKUP(AE$9,#REF!,43,FALSE),"") | AF30: =IFERROR(VLOOKUP(AF$9,#REF!,43,FALSE),"") | AG30: =IFERROR(VLOOKUP(AG$9,#REF!,43,FALSE),"") | AH30: =IFERROR(VLOOKUP(AH$9,#REF!,43,FALSE),"") | AI30: =#REF! -> #REF!
A31: 16 | B31: シス及びトランス-１,２-ジクロロエチレン | C31: ㎎/L | R31: =IFERROR(VLOOKUP(R$9,#REF!,46,FALSE),"") | S31: =IFERROR(VLOOKUP(S$9,#REF!,46,FALSE),"") | T31: =IFERROR(VLOOKUP(T$9,#REF!,46,FALSE),"") | U31: =IFERROR(VLOOKUP(U$9,#REF!,46,FALSE),"") | V31: =IFERROR(VLOOKUP(V$9,#REF!,46,FALSE),"") | W31: =IFERROR(VLOOKUP(W$9,#REF!,46,FALSE),"") | X31: =IFERROR(VLOOKUP(X$9,#REF!,46,FALSE),"") | Y31: =IFERROR(VLOOKUP(Y$9,#REF!,46,FALSE),"") | ... AB31: =IFERROR(VLOOKUP(AB$9,#REF!,46,FALSE),"") | AC31: =IFERROR(VLOOKUP(ACK$9,#REF!,46,FALSE),"") | AD31: =IFERROR(VLOOKUP(AD$9,#REF!,46,FALSE),"") | AE31: =IFERROR(VLOOKUP(AE$9,#REF!,46,FALSE),"") | AF31: =IFERROR(VLOOKUP(AF$9,#REF!,46,FALSE),"") | AG31: =IFERROR(VLOOKUP(AG$9,#REF!,46,FALSE),"") | AH31: =IFERROR(VLOOKUP(AH$9,#REF!,46,FALSE),"") | AI31: =#REF! -> #REF!
A32: 17 | B32: ジクロロメタン | C32: ㎎/L | R32: =IFERROR(VLOOKUP(R$9,#REF!,47,FALSE),"") | S32: =IFERROR(VLOOKUP(S$9,#REF!,47,FALSE),"") | T32: =IFERROR(VLOOKUP(T$9,#REF!,47,FALSE),"") | U32: =IFERROR(VLOOKUP(U$9,#REF!,47,FALSE),"") | V32: =IFERROR(VLOOKUP(V$9,#REF!,47,FALSE),"") | W32: =IFERROR(VLOOKUP(W$9,#REF!,47,FALSE),"") | X32: =IFERROR(VLOOKUP(X$9,#REF!,47,FALSE),"") | Y32: =IFERROR(VLOOKUP(Y$9,#REF!,47,FALSE),"") | ... AB32: =IFERROR(VLOOKUP(AB$9,#REF!,47,FALSE),"") | AC32: =IFERROR(VLOOKUP(ACK$9,#REF!,47,FALSE),"") | AD32: =IFERROR(VLOOKUP(AD$9,#REF!,47,FALSE),"") | AE32: =IFERROR(VLOOKUP(AE$9,#REF!,47,FALSE),"") | AF32: =IFERROR(VLOOKUP(AF$9,#REF!,47,FALSE),"") | AG32: =IFERROR(VLOOKUP(AG$9,#REF!,47,FALSE),"") | AH32: =IFERROR(VLOOKUP(AH$9,#REF!,47,FALSE),"") | AI32: =#REF! -> #REF!
A33: 18 | B33: テトラクロロエチレン | C33: ㎎/L | R33: =IFERROR(VLOOKUP(R$9,#REF!,48,FALSE),"") | S33: =IFERROR(VLOOKUP(S$9,#REF!,48,FALSE),"") | T33: =IFERROR(VLOOKUP(T$9,#REF!,48,FALSE),"") | U33: =IFERROR(VLOOKUP(U$9,#REF!,48,FALSE),"") | V33: =IFERROR(VLOOKUP(V$9,#REF!,48,FALSE),"") | W33: =IFERROR(VLOOKUP(W$9,#REF!,48,FALSE),"") | X33: =IFERROR(VLOOKUP(X$9,#REF!,48,FALSE),"") | Y33: =IFERROR(VLOOKUP(Y$9,#REF!,48,FALSE),"") | ... AB33: =IFERROR(VLOOKUP(AB$9,#REF!,48,FALSE),"") | AC33: =IFERROR(VLOOKUP(ACK$9,#REF!,48,FALSE),"") | AD33: =IFERROR(VLOOKUP(AD$9,#REF!,48,FALSE),"") | AE33: =IFERROR(VLOOKUP(AE$9,#REF!,48,FALSE),"") | AF33: =IFERROR(VLOOKUP(AF$9,#REF!,48,FALSE),"") | AG33: =IFERROR(VLOOKUP(AG$9,#REF!,48,FALSE),"") | AH33: =IFERROR(VLOOKUP(AH$9,#REF!,48,FALSE),"") | AI33: =#REF! -> #REF!
A34: 19 | B34: トリクロロエチレン | C34: ㎎/L | R34: =IFERROR(VLOOKUP(R$9,#REF!,49,FALSE),"") | S34: =IFERROR(VLOOKUP(S$9,#REF!,49,FALSE),"") | T34: =IFERROR(VLOOKUP(T$9,#REF!,49,FALSE),"") | U34: =IFERROR(VLOOKUP(U$9,#REF!,49,FALSE),"") | V34: =IFERROR(VLOOKUP(V$9,#REF!,49,FALSE),"") | W34: =IFERROR(VLOOKUP(W$9,#REF!,49,FALSE),"") | X34: =IFERROR(VLOOKUP(X$9,#REF!,49,FALSE),"") | Y34: =IFERROR(VLOOKUP(Y$9,#REF!,49,FALSE),"") | ... AB34: =IFERROR(VLOOKUP(AB$9,#REF!,49,FALSE),"") | AC34: =IFERROR(VLOOKUP(ACK$9,#REF!,49,FALSE),"") | AD34: =IFERROR(VLOOKUP(AD$9,#REF!,49,FALSE),"") | AE34: =IFERROR(VLOOKUP(AE$9,#REF!,49,FALSE),"") | AF34: =IFERROR(VLOOKUP(AF$9,#REF!,49,FALSE),"") | AG34: =IFERROR(VLOOKUP(AG$9,#REF!,49,FALSE),"") | AH34: =IFERROR(VLOOKUP(AH$9,#REF!,49,FALSE),"") | AI34: =#REF! -> #REF!
A35: 20 | B35: PFOS及びPFOA | C35: ㎎/L
A36: 21 | B36: ベンゼン | C36: ㎎/L | R36: =IFERROR(VLOOKUP(R$9,#REF!,50,FALSE),"") | S36: =IFERROR(VLOOKUP(S$9,#REF!,50,FALSE),"") | T36: =IFERROR(VLOOKUP(T$9,#REF!,50,FALSE),"") | U36: =IFERROR(VLOOKUP(U$9,#REF!,50,FALSE),"") | V36: =IFERROR(VLOOKUP(V$9,#REF!,50,FALSE),"") | W36: =IFERROR(VLOOKUP(W$9,#REF!,50,FALSE),"") | X36: =IFERROR(VLOOKUP(X$9,#REF!,50,FALSE),"") | Y36: =IFERROR(VLOOKUP(Y$9,#REF!,50,FALSE),"") | ... AB36: =IFERROR(VLOOKUP(AB$9,#REF!,50,FALSE),"") | AC36: =IFERROR(VLOOKUP(ACK$9,#REF!,50,FALSE),"") | AD36: =IFERROR(VLOOKUP(AD$9,#REF!,50,FALSE),"") | AE36: =IFERROR(VLOOKUP(AE$9,#REF!,50,FALSE),"") | AF36: =IFERROR(VLOOKUP(AF$9,#REF!,50,FALSE),"") | AG36: =IFERROR(VLOOKUP(AG$9,#REF!,50,FALSE),"") | AH36: =IFERROR(VLOOKUP(AH$9,#REF!,50,FALSE),"") | AI36: =#REF! -> #REF!
A37: 22 | B37: 塩素酸 | C37: ㎎/L | D37: 0.05未満 | E37: 0.05未満 | F37: 0.05未満 | G37: 0.05 | H37: 0.05未満 | I37: 0.05未満 | R37: =IFERROR(VLOOKUP(R$9,#REF!,33,FALSE),"") | S37: =IFERROR(VLOOKUP(S$9,#REF!,33,FALSE),"") | T37: =IFERROR(VLOOKUP(T$9,#REF!,33,FALSE),"") | U37: =IFERROR(VLOOKUP(U$9,#REF!,33,FALSE),"") | V37: =IFERROR(VLOOKUP(V$9,#REF!,33,FALSE),"") | W37: =IFERROR(VLOOKUP(W$9,#REF!,33,FALSE),"") | X37: =IFERROR(VLOOKUP(X$9,#REF!,33,FALSE),"") | Y37: =IFERROR(VLOOKUP(Y$9,#REF!,33,FALSE),"") | ... AB37: =IFERROR(VLOOKUP(AB$9,#REF!,33,FALSE),"") | AC37: =IFERROR(VLOOKUP(ACK$9,#REF!,33,FALSE),"") | AD37: =IFERROR(VLOOKUP(AD$9,#REF!,33,FALSE),"") | AE37: =IFERROR(VLOOKUP(AE$9,#REF!,33,FALSE),"") | AF37: =IFERROR(VLOOKUP(AF$9,#REF!,33,FALSE),"") | AG37: =IFERROR(VLOOKUP(AG$9,#REF!,33,FALSE),"") | AH37: =IFERROR(VLOOKUP(AH$9,#REF!,33,FALSE),"") | AI37: =#REF! -> #REF!
A38: 23 | B38: クロロ酢酸 | C38: ㎎/L | D38: 0.002未満 | E38: 0.002未満 | F38: 0.002未満 | G38: 0.002未満 | H38: 0.002未満 | I38: 0.002未満 | R38: =IFERROR(VLOOKUP(R$9,#REF!,57,FALSE),"") | S38: =IFERROR(VLOOKUP(S$9,#REF!,57,FALSE),"") | T38: =IFERROR(VLOOKUP(T$9,#REF!,57,FALSE),"") | U38: =IFERROR(VLOOKUP(U$9,#REF!,57,FALSE),"") | V38: =IFERROR(VLOOKUP(V$9,#REF!,57,FALSE),"") | W38: =IFERROR(VLOOKUP(W$9,#REF!,57,FALSE),"") | X38: =IFERROR(VLOOKUP(X$9,#REF!,57,FALSE),"") | Y38: =IFERROR(VLOOKUP(Y$9,#REF!,57,FALSE),"") | ... AB38: =IFERROR(VLOOKUP(AB$9,#REF!,57,FALSE),"") | AC38: =IFERROR(VLOOKUP(ACK$9,#REF!,57,FALSE),"") | AD38: =IFERROR(VLOOKUP(AD$9,#REF!,57,FALSE),"") | AE38: =IFERROR(VLOOKUP(AE$9,#REF!,57,FALSE),"") | AF38: =IFERROR(VLOOKUP(AF$9,#REF!,57,FALSE),"") | AG38: =IFERROR(VLOOKUP(AG$9,#REF!,57,FALSE),"") | AH38: =IFERROR(VLOOKUP(AH$9,#REF!,57,FALSE),"") | AI38: =#REF! -> #REF!
A39: 24 | B39: クロロホルム | C39: ㎎/L | R39: =IFERROR(VLOOKUP(R$9,#REF!,51,FALSE),"") | S39: =IFERROR(VLOOKUP(S$9,#REF!,51,FALSE),"") | T39: =IFERROR(VLOOKUP(T$9,#REF!,51,FALSE),"") | U39: =IFERROR(VLOOKUP(U$9,#REF!,51,FALSE),"") | V39: =IFERROR(VLOOKUP(V$9,#REF!,51,FALSE),"") | W39: =IFERROR(VLOOKUP(W$9,#REF!,51,FALSE),"") | X39: =IFERROR(VLOOKUP(X$9,#REF!,51,FALSE),"") | Y39: =IFERROR(VLOOKUP(Y$9,#REF!,51,FALSE),"") | ... AB39: =IFERROR(VLOOKUP(AB$9,#REF!,51,FALSE),"") | AC39: =IFERROR(VLOOKUP(ACK$9,#REF!,51,FALSE),"") | AD39: =IFERROR(VLOOKUP(AD$9,#REF!,51,FALSE),"") | AE39: =IFERROR(VLOOKUP(AE$9,#REF!,51,FALSE),"") | AF39: =IFERROR(VLOOKUP(AF$9,#REF!,51,FALSE),"") | AG39: =IFERROR(VLOOKUP(AG$9,#REF!,51,FALSE),"") | AH39: =IFERROR(VLOOKUP(AH$9,#REF!,51,FALSE),"") | AI39: =#REF! -> #REF!
A40: 25 | B40: ジクロロ酢酸 | C40: ㎎/L | D40: 0.002未満 | E40: 0.002 | F40: 0.002未満 | G40: 0.012 | H40: 0.002未満 | I40: 0.002未満 | R40: =IFERROR(VLOOKUP(R$9,#REF!,58,FALSE),"") | S40: =IFERROR(VLOOKUP(S$9,#REF!,58,FALSE),"") | T40: =IFERROR(VLOOKUP(T$9,#REF!,58,FALSE),"") | U40: =IFERROR(VLOOKUP(U$9,#REF!,58,FALSE),"") | V40: =IFERROR(VLOOKUP(V$9,#REF!,58,FALSE),"") | W40: =IFERROR(VLOOKUP(W$9,#REF!,58,FALSE),"") | X40: =IFERROR(VLOOKUP(X$9,#REF!,58,FALSE),"") | Y40: =IFERROR(VLOOKUP(Y$9,#REF!,58,FALSE),"") | ... AB40: =IFERROR(VLOOKUP(AB$9,#REF!,58,FALSE),"") | AC40: =IFERROR(VLOOKUP(ACK$9,#REF!,58,FALSE),"") | AD40: =IFERROR(VLOOKUP(AD$9,#REF!,58,FALSE),"") | AE40: =IFERROR(VLOOKUP(AE$9,#REF!,58,FALSE),"") | AF40: =IFERROR(VLOOKUP(AF$9,#REF!,58,FALSE),"") | AG40: =IFERROR(VLOOKUP(AG$9,#REF!,58,FALSE),"") | AH40: =IFERROR(VLOOKUP(AH$9,#REF!,58,FALSE),"") | AI40: =#REF! -> #REF!
A41: 26 | B41: ジブロモクロロメタン | C41: ㎎/L | R41: =IFERROR(VLOOKUP(R$9,#REF!,52,FALSE),"") | S41: =IFERROR(VLOOKUP(S$9,#REF!,52,FALSE),"") | T41: =IFERROR(VLOOKUP(T$9,#REF!,52,FALSE),"") | U41: =IFERROR(VLOOKUP(U$9,#REF!,52,FALSE),"") | V41: =IFERROR(VLOOKUP(V$9,#REF!,52,FALSE),"") | W41: =IFERROR(VLOOKUP(W$9,#REF!,52,FALSE),"") | X41: =IFERROR(VLOOKUP(X$9,#REF!,52,FALSE),"") | Y41: =IFERROR(VLOOKUP(Y$9,#REF!,52,FALSE),"") | ... AB41: =IFERROR(VLOOKUP(AB$9,#REF!,52,FALSE),"") | AC41: =IFERROR(VLOOKUP(ACK$9,#REF!,52,FALSE),"") | AD41: =IFERROR(VLOOKUP(AD$9,#REF!,52,FALSE),"") | AE41: =IFERROR(VLOOKUP(AE$9,#REF!,52,FALSE),"") | AF41: =IFERROR(VLOOKUP(AF$9,#REF!,52,FALSE),"") | AG41: =IFERROR(VLOOKUP(AG$9,#REF!,52,FALSE),"") | AH41: =IFERROR(VLOOKUP(AH$9,#REF!,52,FALSE),"") | AI41: =#REF! -> #REF!
A42: 27 | B42: 臭素酸 | C42: ㎎/L | R42: =IFERROR(VLOOKUP(R$9,#REF!,62,FALSE),"") | S42: =IFERROR(VLOOKUP(S$9,#REF!,62,FALSE),"") | T42: =IFERROR(VLOOKUP(T$9,#REF!,62,FALSE),"") | U42: =IFERROR(VLOOKUP(U$9,#REF!,62,FALSE),"") | V42: =IFERROR(VLOOKUP(V$9,#REF!,62,FALSE),"") | W42: =IFERROR(VLOOKUP(W$9,#REF!,62,FALSE),"") | X42: =IFERROR(VLOOKUP(X$9,#REF!,62,FALSE),"") | Y42: =IFERROR(VLOOKUP(Y$9,#REF!,62,FALSE),"") | ... AB42: =IFERROR(VLOOKUP(AB$9,#REF!,62,FALSE),"") | AC42: =IFERROR(VLOOKUP(ACK$9,#REF!,62,FALSE),"") | AD42: =IFERROR(VLOOKUP(AD$9,#REF!,62,FALSE),"") | AE42: =IFERROR(VLOOKUP(AE$9,#REF!,62,FALSE),"") | AF42: =IFERROR(VLOOKUP(AF$9,#REF!,62,FALSE),"") | AG42: =IFERROR(VLOOKUP(AG$9,#REF!,62,FALSE),"") | AH42: =IFERROR(VLOOKUP(AH$9,#REF!,62,FALSE),"") | AI42: =#REF! -> #REF!
A43: 28 | B43: 総トリハロメタン | C43: ㎎/L | R43: =IFERROR(VLOOKUP(R$9,#REF!,55,FALSE),"") | S43: =IFERROR(VLOOKUP(S$9,#REF!,55,FALSE),"") | T43: =IFERROR(VLOOKUP(T$9,#REF!,55,FALSE),"") | U43: =IFERROR(VLOOKUP(U$9,#REF!,55,FALSE),"") | V43: =IFERROR(VLOOKUP(V$9,#REF!,55,FALSE),"") | W43: =IFERROR(VLOOKUP(W$9,#REF!,55,FALSE),"") | X43: =IFERROR(VLOOKUP(X$9,#REF!,55,FALSE),"") | Y43: =IFERROR(VLOOKUP(Y$9,#REF!,55,FALSE),"") | ... AB43: =IFERROR(VLOOKUP(AB$9,#REF!,55,FALSE),"") | AC43: =IFERROR(VLOOKUP(ACK$9,#REF!,55,FALSE),"") | AD43: =IFERROR(VLOOKUP(AD$9,#REF!,55,FALSE),"") | AE43: =IFERROR(VLOOKUP(AE$9,#REF!,55,FALSE),"") | AF43: =IFERROR(VLOOKUP(AF$9,#REF!,55,FALSE),"") | AG43: =IFERROR(VLOOKUP(AG$9,#REF!,55,FALSE),"") | AH43: =IFERROR(VLOOKUP(AH$9,#REF!,55,FALSE),"") | AI43: =#REF! -> #REF!
...

Sheet 演算タグ
B1: 46143
C4: 地点名 | D4: 野入浄水場 | F4: 山の駅大野瀬 | H4: 小田木浄水場 | J4: 田津原公会堂 | L4: 押川浄水場 | N4: 川手消防詰所
C6: 住所
A7: Ｎｏ | B7: 試 験 項 目 | E7: 変換 | G7: 変換 | I7: 変換 | K7: 変換 | M7: 変換 | O7: 変換 | Q7: 変換 | S7: 変換 | U7: 変換 | W7: 変換
A8: 測定項目 | C8: （ 単 位 ）
A9: 1 | B9: 採水年月日 | C9: --- | D9: 20260518 | E9: =IF(手入力!C3="",REPLACE(D9,5,0,"/"),REPLACE(手入力!C3,5,0,"/")) -> 2026/0518 | F9: 20260518 | G9: =IF(手入力!D3="",REPLACE(F9,5,0,"/"),REPLACE(手入力!D3,5,0,"/")) -> 2026/0518 | H9: 20260518 | I9: =IF(手入力!E3="",REPLACE(H9,5,0,"/"),REPLACE(手入力!E3,5,0,"/")) -> 2026/0518 | J9: 20260518 | K9: =IF(手入力!F3="",REPLACE(J9,5,0,"/"),REPLACE(手入力!F3,5,0,"/")) -> 2026/0518 | L9: 20260518 | M9: =IF(手入力!G3="",REPLACE(L9,5,0,"/"),REPLACE(手入力!G3,5,0,"/")) -> 2026/0518 | N9: 20260518 | O9: =IF(手入力!H3="",REPLACE(N9,5,0,"/"),REPLACE(手入力!H3,5,0,"/")) -> 2026/0518 | Q9: =IF(手入力!I3="",REPLACE(P9,5,0,"/"),REPLACE(手入力!I3,5,0,"/")) -> / | S9: =REPLACE(R9,5,0,"/") -> / | U9: =REPLACE(T9,5,0,"/") -> / | W9: =REPLACE(V9,5,0,"/") -> / | Y9: =REPLACE(X9,5,0,"/") -> / | Z9: =#REF! -> #REF! | AA9: =#REF! -> #REF! | AB9: =#REF! -> #REF! | AC9: =#REF! -> #REF! | AD9: =#REF! -> #REF! | AE9: =#REF! -> #REF! | AF9: =#REF! -> #REF! | AG9: =#REF! -> #REF! | ... AP9: =#REF! -> #REF! | AQ9: 月報値
A10: 2 | B10: 採水時刻 | C10: --- | D10: 1046 | E10: =TEXT(D10,"0000") -> 1046 | F10: 1031 | G10: =TEXT(F10,"0000") -> 1031 | H10: 1116 | I10: =TEXT(H10,"0000") -> 1116 | J10: 929 | K10: =TEXT(J10,"0000") -> 0929 | L10: 1008 | M10: =TEXT(L10,"0000") -> 1008 | N10: 953 | O10: =TEXT(N10,"0000") -> 0953 | Q10: =TEXT(P10,"0000") -> 0000 | S10: =TEXT(R10,"0000") -> 0000 | U10: =TEXT(T10,"0000") -> 0000 | W10: =TEXT(V10,"0000") -> 0000 | Y10: =TEXT(X10,"0000") -> 0000
A11: 3 | B11: 天候(前日) | C11: --- | D11: =IF(D$9=0,"",HLOOKUP(E11,天気タグ!$B$3:$AG$39,35)) -> 晴 | E11: =IF(E9=0,"",(RIGHT(E9,2))-1) -> 17 | F11: =IF(F$9=0,"",HLOOKUP(G11,天気タグ!$B$3:$AG$39,35)) -> 晴 | G11: =IF(G9=0,"",(RIGHT(G9,2))-1) -> 17 | H11: =IF(H$9=0,"",HLOOKUP(I11,天気タグ!$B$3:$AG$39,35)) -> 晴 | I11: =IF(I9=0,"",(RIGHT(I9,2))-1) -> 17 | J11: =IF(J$9=0,"",HLOOKUP(K11,天気タグ!$B$3:$AG$39,35)) -> 晴 | K11: =IF(K9=0,"",(RIGHT(K9,2))-1) -> 17 | L11: =IF(L$9=0,"",HLOOKUP(M11,天気タグ!$B$3:$AG$39,35)) -> 晴 | M11: =IF(M9=0,"",(RIGHT(M9,2))-1) -> 17 | N11: =IF(N$9=0,"",HLOOKUP(O11,天気タグ!$B$3:$AG$39,35)) -> 晴 | O11: =IF(O9=0,"",(RIGHT(O9,2))-1) -> 17 | Q11: =IF(Q9=0,"",(RIGHT(Q9,2))-1) -> #VALUE! | R11: =IF(R$9=0,"",HLOOKUP(S11,天気タグ!$B$3:$AG$39,35)) | S11: =IF(R9=0,"",(RIGHT(R9,2))-1) | T11: =IF(T$9=0,"",HLOOKUP(U11,天気タグ!$B$3:$AG$39,35)) | U11: =IF(T9=0,"",(RIGHT(T9,2))-1) | V11: =IF(V$9=0,"",HLOOKUP(W11,天気タグ!$B$3:$AG$39,35)) | W11: =IF(V9=0,"",(RIGHT(V9,2))-1) | Y11: =IF(X9=0,"",(RIGHT(X9,2))-1)
A12: 4 | B12: 天候(当日) | C12: --- | D12: =IF(D$9=0,"",HLOOKUP(E12,天気タグ!$B$3:$AG$39,35)) -> 晴 | E12: =IF(E9=0,"",RIGHT(E9,2)*1) -> 18 | F12: =IF(F$9=0,"",HLOOKUP(G12,天気タグ!$B$3:$AG$39,35)) -> 晴 | G12: =IF(G9=0,"",RIGHT(G9,2)*1) -> 18 | H12: =IF(H$9=0,"",HLOOKUP(I12,天気タグ!$B$3:$AG$39,35)) -> 晴 | I12: =IF(I9=0,"",RIGHT(I9,2)*1) -> 18 | J12: =IF(J$9=0,"",HLOOKUP(K12,天気タグ!$B$3:$AG$39,35)) -> 晴 | K12: =IF(K9=0,"",RIGHT(K9,2)*1) -> 18 | L12: =IF(L$9=0,"",HLOOKUP(M12,天気タグ!$B$3:$AG$39,35)) -> 晴 | M12: =IF(M9=0,"",RIGHT(M9,2)*1) -> 18 | N12: =IF(N$9=0,"",HLOOKUP(O12,天気タグ!$B$3:$AG$39,35)) -> 晴 | O12: =IF(O9=0,"",RIGHT(O9,2)*1) -> 18 | Q12: =IF(Q9=0,"",RIGHT(Q9,2)*1) -> #VALUE! | R12: =IF(R$9=0,"",HLOOKUP(S12,天気タグ!$B$3:$AG$39,35)) | S12: =IF(R9=0,"",RIGHT(R9,2)*1) | T12: =IF(T$9=0,"",HLOOKUP(U12,天気タグ!$B$3:$AG$39,35)) | U12: =IF(T9=0,"",RIGHT(T9,2)*1) | V12: =IF(V$9=0,"",HLOOKUP(W12,天気タグ!$B$3:$AG$39,35)) | W12: =IF(V9=0,"",RIGHT(V9,2)*1) | Y12: =IF(X9=0,"",RIGHT(X9,2)*1)
A13: 5 | B13: 気温 | C13: ℃ | D13: 24 | F13: 23 | H13: 22.5 | J13: 28 | L13: 22 | N13: 25 | Z13: =IFERROR(VLOOKUP(Z$9,#REF!,2,FALSE),"") | AA13: =IFERROR(VLOOKUP(AA$9,#REF!,2,FALSE),"") | AB13: =IFERROR(VLOOKUP(AB$9,#REF!,2,FALSE),"") | AC13: =IFERROR(VLOOKUP(AC$9,#REF!,2,FALSE),"") | AD13: =IFERROR(VLOOKUP(AD$9,#REF!,2,FALSE),"") | AE13: =IFERROR(VLOOKUP(AE$9,#REF!,2,FALSE),"") | AF13: =IFERROR(VLOOKUP(AF$9,#REF!,2,FALSE),"") | AG13: =IFERROR(VLOOKUP(AG$9,#REF!,2,FALSE),"") | ... AJ13: =IFERROR(VLOOKUP(AJ$9,#REF!,2,FALSE),"") | AK13: =IFERROR(VLOOKUP(ADA$9,#REF!,2,FALSE),"") | AL13: =IFERROR(VLOOKUP(AL$9,#REF!,2,FALSE),"") | AM13: =IFERROR(VLOOKUP(AM$9,#REF!,2,FALSE),"") | AN13: =IFERROR(VLOOKUP(AN$9,#REF!,2,FALSE),"") | AO13: =IFERROR(VLOOKUP(AO$9,#REF!,2,FALSE),"") | AP13: =IFERROR(VLOOKUP(AP$9,#REF!,2,FALSE),"") | AQ13: =#REF! -> #REF!
A14: 6 | B14: 水温 | C14: ℃ | D14: 13.4 | F14: 18 | H14: 14.8 | J14: 19.5 | L14: 13.6 | N14: 17.2 | Z14: =IFERROR(VLOOKUP(Z$9,#REF!,3,FALSE),"") | AA14: =IFERROR(VLOOKUP(AA$9,#REF!,3,FALSE),"") | AB14: =IFERROR(VLOOKUP(AB$9,#REF!,3,FALSE),"") | AC14: =IFERROR(VLOOKUP(AC$9,#REF!,3,FALSE),"") | AD14: =IFERROR(VLOOKUP(AD$9,#REF!,3,FALSE),"") | AE14: =IFERROR(VLOOKUP(AE$9,#REF!,3,FALSE),"") | AF14: =IFERROR(VLOOKUP(AF$9,#REF!,3,FALSE),"") | AG14: =IFERROR(VLOOKUP(AG$9,#REF!,3,FALSE),"") | ... AJ14: =IFERROR(VLOOKUP(AJ$9,#REF!,3,FALSE),"") | AK14: =IFERROR(VLOOKUP(ADA$9,#REF!,3,FALSE),"") | AL14: =IFERROR(VLOOKUP(AL$9,#REF!,3,FALSE),"") | AM14: =IFERROR(VLOOKUP(AM$9,#REF!,3,FALSE),"") | AN14: =IFERROR(VLOOKUP(AN$9,#REF!,3,FALSE),"") | AO14: =IFERROR(VLOOKUP(AO$9,#REF!,3,FALSE),"") | AP14: =IFERROR(VLOOKUP(AP$9,#REF!,3,FALSE),"") | AQ14: =#REF! -> #REF!
A15: 水質基準項目項目 | C15: （ 単 位 ） | AT15: 水質基準値 | AU15: 水質管理目標値
A16: 1 | B16: 一般細菌 | C16: 個/mL | D16: 0 | F16: 0 | H16: 0 | J16: 0 | L16: 0 | N16: 0 | Z16: =IFERROR(VLOOKUP(Z$9,#REF!,9,FALSE),"") | AA16: =IFERROR(VLOOKUP(AA$9,#REF!,9,FALSE),"") | AB16: =IFERROR(VLOOKUP(AB$9,#REF!,9,FALSE),"") | AC16: =IFERROR(VLOOKUP(AC$9,#REF!,9,FALSE),"") | AD16: =IFERROR(VLOOKUP(AD$9,#REF!,9,FALSE),"") | AE16: =IFERROR(VLOOKUP(AE$9,#REF!,9,FALSE),"") | AF16: =IFERROR(VLOOKUP(AF$9,#REF!,9,FALSE),"") | AG16: =IFERROR(VLOOKUP(AG$9,#REF!,9,FALSE),"") | ... AJ16: =IFERROR(VLOOKUP(AJ$9,#REF!,9,FALSE),"") | AK16: =IFERROR(VLOOKUP(ADA$9,#REF!,9,FALSE),"") | AL16: =IFERROR(VLOOKUP(AL$9,#REF!,9,FALSE),"") | AM16: =IFERROR(VLOOKUP(AM$9,#REF!,9,FALSE),"") | AN16: =IFERROR(VLOOKUP(AN$9,#REF!,9,FALSE),"") | AO16: =IFERROR(VLOOKUP(AO$9,#REF!,9,FALSE),"") | AP16: =IFERROR(VLOOKUP(AP$9,#REF!,9,FALSE),"") | AQ16: =#REF! -> #REF! | AS16: 一般細菌
A17: 2 | B17: 大腸菌 | C17: --- | D17: 1 | F17: 1 | H17: 1 | J17: 1 | L17: 1 | N17: 1 | Z17: =IFERROR(VLOOKUP(Z$9,#REF!,10,FALSE),"") | AA17: =IFERROR(VLOOKUP(AA$9,#REF!,10,FALSE),"") | AB17: =IFERROR(VLOOKUP(AB$9,#REF!,10,FALSE),"") | AC17: =IFERROR(VLOOKUP(AC$9,#REF!,10,FALSE),"") | AD17: =IFERROR(VLOOKUP(AD$9,#REF!,10,FALSE),"") | AE17: =IFERROR(VLOOKUP(AE$9,#REF!,10,FALSE),"") | AF17: =IFERROR(VLOOKUP(AF$9,#REF!,10,FALSE),"") | AG17: =IFERROR(VLOOKUP(AG$9,#REF!,10,FALSE),"") | ... AJ17: =IFERROR(VLOOKUP(AJ$9,#REF!,10,FALSE),"") | AK17: =IFERROR(VLOOKUP(ADA$9,#REF!,10,FALSE),"") | AL17: =IFERROR(VLOOKUP(AL$9,#REF!,10,FALSE),"") | AM17: =IFERROR(VLOOKUP(AM$9,#REF!,10,FALSE),"") | AN17: =IFERROR(VLOOKUP(AN$9,#REF!,10,FALSE),"") | AO17: =IFERROR(VLOOKUP(AO$9,#REF!,10,FALSE),"") | AP17: =IFERROR(VLOOKUP(AP$9,#REF!,10,FALSE),"") | AS17: 大腸菌
A18: 3 | B18: カドミウム及びその化合物 | C18: ㎎/L | E18: =D18/1000 -> #VALUE! | G18: =F18/1000 -> #VALUE! | I18: =H18/1000 -> #VALUE! | K18: =J18/1000 -> #VALUE! | M18: =L18/1000 -> #VALUE! | O18: =N18/1000 -> #VALUE! | Q18: =P18/1000 -> 0 | S18: =R18/1000 -> 0 | U18: =T18/1000 -> 0 | W18: =V18/1000 -> 0 | Y18: =X18/1000 -> 0 | Z18: =IFERROR(VLOOKUP(Z$9,#REF!,12,FALSE),"") | AA18: =IFERROR(VLOOKUP(AA$9,#REF!,12,FALSE),"") | AB18: =IFERROR(VLOOKUP(AB$9,#REF!,12,FALSE),"") | AC18: =IFERROR(VLOOKUP(AC$9,#REF!,12,FALSE),"") | AD18: =IFERROR(VLOOKUP(AD$9,#REF!,12,FALSE),"") | AE18: =IFERROR(VLOOKUP(AE$9,#REF!,12,FALSE),"") | AF18: =IFERROR(VLOOKUP(AF$9,#REF!,12,FALSE),"") | AG18: =IFERROR(VLOOKUP(AG$9,#REF!,12,FALSE),"") | ... AJ18: =IFERROR(VLOOKUP(AJ$9,#REF!,12,FALSE),"") | AK18: =IFERROR(VLOOKUP(ADA$9,#REF!,12,FALSE),"") | AL18: =IFERROR(VLOOKUP(AL$9,#REF!,12,FALSE),"") | AM18: =IFERROR(VLOOKUP(AM$9,#REF!,12,FALSE),"") | AN18: =IFERROR(VLOOKUP(AN$9,#REF!,12,FALSE),"") | AO18: =IFERROR(VLOOKUP(AO$9,#REF!,12,FALSE),"") | AP18: =IFERROR(VLOOKUP(AP$9,#REF!,12,FALSE),"") | AQ18: =#REF! -> #REF! | AS18: カドミウム及びその化合物
A19: 4 | B19: 水銀及びその化合物 | C19: ㎎/L | E19: =D19/1000 -> #VALUE! | G19: =F19/1000 -> #VALUE! | I19: =H19/1000 -> #VALUE! | K19: =J19/1000 -> #VALUE! | M19: =L19/1000 -> #VALUE! | O19: =N19/1000 -> #VALUE! | Q19: =P19/1000 -> 0 | S19: =R19/1000 -> 0 | U19: =T19/1000 -> 0 | W19: =V19/1000 -> 0 | Y19: =X19/1000 -> 0 | Z19: =IFERROR(VLOOKUP(Z$9,#REF!,25,FALSE),"") | AA19: =IFERROR(VLOOKUP(AA$9,#REF!,25,FALSE),"") | AB19: =IFERROR(VLOOKUP(AB$9,#REF!,25,FALSE),"") | AC19: =IFERROR(VLOOKUP(AC$9,#REF!,25,FALSE),"") | AD19: =IFERROR(VLOOKUP(AD$9,#REF!,25,FALSE),"") | AE19: =IFERROR(VLOOKUP(AE$9,#REF!,25,FALSE),"") | AF19: =IFERROR(VLOOKUP(AF$9,#REF!,25,FALSE),"") | AG19: =IFERROR(VLOOKUP(AG$9,#REF!,25,FALSE),"") | ... AJ19: =IFERROR(VLOOKUP(AJ$9,#REF!,25,FALSE),"") | AK19: =IFERROR(VLOOKUP(ADA$9,#REF!,25,FALSE),"") | AL19: =IFERROR(VLOOKUP(AL$9,#REF!,25,FALSE),"") | AM19: =IFERROR(VLOOKUP(AM$9,#REF!,25,FALSE),"") | AN19: =IFERROR(VLOOKUP(AN$9,#REF!,25,FALSE),"") | AO19: =IFERROR(VLOOKUP(AO$9,#REF!,25,FALSE),"") | AP19: =IFERROR(VLOOKUP(AP$9,#REF!,25,FALSE),"") | AQ19: =#REF! -> #REF! | AS19: 水銀及びその化合物
A20: 5 | B20: セレン及びその化合物 | C20: ㎎/L | E20: =D20/1000 -> #VALUE! | G20: =F20/1000 -> #VALUE! | I20: =H20/1000 -> #VALUE! | K20: =J20/1000 -> #VALUE! | M20: =L20/1000 -> #VALUE! | O20: =N20/1000 -> #VALUE! | Q20: =P20/1000 -> 0 | S20: =R20/1000 -> 0 | U20: =T20/1000 -> 0 | W20: =V20/1000 -> 0 | Y20: =X20/1000 -> 0 | Z20: =IFERROR(VLOOKUP(Z$9,#REF!,13,FALSE),"") | AA20: =IFERROR(VLOOKUP(AA$9,#REF!,13,FALSE),"") | AB20: =IFERROR(VLOOKUP(AB$9,#REF!,13,FALSE),"") | AC20: =IFERROR(VLOOKUP(AC$9,#REF!,13,FALSE),"") | AD20: =IFERROR(VLOOKUP(AD$9,#REF!,13,FALSE),"") | AE20: =IFERROR(VLOOKUP(AE$9,#REF!,13,FALSE),"") | AF20: =IFERROR(VLOOKUP(AF$9,#REF!,13,FALSE),"") | AG20: =IFERROR(VLOOKUP(AG$9,#REF!,13,FALSE),"") | ... AJ20: =IFERROR(VLOOKUP(AJ$9,#REF!,13,FALSE),"") | AK20: =IFERROR(VLOOKUP(ADA$9,#REF!,13,FALSE),"") | AL20: =IFERROR(VLOOKUP(AL$9,#REF!,13,FALSE),"") | AM20: =IFERROR(VLOOKUP(AM$9,#REF!,13,FALSE),"") | AN20: =IFERROR(VLOOKUP(AN$9,#REF!,13,FALSE),"") | AO20: =IFERROR(VLOOKUP(AO$9,#REF!,13,FALSE),"") | AP20: =IFERROR(VLOOKUP(AP$9,#REF!,13,FALSE),"") | AQ20: =#REF! -> #REF! | AS20: セレン及びその化合物
A21: 6 | B21: 鉛及びその化合物 | C21: ㎎/L | E21: =D21/1000 -> #VALUE! | G21: =F21/1000 -> #VALUE! | I21: =H21/1000 -> #VALUE! | K21: =J21/1000 -> #VALUE! | M21: =L21/1000 -> #VALUE! | O21: =N21/1000 -> #VALUE! | Q21: =P21/1000 -> 0 | S21: =R21/1000 -> 0 | U21: =T21/1000 -> 0 | W21: =V21/1000 -> 0 | Y21: =X21/1000 -> 0 | Z21: =IFERROR(VLOOKUP(Z$9,#REF!,14,FALSE),"") | AA21: =IFERROR(VLOOKUP(AA$9,#REF!,14,FALSE),"") | AB21: =IFERROR(VLOOKUP(AB$9,#REF!,14,FALSE),"") | AC21: =IFERROR(VLOOKUP(AC$9,#REF!,14,FALSE),"") | AD21: =IFERROR(VLOOKUP(AD$9,#REF!,14,FALSE),"") | AE21: =IFERROR(VLOOKUP(AE$9,#REF!,14,FALSE),"") | AF21: =IFERROR(VLOOKUP(AF$9,#REF!,14,FALSE),"") | AG21: =IFERROR(VLOOKUP(AG$9,#REF!,14,FALSE),"") | ... AJ21: =IFERROR(VLOOKUP(AJ$9,#REF!,14,FALSE),"") | AK21: =IFERROR(VLOOKUP(ADA$9,#REF!,14,FALSE),"") | AL21: =IFERROR(VLOOKUP(AL$9,#REF!,14,FALSE),"") | AM21: =IFERROR(VLOOKUP(AM$9,#REF!,14,FALSE),"") | AN21: =IFERROR(VLOOKUP(AN$9,#REF!,14,FALSE),"") | AO21: =IFERROR(VLOOKUP(AO$9,#REF!,14,FALSE),"") | AP21: =IFERROR(VLOOKUP(AP$9,#REF!,14,FALSE),"") | AQ21: =#REF! -> #REF! | AS21: 鉛及びその化合物
A22: 7 | B22: ヒ素及びその化合物 | C22: ㎎/L | E22: =D22/1000 -> #VALUE! | G22: =F22/1000 -> #VALUE! | I22: =H22/1000 -> #VALUE! | K22: =J22/1000 -> #VALUE! | M22: =L22/1000 -> #VALUE! | O22: =N22/1000 -> #VALUE! | Q22: =P22/1000 -> 0 | S22: =R22/1000 -> 0 | U22: =T22/1000 -> 0 | W22: =V22/1000 -> 0 | Y22: =X22/1000 -> 0 | Z22: =IFERROR(VLOOKUP(Z$9,#REF!,15,FALSE),"") | AA22: =IFERROR(VLOOKUP(AA$9,#REF!,15,FALSE),"") | AB22: =IFERROR(VLOOKUP(AB$9,#REF!,15,FALSE),"") | AC22: =IFERROR(VLOOKUP(AC$9,#REF!,15,FALSE),"") | AD22: =IFERROR(VLOOKUP(AD$9,#REF!,15,FALSE),"") | AE22: =IFERROR(VLOOKUP(AE$9,#REF!,15,FALSE),"") | AF22: =IFERROR(VLOOKUP(AF$9,#REF!,15,FALSE),"") | AG22: =IFERROR(VLOOKUP(AG$9,#REF!,15,FALSE),"") | ... AJ22: =IFERROR(VLOOKUP(AJ$9,#REF!,15,FALSE),"") | AK22: =IFERROR(VLOOKUP(ADA$9,#REF!,15,FALSE),"") | AL22: =IFERROR(VLOOKUP(AL$9,#REF!,15,FALSE),"") | AM22: =IFERROR(VLOOKUP(AM$9,#REF!,15,FALSE),"") | AN22: =IFERROR(VLOOKUP(AN$9,#REF!,15,FALSE),"") | AO22: =IFERROR(VLOOKUP(AO$9,#REF!,15,FALSE),"") | AP22: =IFERROR(VLOOKUP(AP$9,#REF!,15,FALSE),"") | AQ22: =#REF! -> #REF! | AS22: ヒ素及びその化合物
A23: 8 | B23: 六価クロム化合物 | C23: ㎎/L | E23: =D23/1000 -> #VALUE! | G23: =F23/1000 -> #VALUE! | I23: =H23/1000 -> #VALUE! | K23: =J23/1000 -> #VALUE! | M23: =L23/1000 -> #VALUE! | O23: =N23/1000 -> #VALUE! | Q23: =P23/1000 -> 0 | S23: =R23/1000 -> 0 | U23: =T23/1000 -> 0 | W23: =V23/1000 -> 0 | Y23: =X23/1000 -> 0 | Z23: =IFERROR(VLOOKUP(Z$9,#REF!,16,FALSE),"") | AA23: =IFERROR(VLOOKUP(AA$9,#REF!,16,FALSE),"") | AB23: =IFERROR(VLOOKUP(AB$9,#REF!,16,FALSE),"") | AC23: =IFERROR(VLOOKUP(AC$9,#REF!,16,FALSE),"") | AD23: =IFERROR(VLOOKUP(AD$9,#REF!,16,FALSE),"") | AE23: =IFERROR(VLOOKUP(AE$9,#REF!,16,FALSE),"") | AF23: =IFERROR(VLOOKUP(AF$9,#REF!,16,FALSE),"") | AG23: =IFERROR(VLOOKUP(AG$9,#REF!,16,FALSE),"") | ... AJ23: =IFERROR(VLOOKUP(AJ$9,#REF!,16,FALSE),"") | AK23: =IFERROR(VLOOKUP(ADA$9,#REF!,16,FALSE),"") | AL23: =IFERROR(VLOOKUP(AL$9,#REF!,16,FALSE),"") | AM23: =IFERROR(VLOOKUP(AM$9,#REF!,16,FALSE),"") | AN23: =IFERROR(VLOOKUP(AN$9,#REF!,16,FALSE),"") | AO23: =IFERROR(VLOOKUP(AO$9,#REF!,16,FALSE),"") | AP23: =IFERROR(VLOOKUP(AP$9,#REF!,16,FALSE),"") | AQ23: =#REF! -> #REF! | AS23: 六価クロム化合物
A24: 9 | B24: 亜硝酸態窒素 | C24: ㎎/L | D24: 0 | F24: 0 | H24: 0 | J24: 0 | L24: 0 | N24: 0 | Z24: =IFERROR(VLOOKUP(Z$9,#REF!,34,FALSE),"") | AA24: =IFERROR(VLOOKUP(AA$9,#REF!,34,FALSE),"") | AB24: =IFERROR(VLOOKUP(AB$9,#REF!,34,FALSE),"") | AC24: =IFERROR(VLOOKUP(AC$9,#REF!,34,FALSE),"") | AD24: =IFERROR(VLOOKUP(AD$9,#REF!,34,FALSE),"") | AE24: =IFERROR(VLOOKUP(AE$9,#REF!,34,FALSE),"") | AF24: =IFERROR(VLOOKUP(AF$9,#REF!,34,FALSE),"") | AG24: =IFERROR(VLOOKUP(AG$9,#REF!,34,FALSE),"") | ... AJ24: =IFERROR(VLOOKUP(AJ$9,#REF!,34,FALSE),"") | AK24: =IFERROR(VLOOKUP(ADA$9,#REF!,34,FALSE),"") | AL24: =IFERROR(VLOOKUP(AL$9,#REF!,34,FALSE),"") | AM24: =IFERROR(VLOOKUP(AM$9,#REF!,34,FALSE),"") | AN24: =IFERROR(VLOOKUP(AN$9,#REF!,34,FALSE),"") | AO24: =IFERROR(VLOOKUP(AO$9,#REF!,34,FALSE),"") | AP24: =IFERROR(VLOOKUP(AP$9,#REF!,34,FALSE),"") | AQ24: =#REF! -> #REF! | AS24: 亜硝酸態窒素
A25: 10 | B25: シアン化物イオン及び塩化シアン | C25: ㎎/L | E25: =D25/1000 -> #VALUE! | G25: =F25/1000 -> #VALUE! | I25: =H25/1000 -> #VALUE! | K25: =J25/1000 -> #VALUE! | M25: =L25/1000 -> #VALUE! | O25: =N25/1000 -> #VALUE! | Q25: =P25/1000 -> 0 | S25: =R25/1000 -> 0 | U25: =T25/1000 -> 0 | W25: =V25/1000 -> 0 | Y25: =X25/1000 -> 0 | Z25: =IFERROR(VLOOKUP(Z$9,#REF!,29,FALSE),"") | AA25: =IFERROR(VLOOKUP(AA$9,#REF!,29,FALSE),"") | AB25: =IFERROR(VLOOKUP(AB$9,#REF!,29,FALSE),"") | AC25: =IFERROR(VLOOKUP(AC$9,#REF!,29,FALSE),"") | AD25: =IFERROR(VLOOKUP(AD$9,#REF!,29,FALSE),"") | AE25: =IFERROR(VLOOKUP(AE$9,#REF!,29,FALSE),"") | AF25: =IFERROR(VLOOKUP(AF$9,#REF!,29,FALSE),"") | AG25: =IFERROR(VLOOKUP(AG$9,#REF!,29,FALSE),"") | ... AJ25: =IFERROR(VLOOKUP(AJ$9,#REF!,29,FALSE),"") | AK25: =IFERROR(VLOOKUP(ADA$9,#REF!,29,FALSE),"") | AL25: =IFERROR(VLOOKUP(AL$9,#REF!,29,FALSE),"") | AM25: =IFERROR(VLOOKUP(AM$9,#REF!,29,FALSE),"") | AN25: =IFERROR(VLOOKUP(AN$9,#REF!,29,FALSE),"") | AO25: =IFERROR(VLOOKUP(AO$9,#REF!,29,FALSE),"") | AP25: =IFERROR(VLOOKUP(AP$9,#REF!,29,FALSE),"") | AQ25: =#REF! -> #REF! | AS25: シアン化物イオン及び塩化シアン
A26: 11 | B26: 硝酸態窒素及び亜硝酸態窒素 | C26: ㎎/L | D26: 0.11 | F26: 0.11 | H26: 0.19 | J26: 0.19 | L26: 0.43 | N26: 0.44 | Z26: =IFERROR(VLOOKUP(Z$9,#REF!,36,FALSE),"") | AA26: =IFERROR(VLOOKUP(AA$9,#REF!,36,FALSE),"") | AB26: =IFERROR(VLOOKUP(AB$9,#REF!,36,FALSE),"") | AC26: =IFERROR(VLOOKUP(AC$9,#REF!,36,FALSE),"") | AD26: =IFERROR(VLOOKUP(AD$9,#REF!,36,FALSE),"") | AE26: =IFERROR(VLOOKUP(AE$9,#REF!,36,FALSE),"") | AF26: =IFERROR(VLOOKUP(AF$9,#REF!,36,FALSE),"") | AG26: =IFERROR(VLOOKUP(AG$9,#REF!,36,FALSE),"") | ... AJ26: =IFERROR(VLOOKUP(AJ$9,#REF!,36,FALSE),"") | AK26: =IFERROR(VLOOKUP(ADA$9,#REF!,36,FALSE),"") | AL26: =IFERROR(VLOOKUP(AL$9,#REF!,36,FALSE),"") | AM26: =IFERROR(VLOOKUP(AM$9,#REF!,36,FALSE),"") | AN26: =IFERROR(VLOOKUP(AN$9,#REF!,36,FALSE),"") | AO26: =IFERROR(VLOOKUP(AO$9,#REF!,36,FALSE),"") | AP26: =IFERROR(VLOOKUP(AP$9,#REF!,36,FALSE),"") | AQ26: =#REF! -> #REF! | AS26: 硝酸態窒素及び亜硝酸態窒素
A27: 12 | B27: フッ素及びその化合物 | C27: ㎎/L | D27: 0 | F27: 0 | H27: 0 | J27: 0 | L27: 0 | N27: 0 | Z27: =IFERROR(VLOOKUP(Z$9,#REF!,31,FALSE),"") | AA27: =IFERROR(VLOOKUP(AA$9,#REF!,31,FALSE),"") | AB27: =IFERROR(VLOOKUP(AB$9,#REF!,31,FALSE),"") | AC27: =IFERROR(VLOOKUP(AC$9,#REF!,31,FALSE),"") | AD27: =IFERROR(VLOOKUP(AD$9,#REF!,31,FALSE),"") | AE27: =IFERROR(VLOOKUP(AE$9,#REF!,31,FALSE),"") | AF27: =IFERROR(VLOOKUP(AF$9,#REF!,31,FALSE),"") | AG27: =IFERROR(VLOOKUP(AG$9,#REF!,31,FALSE),"") | ... AJ27: =IFERROR(VLOOKUP(AJ$9,#REF!,31,FALSE),"") | AK27: =IFERROR(VLOOKUP(ADA$9,#REF!,31,FALSE),"") | AL27: =IFERROR(VLOOKUP(AL$9,#REF!,31,FALSE),"") | AM27: =IFERROR(VLOOKUP(AM$9,#REF!,31,FALSE),"") | AN27: =IFERROR(VLOOKUP(AN$9,#REF!,31,FALSE),"") | AO27: =IFERROR(VLOOKUP(AO$9,#REF!,31,FALSE),"") | AP27: =IFERROR(VLOOKUP(AP$9,#REF!,31,FALSE),"") | AQ27: =#REF! -> #REF! | AS27: フッ素及びその化合物
A28: 13 | B28: ホウ素及びその化合物 | C28: ㎎/L | E28: =D28/1000 -> #VALUE! | G28: =F28/1000 -> #VALUE! | I28: =H28/1000 -> #VALUE! | K28: =J28/1000 -> #VALUE! | M28: =L28/1000 -> #VALUE! | O28: =N28/1000 -> #VALUE! | Q28: =P28/1000 -> 0 | S28: =R28/1000 -> 0 | U28: =T28/1000 -> 0 | W28: =V28/1000 -> 0 | Y28: =X28/1000 -> 0 | Z28: =IFERROR(VLOOKUP(Z$9,#REF!,17,FALSE),"") | AA28: =IFERROR(VLOOKUP(AA$9,#REF!,17,FALSE),"") | AB28: =IFERROR(VLOOKUP(AB$9,#REF!,17,FALSE),"") | AC28: =IFERROR(VLOOKUP(AC$9,#REF!,17,FALSE),"") | AD28: =IFERROR(VLOOKUP(AD$9,#REF!,17,FALSE),"") | AE28: =IFERROR(VLOOKUP(AE$9,#REF!,17,FALSE),"") | AF28: =IFERROR(VLOOKUP(AF$9,#REF!,17,FALSE),"") | AG28: =IFERROR(VLOOKUP(AG$9,#REF!,17,FALSE),"") | ... AJ28: =IFERROR(VLOOKUP(AJ$9,#REF!,17,FALSE),"") | AK28: =IFERROR(VLOOKUP(ADA$9,#REF!,17,FALSE),"") | AL28: =IFERROR(VLOOKUP(AL$9,#REF!,17,FALSE),"") | AM28: =IFERROR(VLOOKUP(AM$9,#REF!,17,FALSE),"") | AN28: =IFERROR(VLOOKUP(AN$9,#REF!,17,FALSE),"") | AO28: =IFERROR(VLOOKUP(AO$9,#REF!,17,FALSE),"") | AP28: =IFERROR(VLOOKUP(AP$9,#REF!,17,FALSE),"") | AQ28: =#REF! -> #REF! | AS28: ホウ素及びその化合物
A29: 14 | B29: 四塩化炭素 | C29: ㎎/L | E29: =D29/1000 -> #VALUE! | G29: =F29/1000 -> #VALUE! | I29: =H29/1000 -> #VALUE! | K29: =J29/1000 -> #VALUE! | M29: =L29/1000 -> #VALUE! | O29: =N29/1000 -> #VALUE! | Q29: =P29/1000 -> 0 | S29: =R29/1000 -> 0 | U29: =T29/1000 -> 0 | W29: =V29/1000 -> 0 | Y29: =X29/1000 -> 0 | Z29: =IFERROR(VLOOKUP(Z$9,#REF!,42,FALSE),"") | AA29: =IFERROR(VLOOKUP(AA$9,#REF!,42,FALSE),"") | AB29: =IFERROR(VLOOKUP(AB$9,#REF!,42,FALSE),"") | AC29: =IFERROR(VLOOKUP(AC$9,#REF!,42,FALSE),"") | AD29: =IFERROR(VLOOKUP(AD$9,#REF!,42,FALSE),"") | AE29: =IFERROR(VLOOKUP(AE$9,#REF!,42,FALSE),"") | AF29: =IFERROR(VLOOKUP(AF$9,#REF!,42,FALSE),"") | AG29: =IFERROR(VLOOKUP(AG$9,#REF!,42,FALSE),"") | ... AJ29: =IFERROR(VLOOKUP(AJ$9,#REF!,42,FALSE),"") | AK29: =IFERROR(VLOOKUP(ADA$9,#REF!,42,FALSE),"") | AL29: =IFERROR(VLOOKUP(AL$9,#REF!,42,FALSE),"") | AM29: =IFERROR(VLOOKUP(AM$9,#REF!,42,FALSE),"") | AN29: =IFERROR(VLOOKUP(AN$9,#REF!,42,FALSE),"") | AO29: =IFERROR(VLOOKUP(AO$9,#REF!,42,FALSE),"") | AP29: =IFERROR(VLOOKUP(AP$9,#REF!,42,FALSE),"") | AQ29: =#REF! -> #REF! | AS29: 四塩化炭素
A30: 15 | B30: １,４-ジオキサン | C30: ㎎/L | E30: =D30/1000 -> #VALUE! | G30: =F30/1000 -> #VALUE! | I30: =H30/1000 -> #VALUE! | K30: =J30/1000 -> #VALUE! | M30: =L30/1000 -> #VALUE! | O30: =N30/1000 -> #VALUE! | Q30: =P30/1000 -> 0 | S30: =R30/1000 -> 0 | U30: =T30/1000 -> 0 | W30: =V30/1000 -> 0 | Y30: =X30/1000 -> 0 | Z30: =IFERROR(VLOOKUP(Z$9,#REF!,43,FALSE),"") | AA30: =IFERROR(VLOOKUP(AA$9,#REF!,43,FALSE),"") | AB30: =IFERROR(VLOOKUP(AB$9,#REF!,43,FALSE),"") | AC30: =IFERROR(VLOOKUP(AC$9,#REF!,43,FALSE),"") | AD30: =IFERROR(VLOOKUP(AD$9,#REF!,43,FALSE),"") | AE30: =IFERROR(VLOOKUP(AE$9,#REF!,43,FALSE),"") | AF30: =IFERROR(VLOOKUP(AF$9,#REF!,43,FALSE),"") | AG30: =IFERROR(VLOOKUP(AG$9,#REF!,43,FALSE),"") | ... AJ30: =IFERROR(VLOOKUP(AJ$9,#REF!,43,FALSE),"") | AK30: =IFERROR(VLOOKUP(ADA$9,#REF!,43,FALSE),"") | AL30: =IFERROR(VLOOKUP(AL$9,#REF!,43,FALSE),"") | AM30: =IFERROR(VLOOKUP(AM$9,#REF!,43,FALSE),"") | AN30: =IFERROR(VLOOKUP(AN$9,#REF!,43,FALSE),"") | AO30: =IFERROR(VLOOKUP(AO$9,#REF!,43,FALSE),"") | AP30: =IFERROR(VLOOKUP(AP$9,#REF!,43,FALSE),"") | AQ30: =#REF! -> #REF! | AS30: １,４-ジオキサン
A31: 16 | B31: シス及びトランス-１,２-ジクロロエチレン | C31: ㎎/L | E31: =D31/1000 -> #VALUE! | G31: =F31/1000 -> #VALUE! | I31: =H31/1000 -> #VALUE! | K31: =J31/1000 -> #VALUE! | M31: =L31/1000 -> #VALUE! | O31: =N31/1000 -> #VALUE! | Q31: =P31/1000 -> 0 | S31: =R31/1000 -> 0 | U31: =T31/1000 -> 0 | W31: =V31/1000 -> 0 | Y31: =X31/1000 -> 0 | Z31: =IFERROR(VLOOKUP(Z$9,#REF!,46,FALSE),"") | AA31: =IFERROR(VLOOKUP(AA$9,#REF!,46,FALSE),"") | AB31: =IFERROR(VLOOKUP(AB$9,#REF!,46,FALSE),"") | AC31: =IFERROR(VLOOKUP(AC$9,#REF!,46,FALSE),"") | AD31: =IFERROR(VLOOKUP(AD$9,#REF!,46,FALSE),"") | AE31: =IFERROR(VLOOKUP(AE$9,#REF!,46,FALSE),"") | AF31: =IFERROR(VLOOKUP(AF$9,#REF!,46,FALSE),"") | AG31: =IFERROR(VLOOKUP(AG$9,#REF!,46,FALSE),"") | ... AJ31: =IFERROR(VLOOKUP(AJ$9,#REF!,46,FALSE),"") | AK31: =IFERROR(VLOOKUP(ADA$9,#REF!,46,FALSE),"") | AL31: =IFERROR(VLOOKUP(AL$9,#REF!,46,FALSE),"") | AM31: =IFERROR(VLOOKUP(AM$9,#REF!,46,FALSE),"") | AN31: =IFERROR(VLOOKUP(AN$9,#REF!,46,FALSE),"") | AO31: =IFERROR(VLOOKUP(AO$9,#REF!,46,FALSE),"") | AP31: =IFERROR(VLOOKUP(AP$9,#REF!,46,FALSE),"") | AQ31: =#REF! -> #REF! | AS31: シス及びトランス-１,２-ジクロロエチレン
A32: 17 | B32: ジクロロメタン | C32: ㎎/L | E32: =D32/1000 -> #VALUE! | G32: =F32/1000 -> #VALUE! | I32: =H32/1000 -> #VALUE! | K32: =J32/1000 -> #VALUE! | M32: =L32/1000 -> #VALUE! | O32: =N32/1000 -> #VALUE! | Q32: =P32/1000 -> 0 | S32: =R32/1000 -> 0 | U32: =T32/1000 -> 0 | W32: =V32/1000 -> 0 | Y32: =X32/1000 -> 0 | Z32: =IFERROR(VLOOKUP(Z$9,#REF!,47,FALSE),"") | AA32: =IFERROR(VLOOKUP(AA$9,#REF!,47,FALSE),"") | AB32: =IFERROR(VLOOKUP(AB$9,#REF!,47,FALSE),"") | AC32: =IFERROR(VLOOKUP(AC$9,#REF!,47,FALSE),"") | AD32: =IFERROR(VLOOKUP(AD$9,#REF!,47,FALSE),"") | AE32: =IFERROR(VLOOKUP(AE$9,#REF!,47,FALSE),"") | AF32: =IFERROR(VLOOKUP(AF$9,#REF!,47,FALSE),"") | AG32: =IFERROR(VLOOKUP(AG$9,#REF!,47,FALSE),"") | ... AJ32: =IFERROR(VLOOKUP(AJ$9,#REF!,47,FALSE),"") | AK32: =IFERROR(VLOOKUP(ADA$9,#REF!,47,FALSE),"") | AL32: =IFERROR(VLOOKUP(AL$9,#REF!,47,FALSE),"") | AM32: =IFERROR(VLOOKUP(AM$9,#REF!,47,FALSE),"") | AN32: =IFERROR(VLOOKUP(AN$9,#REF!,47,FALSE),"") | AO32: =IFERROR(VLOOKUP(AO$9,#REF!,47,FALSE),"") | AP32: =IFERROR(VLOOKUP(AP$9,#REF!,47,FALSE),"") | AQ32: =#REF! -> #REF! | AS32: ジクロロメタン
A33: 18 | B33: テトラクロロエチレン | C33: ㎎/L | E33: =D33/1000 -> #VALUE! | G33: =F33/1000 -> #VALUE! | I33: =H33/1000 -> #VALUE! | K33: =J33/1000 -> #VALUE! | M33: =L33/1000 -> #VALUE! | O33: =N33/1000 -> #VALUE! | Q33: =P33/1000 -> 0 | S33: =R33/1000 -> 0 | U33: =T33/1000 -> 0 | W33: =V33/1000 -> 0 | Y33: =X33/1000 -> 0 | Z33: =IFERROR(VLOOKUP(Z$9,#REF!,48,FALSE),"") | AA33: =IFERROR(VLOOKUP(AA$9,#REF!,48,FALSE),"") | AB33: =IFERROR(VLOOKUP(AB$9,#REF!,48,FALSE),"") | AC33: =IFERROR(VLOOKUP(AC$9,#REF!,48,FALSE),"") | AD33: =IFERROR(VLOOKUP(AD$9,#REF!,48,FALSE),"") | AE33: =IFERROR(VLOOKUP(AE$9,#REF!,48,FALSE),"") | AF33: =IFERROR(VLOOKUP(AF$9,#REF!,48,FALSE),"") | AG33: =IFERROR(VLOOKUP(AG$9,#REF!,48,FALSE),"") | ... AJ33: =IFERROR(VLOOKUP(AJ$9,#REF!,48,FALSE),"") | AK33: =IFERROR(VLOOKUP(ADA$9,#REF!,48,FALSE),"") | AL33: =IFERROR(VLOOKUP(AL$9,#REF!,48,FALSE),"") | AM33: =IFERROR(VLOOKUP(AM$9,#REF!,48,FALSE),"") | AN33: =IFERROR(VLOOKUP(AN$9,#REF!,48,FALSE),"") | AO33: =IFERROR(VLOOKUP(AO$9,#REF!,48,FALSE),"") | AP33: =IFERROR(VLOOKUP(AP$9,#REF!,48,FALSE),"") | AQ33: =#REF! -> #REF! | AS33: テトラクロロエチレン
A34: 19 | B34: トリクロロエチレン | C34: ㎎/L | E34: =D34/1000 -> #VALUE! | G34: =F34/1000 -> #VALUE! | I34: =H34/1000 -> #VALUE! | K34: =J34/1000 -> #VALUE! | M34: =L34/1000 -> #VALUE! | O34: =N34/1000 -> #VALUE! | Q34: =P34/1000 -> 0 | S34: =R34/1000 -> 0 | U34: =T34/1000 -> 0 | W34: =V34/1000 -> 0 | Y34: =X34/1000 -> 0 | Z34: =IFERROR(VLOOKUP(Z$9,#REF!,49,FALSE),"") | AA34: =IFERROR(VLOOKUP(AA$9,#REF!,49,FALSE),"") | AB34: =IFERROR(VLOOKUP(AB$9,#REF!,49,FALSE),"") | AC34: =IFERROR(VLOOKUP(AC$9,#REF!,49,FALSE),"") | AD34: =IFERROR(VLOOKUP(AD$9,#REF!,49,FALSE),"") | AE34: =IFERROR(VLOOKUP(AE$9,#REF!,49,FALSE),"") | AF34: =IFERROR(VLOOKUP(AF$9,#REF!,49,FALSE),"") | AG34: =IFERROR(VLOOKUP(AG$9,#REF!,49,FALSE),"") | ... AJ34: =IFERROR(VLOOKUP(AJ$9,#REF!,49,FALSE),"") | AK34: =IFERROR(VLOOKUP(ADA$9,#REF!,49,FALSE),"") | AL34: =IFERROR(VLOOKUP(AL$9,#REF!,49,FALSE),"") | AM34: =IFERROR(VLOOKUP(AM$9,#REF!,49,FALSE),"") | AN34: =IFERROR(VLOOKUP(AN$9,#REF!,49,FALSE),"") | AO34: =IFERROR(VLOOKUP(AO$9,#REF!,49,FALSE),"") | AP34: =IFERROR(VLOOKUP(AP$9,#REF!,49,FALSE),"") | AQ34: =#REF! -> #REF! | AS34: トリクロロエチレン
A35: 20 | B35: ベンゼン | C35: ㎎/L | E35: =D35/1000 -> #VALUE! | G35: =F35/1000 -> #VALUE! | I35: =H35/1000 -> #VALUE! | K35: =J35/1000 -> #VALUE! | M35: =L35/1000 -> #VALUE! | O35: =N35/1000 -> #VALUE! | Q35: =P35/1000 -> 0 | S35: =R35/1000 -> 0 | U35: =T35/1000 -> 0 | W35: =V35/1000 -> 0 | Y35: =X35/1000 -> 0 | Z35: =IFERROR(VLOOKUP(Z$9,#REF!,50,FALSE),"") | AA35: =IFERROR(VLOOKUP(AA$9,#REF!,50,FALSE),"") | AB35: =IFERROR(VLOOKUP(AB$9,#REF!,50,FALSE),"") | AC35: =IFERROR(VLOOKUP(AC$9,#REF!,50,FALSE),"") | AD35: =IFERROR(VLOOKUP(AD$9,#REF!,50,FALSE),"") | AE35: =IFERROR(VLOOKUP(AE$9,#REF!,50,FALSE),"") | AF35: =IFERROR(VLOOKUP(AF$9,#REF!,50,FALSE),"") | AG35: =IFERROR(VLOOKUP(AG$9,#REF!,50,FALSE),"") | ... AJ35: =IFERROR(VLOOKUP(AJ$9,#REF!,50,FALSE),"") | AK35: =IFERROR(VLOOKUP(ADA$9,#REF!,50,FALSE),"") | AL35: =IFERROR(VLOOKUP(AL$9,#REF!,50,FALSE),"") | AM35: =IFERROR(VLOOKUP(AM$9,#REF!,50,FALSE),"") | AN35: =IFERROR(VLOOKUP(AN$9,#REF!,50,FALSE),"") | AO35: =IFERROR(VLOOKUP(AO$9,#REF!,50,FALSE),"") | AP35: =IFERROR(VLOOKUP(AP$9,#REF!,50,FALSE),"") | AQ35: =#REF! -> #REF! | AS35: ベンゼン
A36: 21 | B36: 塩素酸 | C36: ㎎/L | D36: 0 | F36: 0 | H36: 0 | J36: 0.05 | L36: 0 | N36: 0 | Z36: =IFERROR(VLOOKUP(Z$9,#REF!,33,FALSE),"") | AA36: =IFERROR(VLOOKUP(AA$9,#REF!,33,FALSE),"") | AB36: =IFERROR(VLOOKUP(AB$9,#REF!,33,FALSE),"") | AC36: =IFERROR(VLOOKUP(AC$9,#REF!,33,FALSE),"") | AD36: =IFERROR(VLOOKUP(AD$9,#REF!,33,FALSE),"") | AE36: =IFERROR(VLOOKUP(AE$9,#REF!,33,FALSE),"") | AF36: =IFERROR(VLOOKUP(AF$9,#REF!,33,FALSE),"") | AG36: =IFERROR(VLOOKUP(AG$9,#REF!,33,FALSE),"") | ... AJ36: =IFERROR(VLOOKUP(AJ$9,#REF!,33,FALSE),"") | AK36: =IFERROR(VLOOKUP(ADA$9,#REF!,33,FALSE),"") | AL36: =IFERROR(VLOOKUP(AL$9,#REF!,33,FALSE),"") | AM36: =IFERROR(VLOOKUP(AM$9,#REF!,33,FALSE),"") | AN36: =IFERROR(VLOOKUP(AN$9,#REF!,33,FALSE),"") | AO36: =IFERROR(VLOOKUP(AO$9,#REF!,33,FALSE),"") | AP36: =IFERROR(VLOOKUP(AP$9,#REF!,33,FALSE),"") | AQ36: =#REF! -> #REF! | AS36: 塩素酸
A37: 22 | B37: クロロ酢酸 | C37: ㎎/L | D37: 0 | F37: 0 | H37: 0 | J37: 0 | L37: 0 | N37: 0 | Z37: =IFERROR(VLOOKUP(Z$9,#REF!,57,FALSE),"") | AA37: =IFERROR(VLOOKUP(AA$9,#REF!,57,FALSE),"") | AB37: =IFERROR(VLOOKUP(AB$9,#REF!,57,FALSE),"") | AC37: =IFERROR(VLOOKUP(AC$9,#REF!,57,FALSE),"") | AD37: =IFERROR(VLOOKUP(AD$9,#REF!,57,FALSE),"") | AE37: =IFERROR(VLOOKUP(AE$9,#REF!,57,FALSE),"") | AF37: =IFERROR(VLOOKUP(AF$9,#REF!,57,FALSE),"") | AG37: =IFERROR(VLOOKUP(AG$9,#REF!,57,FALSE),"") | ... AJ37: =IFERROR(VLOOKUP(AJ$9,#REF!,57,FALSE),"") | AK37: =IFERROR(VLOOKUP(ADA$9,#REF!,57,FALSE),"") | AL37: =IFERROR(VLOOKUP(AL$9,#REF!,57,FALSE),"") | AM37: =IFERROR(VLOOKUP(AM$9,#REF!,57,FALSE),"") | AN37: =IFERROR(VLOOKUP(AN$9,#REF!,57,FALSE),"") | AO37: =IFERROR(VLOOKUP(AO$9,#REF!,57,FALSE),"") | AP37: =IFERROR(VLOOKUP(AP$9,#REF!,57,FALSE),"") | AQ37: =#REF! -> #REF! | AS37: クロロ酢酸
A38: 23 | B38: クロロホルム | C38: ㎎/L | E38: =D38/1000 -> #VALUE! | G38: =F38/1000 -> #VALUE! | I38: =H38/1000 -> #VALUE! | K38: =J38/1000 -> #VALUE! | M38: =L38/1000 -> #VALUE! | O38: =N38/1000 -> #VALUE! | Q38: =P38/1000 -> 0 | S38: =R38/1000 -> 0 | U38: =T38/1000 -> 0 | W38: =V38/1000 -> 0 | Y38: =X38/1000 -> 0 | Z38: =IFERROR(VLOOKUP(Z$9,#REF!,51,FALSE),"") | AA38: =IFERROR(VLOOKUP(AA$9,#REF!,51,FALSE),"") | AB38: =IFERROR(VLOOKUP(AB$9,#REF!,51,FALSE),"") | AC38: =IFERROR(VLOOKUP(AC$9,#REF!,51,FALSE),"") | AD38: =IFERROR(VLOOKUP(AD$9,#REF!,51,FALSE),"") | AE38: =IFERROR(VLOOKUP(AE$9,#REF!,51,FALSE),"") | AF38: =IFERROR(VLOOKUP(AF$9,#REF!,51,FALSE),"") | AG38: =IFERROR(VLOOKUP(AG$9,#REF!,51,FALSE),"") | ... AJ38: =IFERROR(VLOOKUP(AJ$9,#REF!,51,FALSE),"") | AK38: =IFERROR(VLOOKUP(ADA$9,#REF!,51,FALSE),"") | AL38: =IFERROR(VLOOKUP(AL$9,#REF!,51,FALSE),"") | AM38: =IFERROR(VLOOKUP(AM$9,#REF!,51,FALSE),"") | AN38: =IFERROR(VLOOKUP(AN$9,#REF!,51,FALSE),"") | AO38: =IFERROR(VLOOKUP(AO$9,#REF!,51,FALSE),"") | AP38: =IFERROR(VLOOKUP(AP$9,#REF!,51,FALSE),"") | AQ38: =#REF! -> #REF! | AS38: クロロホルム
A39: 24 | B39: ジクロロ酢酸 | C39: ㎎/L | D39: 0 | F39: 0.002 | H39: 0 | J39: 0.012 | L39: 0 | N39: 0 | Z39: =IFERROR(VLOOKUP(Z$9,#REF!,58,FALSE),"") | AA39: =IFERROR(VLOOKUP(AA$9,#REF!,58,FALSE),"") | AB39: =IFERROR(VLOOKUP(AB$9,#REF!,58,FALSE),"") | AC39: =IFERROR(VLOOKUP(AC$9,#REF!,58,FALSE),"") | AD39: =IFERROR(VLOOKUP(AD$9,#REF!,58,FALSE),"") | AE39: =IFERROR(VLOOKUP(AE$9,#REF!,58,FALSE),"") | AF39: =IFERROR(VLOOKUP(AF$9,#REF!,58,FALSE),"") | AG39: =IFERROR(VLOOKUP(AG$9,#REF!,58,FALSE),"") | ... AJ39: =IFERROR(VLOOKUP(AJ$9,#REF!,58,FALSE),"") | AK39: =IFERROR(VLOOKUP(ADA$9,#REF!,58,FALSE),"") | AL39: =IFERROR(VLOOKUP(AL$9,#REF!,58,FALSE),"") | AM39: =IFERROR(VLOOKUP(AM$9,#REF!,58,FALSE),"") | AN39: =IFERROR(VLOOKUP(AN$9,#REF!,58,FALSE),"") | AO39: =IFERROR(VLOOKUP(AO$9,#REF!,58,FALSE),"") | AP39: =IFERROR(VLOOKUP(AP$9,#REF!,58,FALSE),"") | AQ39: =#REF! -> #REF! | AS39: ジクロロ酢酸
A40: 25 | B40: ジブロモクロロメタン | C40: ㎎/L | E40: =D40/1000 -> #VALUE! | G40: =F40/1000 -> #VALUE! | I40: =H40/1000 -> #VALUE! | K40: =J40/1000 -> #VALUE! | M40: =L40/1000 -> #VALUE! | O40: =N40/1000 -> #VALUE! | Q40: =P40/1000 -> 0 | S40: =R40/1000 -> 0 | U40: =T40/1000 -> 0 | W40: =V40/1000 -> 0 | Y40: =X40/1000 -> 0 | Z40: =IFERROR(VLOOKUP(Z$9,#REF!,52,FALSE),"") | AA40: =IFERROR(VLOOKUP(AA$9,#REF!,52,FALSE),"") | AB40: =IFERROR(VLOOKUP(AB$9,#REF!,52,FALSE),"") | AC40: =IFERROR(VLOOKUP(AC$9,#REF!,52,FALSE),"") | AD40: =IFERROR(VLOOKUP(AD$9,#REF!,52,FALSE),"") | AE40: =IFERROR(VLOOKUP(AE$9,#REF!,52,FALSE),"") | AF40: =IFERROR(VLOOKUP(AF$9,#REF!,52,FALSE),"") | AG40: =IFERROR(VLOOKUP(AG$9,#REF!,52,FALSE),"") | ... AJ40: =IFERROR(VLOOKUP(AJ$9,#REF!,52,FALSE),"") | AK40: =IFERROR(VLOOKUP(ADA$9,#REF!,52,FALSE),"") | AL40: =IFERROR(VLOOKUP(AL$9,#REF!,52,FALSE),"") | AM40: =IFERROR(VLOOKUP(AM$9,#REF!,52,FALSE),"") | AN40: =IFERROR(VLOOKUP(AN$9,#REF!,52,FALSE),"") | AO40: =IFERROR(VLOOKUP(AO$9,#REF!,52,FALSE),"") | AP40: =IFERROR(VLOOKUP(AP$9,#REF!,52,FALSE),"") | AQ40: =#REF! -> #REF! | AS40: ジブロモクロロメタン
A41: 26 | B41: 臭素酸 | C41: ㎎/L | Z41: =IFERROR(VLOOKUP(Z$9,#REF!,62,FALSE),"") | AA41: =IFERROR(VLOOKUP(AA$9,#REF!,62,FALSE),"") | AB41: =IFERROR(VLOOKUP(AB$9,#REF!,62,FALSE),"") | AC41: =IFERROR(VLOOKUP(AC$9,#REF!,62,FALSE),"") | AD41: =IFERROR(VLOOKUP(AD$9,#REF!,62,FALSE),"") | AE41: =IFERROR(VLOOKUP(AE$9,#REF!,62,FALSE),"") | AF41: =IFERROR(VLOOKUP(AF$9,#REF!,62,FALSE),"") | AG41: =IFERROR(VLOOKUP(AG$9,#REF!,62,FALSE),"") | ... AJ41: =IFERROR(VLOOKUP(AJ$9,#REF!,62,FALSE),"") | AK41: =IFERROR(VLOOKUP(ADA$9,#REF!,62,FALSE),"") | AL41: =IFERROR(VLOOKUP(AL$9,#REF!,62,FALSE),"") | AM41: =IFERROR(VLOOKUP(AM$9,#REF!,62,FALSE),"") | AN41: =IFERROR(VLOOKUP(AN$9,#REF!,62,FALSE),"") | AO41: =IFERROR(VLOOKUP(AO$9,#REF!,62,FALSE),"") | AP41: =IFERROR(VLOOKUP(AP$9,#REF!,62,FALSE),"") | AQ41: =#REF! -> #REF! | AS41: 臭素酸
A42: 27 | B42: 総トリハロメタン | C42: ㎎/L | E42: =D42/1000 -> #VALUE! | G42: =F42/1000 -> #VALUE! | I42: =H42/1000 -> #VALUE! | K42: =J42/1000 -> #VALUE! | M42: =L42/1000 -> #VALUE! | O42: =N42/1000 -> #VALUE! | Q42: =P42/1000 -> 0 | S42: =R42/1000 -> 0 | U42: =T42/1000 -> 0 | W42: =V42/1000 -> 0 | Y42: =X42/1000 -> 0 | Z42: =IFERROR(VLOOKUP(Z$9,#REF!,55,FALSE),"") | AA42: =IFERROR(VLOOKUP(AA$9,#REF!,55,FALSE),"") | AB42: =IFERROR(VLOOKUP(AB$9,#REF!,55,FALSE),"") | AC42: =IFERROR(VLOOKUP(AC$9,#REF!,55,FALSE),"") | AD42: =IFERROR(VLOOKUP(AD$9,#REF!,55,FALSE),"") | AE42: =IFERROR(VLOOKUP(AE$9,#REF!,55,FALSE),"") | AF42: =IFERROR(VLOOKUP(AF$9,#REF!,55,FALSE),"") | AG42: =IFERROR(VLOOKUP(AG$9,#REF!,55,FALSE),"") | ... AJ42: =IFERROR(VLOOKUP(AJ$9,#REF!,55,FALSE),"") | AK42: =IFERROR(VLOOKUP(ADA$9,#REF!,55,FALSE),"") | AL42: =IFERROR(VLOOKUP(AL$9,#REF!,55,FALSE),"") | AM42: =IFERROR(VLOOKUP(AM$9,#REF!,55,FALSE),"") | AN42: =IFERROR(VLOOKUP(AN$9,#REF!,55,FALSE),"") | AO42: =IFERROR(VLOOKUP(AO$9,#REF!,55,FALSE),"") | AP42: =IFERROR(VLOOKUP(AP$9,#REF!,55,FALSE),"") | AQ42: =#REF! -> #REF! | AS42: 総トリハロメタン
A43: 28 | B43: トリクロロ酢酸 | C43: ㎎/L | D43: 0 | F43: 0 | H43: 0.002 | J43: 0.017 | L43: 0 | N43: 0.003 | Z43: =IFERROR(VLOOKUP(Z$9,#REF!,59,FALSE),"") | AA43: =IFERROR(VLOOKUP(AA$9,#REF!,59,FALSE),"") | AB43: =IFERROR(VLOOKUP(AB$9,#REF!,59,FALSE),"") | AC43: =IFERROR(VLOOKUP(AC$9,#REF!,59,FALSE),"") | AD43: =IFERROR(VLOOKUP(AD$9,#REF!,59,FALSE),"") | AE43: =IFERROR(VLOOKUP(AE$9,#REF!,59,FALSE),"") | AF43: =IFERROR(VLOOKUP(AF$9,#REF!,59,FALSE),"") | AG43: =IFERROR(VLOOKUP(AG$9,#REF!,59,FALSE),"") | ... AJ43: =IFERROR(VLOOKUP(AJ$9,#REF!,59,FALSE),"") | AK43: =IFERROR(VLOOKUP(ADA$9,#REF!,59,FALSE),"") | AL43: =IFERROR(VLOOKUP(AL$9,#REF!,59,FALSE),"") | AM43: =IFERROR(VLOOKUP(AM$9,#REF!,59,FALSE),"") | AN43: =IFERROR(VLOOKUP(AN$9,#REF!,59,FALSE),"") | AO43: =IFERROR(VLOOKUP(AO$9,#REF!,59,FALSE),"") | AP43: =IFERROR(VLOOKUP(AP$9,#REF!,59,FALSE),"") | AQ43: =#REF! -> #REF! | AS43: トリクロロ酢酸
...

Sheet 手入力
B1: 46143 | C1: 手入力タグ 1日のみ反映
B2: 地点名 | C2: 野入浄水場 | D2: 山の駅大野瀬 | E2: 小田木浄水場 | F2: 田津原公会堂 | G2: 押川浄水場 | H2: 川手消防詰所
A3: 採水年月日 | B3: 46143
B4: 46144
B5: 46145
B6: 46146
B7: 46147
B8: 46148
B9: 46149
B10: 46150
B11: 46151
B12: 46152
B13: 46153
B14: 46154
B15: 46155
... B33: 46173

Sheet cnt_野入
B1: 1 | C1: 2 | D1: 3 | E1: 5 | F1: 6 | G1: 7 | H1: 8 | I1: 13 | J1: 32 | K1: 33(30) | L1: 34 | M1: 35 | N1: 37(18) | O1: 1 | P1: 2 | Q1: 3 | R1: 4 | S1: 10 | T1: 12 | U1: 38 | V1: 21 | W1: 9 | X1: 11 | Y1: 36 | Z1: 39(17) | AA1: 14 | AB1: 15 | AC1: 16 | AD1: 17 | AE1: 18 | AF1: 19 | AG1: 20 | AH1: 23 | AI1: 25 | AJ1: 29 | AK1: 30 | AL1: 27 | AM1: 5 | AN1: 8 | AO1: 20 | AP1: 21 | AQ1: 29 | AR1: 22 | AS1: 24 | AT1: 28 | AU1: 26 | AV1: 31 | AW1: 40(24) | AX1: 41 | AY1: 43 | AZ1: 42 | BA1: 44 | BB1: 45 | BC1: 46 | BD1: 50 | BE1: 51(25) | BF1: 47（26） | BG1: 49 | BH1: 48 | BI1: 9 | BJ1: 13 | BK1: 14 | BL1: 32 | BM1: 19 | BN1: 33 | BO1: 27 | BP1: 22 | BQ1: 23 | BR1: 31 | BS1: 28 | BT1: 38 | BU1: 39 | BV1: 35 | BW1: 16 | CA1: 34
