Workbook

Sheet 月報
A2: 46054 | C2: 46143
C4: 地点名 | D4: 野入浄水場 | E4: 山の駅大野瀬 | F4: 小田木浄水場 | G4: 田津原公会堂 | H4: 押川浄水場 | I4: 川手消防詰所
C6: 住所 | D6: 野入町井ノ入14-2 | E6: 大野瀬町ヤシロジマ 25-16 | F6: 小田木町タカドヤ1-29 | G6: 田津原町松ケ下 19-1 | H6: 押山町上川入630-15 | I6: 川手町前田11
A7: Ｎｏ | B7: 試 験 項 目
A8: 測定項目 | C8: （ 単 位 ）
A9: 1 | B9: 採水年月日 | C9: --- | D9: 2026/05/18 | E9: 2026/05/18 | F9: 2026/05/18 | G9: 2026/05/18 | H9: 2026/05/18 | I9: 2026/05/18 | R9: =#REF! -> #REF! | S9: =#REF! -> #REF! | T9: =#REF! -> #REF! | U9: =#REF! -> #REF! | V9: =#REF! -> #REF! | W9: =#REF! -> #REF! | X9: =#REF! -> #REF! | Y9: =#REF! -> #REF! | ... AH9: =#REF! -> #REF! | AI9: 月報値
A10: 2 | B10: 採水時刻 | C10: --- | D10: 10:46 | E10: 10:31 | F10: 11:16 | G10: 09:29 | H10: 10:08 | I10: 09:53
A11: 3 | B11: 天候(前日) | C11: --- | D11: 晴 | E11: 晴 | F11: 晴 | G11: 晴 | H11: 晴 | I11: 晴
A12: 4 | B12: 天候(当日) | C12: --- | D12: 晴 | E12: 晴 | F12: 晴 | G12: 晴 | H12: 晴 | I12: 晴
A13: 5 | B13: 気温 | C13: ℃ | D13: 24 | E13: 23 | F13: 22.5 | G13: 28 | H13: 22 | I13: 25 | R13: =IFERROR(VLOOKUP(R$9,#REF!,2,FALSE),"") | S13: =IFERROR(VLOOKUP(S$9,#REF!,2,FALSE),"") | T13: =IFERROR(VLOOKUP(T$9,#REF!,2,FALSE),"") | U13: =IFERROR(VLOOKUP(U$9,#REF!,2,FALSE),"") | V13: =IFERROR(VLOOKUP(V$9,#REF!,2,FALSE),"") | W13: =IFERROR(VLOOKUP(W$9,#REF!,2,FALSE),"") | X13: =IFERROR(VLOOKUP(X$9,#REF!,2,FALSE),"") | Y13: =IFERROR(VLOOKUP(Y$9,#REF!,2,FALSE),"") | ... AB13: =IFERROR(VLOOKUP(AB$9,#REF!,2,FALSE),"") | AC13: =IFERROR(VLOOKUP(ACK$9,#REF!,2,FALSE),"") | AD13: =IFERROR(VLOOKUP(AD$9,#REF!,2,FALSE),"") | AE13: =IFERROR(VLOOKUP(AE$9,#REF!,2,FALSE),"") | AF13: =IFERROR(VLOOKUP(AF$9,#REF!,2,FALSE),"") | AG13: =IFERROR(VLOOKUP(AG$9,#REF!,2,FALSE),"") | AH13: =IFERROR(VLOOKUP(AH$9,#REF!,2,FALSE),"") | AI13: =#REF! -> #REF!
A14: 6 | B14: 水温 | C14: ℃ | D14: 13.4 | E14: 18 | F14: 14.8 | G14: 19.5 | H14: 13.6 | I14: 17.2 | R14: =IFERROR(VLOOKUP(R$9,#REF!,3,FALSE),"") | S14: =IFERROR(VLOOKUP(S$9,#REF!,3,FALSE),"") | T14: =IFERROR(VLOOKUP(T$9,#REF!,3,FALSE),"") | U14: =IFERROR(VLOOKUP(U$9,#REF!,3,FALSE),"") | V14: =IFERROR(VLOOKUP(V$9,#REF!,3,FALSE),"") | W14: =IFERROR(VLOOKUP(W$9,#REF!,3,FALSE),"") | X14: =IFERROR(VLOOKUP(X$9,#REF!,3,FALSE),"") | Y14: =IFERROR(VLOOKUP(Y$9,#REF!,3,FALSE),"") | ... AB14: =IFERROR(VLOOKUP(AB$9,#REF!,3,FALSE),"") | AC14: =IFERROR(VLOOKUP(ACK$9,#REF!,3,FALSE),"") | AD14: =IFERROR(VLOOKUP(AD$9,#REF!,3,FALSE),"") | AE14: =IFERROR(VLOOKUP(AE$9,#REF!,3,FALSE),"") | AF14: =IFERROR(VLOOKUP(AF$9,#REF!,3,FALSE),"") | AG14: =IFERROR(VLOOKUP(AG$9,#REF!,3,FALSE),"") | AH14: =IFERROR(VLOOKUP(AH$9,#REF!,3,FALSE),"") | AI14: =#REF! -> #REF!
A15: 水質基準項目 | C15: （ 単 位 ）
A16: 1 | B16: 一般細菌 | C16: 個/mL | D16: 0 | E16: 0 | F16: 0 | G16: 0 | H16: 0 | I16: 0 | R16: =IFERROR(VLOOKUP(R$9,#REF!,9,FALSE),"") | S16: =IFERROR(VLOOKUP(S$9,#REF!,9,FALSE),"") | T16: =IFERROR(VLOOKUP(T$9,#REF!,9,FALSE),"") | U16: =IFERROR(VLOOKUP(U$9,#REF!,9,FALSE),"") | V16: =IFERROR(VLOOKUP(V$9,#REF!,9,FALSE),"") | W16: =IFERROR(VLOOKUP(W$9,#REF!,9,FALSE),"") | X16: =IFERROR(VLOOKUP(X$9,#REF!,9,FALSE),"") | Y16: =IFERROR(VLOOKUP(Y$9,#REF!,9,FALSE),"") | ... AB16: =IFERROR(VLOOKUP(AB$9,#REF!,9,FALSE),"") | AC16: =IFERROR(VLOOKUP(ACK$9,#REF!,9,FALSE),"") | AD16: =IFERROR(VLOOKUP(AD$9,#REF!,9,FALSE),"") | AE16: =IFERROR(VLOOKUP(AE$9,#REF!,9,FALSE),"") | AF16: =IFERROR(VLOOKUP(AF$9,#REF!,9,FALSE),"") | AG16: =IFERROR(VLOOKUP(AG$9,#REF!,9,FALSE),"") | AH16: =IFERROR(VLOOKUP(AH$9,#REF!,9,FALSE),"") | AI16: =#REF! -> #REF!
A17: 2 | B17: 大腸菌 | C17: --- | D17: 不検出 | E17: 不検出 | F17: 不検出 | G17: 不検出 | H17: 不検出 | I17: 不検出 | R17: =IFERROR(VLOOKUP(R$9,#REF!,10,FALSE),"") | S17: =IFERROR(VLOOKUP(S$9,#REF!,10,FALSE),"") | T17: =IFERROR(VLOOKUP(T$9,#REF!,10,FALSE),"") | U17: =IFERROR(VLOOKUP(U$9,#REF!,10,FALSE),"") | V17: =IFERROR(VLOOKUP(V$9,#REF!,10,FALSE),"") | W17: =IFERROR(VLOOKUP(W$9,#REF!,10,FALSE),"") | X17: =IFERROR(VLOOKUP(X$9,#REF!,10,FALSE),"") | Y17: =IFERROR(VLOOKUP(Y$9,#REF!,10,FALSE),"") | ... AB17: =IFERROR(VLOOKUP(AB$9,#REF!,10,FALSE),"") | AC17: =IFERROR(VLOOKUP(ACK$9,#REF!,10,FALSE),"") | AD17: =IFERROR(VLOOKUP(AD$9,#REF!,10,FALSE),"") | AE17: =IFERROR(VLOOKUP(AE$9,#REF!,10,FALSE),"") | AF17: =IFERROR(VLOOKUP(AF$9,#REF!,10,FALSE),"") | AG17: =IFERROR(VLOOKUP(AG$9,#REF!,10,FALSE),"") | AH17: =IFERROR(VLOOKUP(AH$9,#REF!,10,FALSE),"")
A18: 3 | B18: カドミウム及びその化合物 | C18: ㎎/L | R18: =IFERROR(VLOOKUP(R$9,#REF!,12,FALSE),"") | S18: =IFERROR(VLOOKUP(S$9,#REF!,12,FALSE),"") | T18: =IFERROR(VLOOKUP(T$9,#REF!,12,FALSE),"") | U18: =IFERROR(VLOOKUP(U$9,#REF!,12,FALSE),"") | V18: =IFERROR(VLOOKUP(V$9,#REF!,12,FALSE),"") | W18: =IFERROR(VLOOKUP(W$9,#REF!,12,FALSE),"") | X18: =IFERROR(VLOOKUP(X$9,#REF!,12,FALSE),"") | Y18: =IFERROR(VLOOKUP(Y$9,#REF!,12,FALSE),"") | ... AB18: =IFERROR(VLOOKUP(AB$9,#REF!,12,FALSE),"") | AC18: =IFERROR(VLOOKUP(ACK$9,#REF!,12,FALSE),"") | AD18: =IFERROR(VLOOKUP(AD$9,#REF!,12,FALSE),"") | AE18: =IFERROR(VLOOKUP(AE$9,#REF!,12,FALSE),"") | AF18: =IFERROR(VLOOKUP(AF$9,#REF!,12,FALSE),"") | AG18: =IFERROR(VLOOKUP(AG$9,#REF!,12,FALSE),"") | AH18: =IFERROR(VLOOKUP(AH$9,#REF!,12,FALSE),"") | AI18: =#REF! -> #REF!
A19: 4 | B19: 水銀及びその化合物 | C19: ㎎/L | R19: =IFERROR(VLOOKUP(R$9,#REF!,25,FALSE),"") | S19: =IFERROR(VLOOKUP(S$9,#REF!,25,FALSE),"") | T19: =IFERROR(VLOOKUP(T$9,#REF!,25,FALSE),"") | U19: =IFERROR(VLOOKUP(U$9,#REF!,25,FALSE),"") | V19: =IFERROR(VLOOKUP(V$9,#REF!,25,FALSE),"") | W19: =IFERROR(VLOOKUP(W$9,#REF!,25,FALSE),"") | X19: =IFERROR(VLOOKUP(X$9,#REF!,25,FALSE),"") | Y19: =IFERROR(VLOOKUP(Y$9,#REF!,25,FALSE),"") | ... AB19: =IFERROR(VLOOKUP(AB$9,#REF!,25,FALSE),"") | AC19: =IFERROR(VLOOKUP(ACK$9,#REF!,25,FALSE),"") | AD19: =IFERROR(VLOOKUP(AD$9,#REF!,25,FALSE),"") | AE19: =IFERROR(VLOOKUP(AE$9,#REF!,25,FALSE),"") | AF19: =IFERROR(VLOOKUP(AF$9,#REF!,25,FALSE),"") | AG19: =IFERROR(VLOOKUP(AG$9,#REF!,25,FALSE),"") | AH19: =IFERROR(VLOOKUP(AH$9,#REF!,25,FALSE),"") | AI19: =#REF! -> #REF!
A20: 5 | B20: セレン及びその化合物 | C20: ㎎/L | R20: =IFERROR(VLOOKUP(R$9,#REF!,13,FALSE),"") | S20: =IFERROR(VLOOKUP(S$9,#REF!,13,FALSE),"") | T20: =IFERROR(VLOOKUP(T$9,#REF!,13,FALSE),"") | U20: =IFERROR(VLOOKUP(U$9,#REF!,13,FALSE),"") | V20: =IFERROR(VLOOKUP(V$9,#REF!,13,FALSE),"") | W20: =IFERROR(VLOOKUP(W$9,#REF!,13,FALSE),"") | X20: =IFERROR(VLOOKUP(X$9,#REF!,13,FALSE),"") | Y20: =IFERROR(VLOOKUP(Y$9,#REF!,13,FALSE),"") | ... AB20: =IFERROR(VLOOKUP(AB$9,#REF!,13,FALSE),"") | AC20: =IFERROR(VLOOKUP(ACK$9,#REF!,13,FALSE),"") | AD20: =IFERROR(VLOOKUP(AD$9,#REF!,13,FALSE),"") | AE20: =IFERROR(VLOOKUP(AE$9,#REF!,13,FALSE),"") | AF20: =IFERROR(VLOOKUP(AF$9,#REF!,13,FALSE),"") | AG20: =IFERROR(VLOOKUP(AG$9,#REF!,13,FALSE),"") | AH20: =IFERROR(VLOOKUP(AH$9,#REF!,13,FALSE),"") | AI20: =#REF! -> #REF!
A21: 6 | B21: 鉛及びその化合物 | C21: ㎎/L | R21: =IFERROR(VLOOKUP(R$9,#REF!,14,FALSE),"") | S21: =IFERROR(VLOOKUP(S$9,#REF!,14,FALSE),"") | T21: =IFERROR(VLOOKUP(T$9,#REF!,14,FALSE),"") | U21: =IFERROR(VLOOKUP(U$9,#REF!,14,FALSE),"") | V21: =IFERROR(VLOOKUP(V$9,#REF!,14,FALSE),"") | W21: =IFERROR(VLOOKUP(W$9,#REF!,14,FALSE),"") | X21: =IFERROR(VLOOKUP(X$9,#REF!,14,FALSE),"") | Y21: =IFERROR(VLOOKUP(Y$9,#REF!,14,FALSE),"") | ... AB21: =IFERROR(VLOOKUP(AB$9,#REF!,14,FALSE),"") | AC21: =IFERROR(VLOOKUP(ACK$9,#REF!,14,FALSE),"") | AD21: =IFERROR(VLOOKUP(AD$9,#REF!,14,FALSE),"") | AE21: =IFERROR(VLOOKUP(AE$9,#REF!,14,FALSE),"") | AF21: =IFERROR(VLOOKUP(AF$9,#REF!,14,FALSE),"") | AG21: =IFERROR(VLOOKUP(AG$9,#REF!,14,FALSE),"") | AH21: =IFERROR(VLOOKUP(AH$9,#REF!,14,FALSE),"") | AI21: =#REF! -> #REF!
A22: 7 | B22: ヒ素及びその化合物 | C22: ㎎/L | R22: =IFERROR(VLOOKUP(R$9,#REF!,15,FALSE),"") | S22: =IFERROR(VLOOKUP(S$9,#REF!,15,FALSE),"") | T22: =IFERROR(VLOOKUP(T$9,#REF!,15,FALSE),"") | U22: =IFERROR(VLOOKUP(U$9,#REF!,15,FALSE),"") | V22: =IFERROR(VLOOKUP(V$9,#REF!,15,FALSE),"") | W22: =IFERROR(VLOOKUP(W$9,#REF!,15,FALSE),"") | X22: =IFERROR(VLOOKUP(X$9,#REF!,15,FALSE),"") | Y22: =IFERROR(VLOOKUP(Y$9,#REF!,15,FALSE),"") | ... AB22: =IFERROR(VLOOKUP(AB$9,#REF!,15,FALSE),"") | AC22: =IFERROR(VLOOKUP(ACK$9,#REF!,15,FALSE),"") | AD22: =IFERROR(VLOOKUP(AD$9,#REF!,15,FALSE),"") | AE22: =IFERROR(VLOOKUP(AE$9,#REF!,15,FALSE),"") | AF22: =IFERROR(VLOOKUP(AF$9,#REF!,15,FALSE),"") | AG22: =IFERROR(VLOOKUP(AG$9,#REF!,15,FALSE),"") | AH22: =IFERROR(VLOOKUP(AH$9,#REF!,15,FALSE),"") | AI22: =#REF! -> #REF!
A23: 8 | B23: 六価クロム化合物 | C23: ㎎/L | R23: =IFERROR(VLOOKUP(R$9,#REF!,16,FALSE),"") | S23: =IFERROR(VLOOKUP(S$9,#REF!,16,FALSE),"") | T23: =IFERROR(VLOOKUP(T$9,#REF!,16,FALSE),"") | U23: =IFERROR(VLOOKUP(U$9,#REF!,16,FALSE),"") | V23: =IFERROR(VLOOKUP(V$9,#REF!,16,FALSE),"") | W23: =IFERROR(VLOOKUP(W$9,#REF!,16,FALSE),"") | X23: =IFERROR(VLOOKUP(X$9,#REF!,16,FALSE),"") | Y23: =IFERROR(VLOOKUP(Y$9,#REF!,16,FALSE),"") | ... AB23: =IFERROR(VLOOKUP(AB$9,#REF!,16,FALSE),"") | AC23: =IFERROR(VLOOKUP(ACK$9,#REF!,16,FALSE),"") | AD23: =IFERROR(VLOOKUP(AD$9,#REF!,16,FALSE),"") | AE23: =IFERROR(VLOOKUP(AE$9,#REF!,16,FALSE),"") | AF23: =IFERROR(VLOOKUP(AF$9,#REF!,16,FALSE),"") | AG23: =IFERROR(VLOOKUP(AG$9,#REF!,16,FALSE),"") | AH23: =IFERROR(VLOOKUP(AH$9,#REF!,16,FALSE),"") | AI23: =#REF! -> #REF!
A24: 9 | B24: 亜硝酸態窒素 | C24: ㎎/L | D24: 0.004未満 | E24: 0.004未満 | F24: 0.004未満 | G24: 0.004未満 | H24: 0.004未満 | I24: 0.004未満 | R24: =IFERROR(VLOOKUP(R$9,#REF!,34,FALSE),"") | S24: =IFERROR(VLOOKUP(S$9,#REF!,34,FALSE),"") | T24: =IFERROR(VLOOKUP(T$9,#REF!,34,FALSE),"") | U24: =IFERROR(VLOOKUP(U$9,#REF!,34,FALSE),"") | V24: =IFERROR(VLOOKUP(V$9,#REF!,34,FALSE),"") | W24: =IFERROR(VLOOKUP(W$9,#REF!,34,FALSE),"") | X24: =IFERROR(VLOOKUP(X$9,#REF!,34,FALSE),"") | Y24: =IFERROR(VLOOKUP(Y$9,#REF!,34,FALSE),"") | ... AB24: =IFERROR(VLOOKUP(AB$9,#REF!,34,FALSE),"") | AC24: =IFERROR(VLOOKUP(ACK$9,#REF!,34,FALSE),"") | AD24: =IFERROR(VLOOKUP(AD$9,#REF!,34,FALSE),"") | AE24: =IFERROR(VLOOKUP(AE$9,#REF!,34,FALSE),"") | AF24: =IFERROR(VLOOKUP(AF$9,#REF!,34,FALSE),"") | AG24: =IFERROR(VLOOKUP(AG$9,#REF!,34,FALSE),"") | AH24: =IFERROR(VLOOKUP(AH$9,#REF!,34,FALSE),"") | AI24: =#REF! -> #REF!
A25: 10 | B25: シアン化物イオン及び塩化シアン | C25: ㎎/L | R25: =IFERROR(VLOOKUP(R$9,#REF!,29,FALSE),"") | S25: =IFERROR(VLOOKUP(S$9,#REF!,29,FALSE),"") | T25: =IFERROR(VLOOKUP(T$9,#REF!,29,FALSE),"") | U25: =IFERROR(VLOOKUP(U$9,#REF!,29,FALSE),"") | V25: =IFERROR(VLOOKUP(V$9,#REF!,29,FALSE),"") | W25: =IFERROR(VLOOKUP(W$9,#REF!,29,FALSE),"") | X25: =IFERROR(VLOOKUP(X$9,#REF!,29,FALSE),"") | Y25: =IFERROR(VLOOKUP(Y$9,#REF!,29,FALSE),"") | ... AB25: =IFERROR(VLOOKUP(AB$9,#REF!,29,FALSE),"") | AC25: =IFERROR(VLOOKUP(ACK$9,#REF!,29,FALSE),"") | AD25: =IFERROR(VLOOKUP(AD$9,#REF!,29,FALSE),"") | AE25: =IFERROR(VLOOKUP(AE$9,#REF!,29,FALSE),"") | AF25: =IFERROR(VLOOKUP(AF$9,#REF!,29,FALSE),"") | AG25: =IFERROR(VLOOKUP(AG$9,#REF!,29,FALSE),"") | AH25: =IFERROR(VLOOKUP(AH$9,#REF!,29,FALSE),"") | AI25: =#REF! -> #REF!
A26: 11 | B26: 硝酸態窒素及び亜硝酸態窒素 | C26: ㎎/L | D26: 0.11 | E26: 0.11 | F26: 0.19 | G26: 0.19 | H26: 0.43 | I26: 0.44 | R26: =IFERROR(VLOOKUP(R$9,#REF!,36,FALSE),"") | S26: =IFERROR(VLOOKUP(S$9,#REF!,36,FALSE),"") | T26: =IFERROR(VLOOKUP(T$9,#REF!,36,FALSE),"") | U26: =IFERROR(VLOOKUP(U$9,#REF!,36,FALSE),"") | V26: =IFERROR(VLOOKUP(V$9,#REF!,36,FALSE),"") | W26: =IFERROR(VLOOKUP(W$9,#REF!,36,FALSE),"") | X26: =IFERROR(VLOOKUP(X$9,#REF!,36,FALSE),"") | Y26: =IFERROR(VLOOKUP(Y$9,#REF!,36,FALSE),"") | ... AB26: =IFERROR(VLOOKUP(AB$9,#REF!,36,FALSE),"") | AC26: =IFERROR(VLOOKUP(ACK$9,#REF!,36,FALSE),"") | AD26: =IFERROR(VLOOKUP(AD$9,#REF!,36,FALSE),"") | AE26: =IFERROR(VLOOKUP(AE$9,#REF!,36,FALSE),"") | AF26: =IFERROR(VLOOKUP(AF$9,#REF!,36,FALSE),"") | AG26: =IFERROR(VLOOKUP(AG$9,#REF!,36,FALSE),"") | AH26: =IFERROR(VLOOKUP(AH$9,#REF!,36,FALSE),"") | AI26: =#REF! -> #REF!
A27: 12 | B27: フッ素及びその化合物 | C27: ㎎/L | D27: 0.05未満 | E27: 0.05未満 | F27: 0.05未満 | G27: 0.05未満 | H27: 0.05未満 | I27: 0.05未満 | R27: =IFERROR(VLOOKUP(R$9,#REF!,31,FALSE),"") | S27: =IFERROR(VLOOKUP(S$9,#REF!,31,FALSE),"") | T27: =IFERROR(VLOOKUP(T$9,#REF!,31,FALSE),"") | U27: =IFERROR(VLOOKUP(U$9,#REF!,31,FALSE),"") | V27: =IFERROR(VLOOKUP(V$9,#REF!,31,FALSE),"") | W27: =IFERROR(VLOOKUP(W$9,#REF!,31,FALSE),"") | X27: =IFERROR(VLOOKUP(X$9,#REF!,31,FALSE),"") | Y27: =IFERROR(VLOOKUP(Y$9,#REF!,31,FALSE),"") | ... AB27: =IFERROR(VLOOKUP(AB$9,#REF!,31,FALSE),"") | AC27: =IFERROR(VLOOKUP(ACK$9,#REF!,31,FALSE),"") | AD27: =IFERROR(VLOOKUP(AD$9,#REF!,31,FALSE),"") | AE27: =IFERROR(VLOOKUP(AE$9,#REF!,31,FALSE),"") | AF27: =IFERROR(VLOOKUP(AF$9,#REF!,31,FALSE),"") | AG27: =IFERROR(VLOOKUP(AG$9,#REF!,31,FALSE),"") | AH27: =IFERROR(VLOOKUP(AH$9,#REF!,31,FALSE),"") | AI27: =#REF! -> #REF!
A28: 13 | B28: ホウ素及びその化合物 | C28: ㎎/L | R28: =IFERROR(VLOOKUP(R$9,#REF!,17,FALSE),"") | S28: =IFERROR(VLOOKUP(S$9,#REF!,17,FALSE),"") | T28: =IFERROR(VLOOKUP(T$9,#REF!,17,FALSE),"") | U28: =IFERROR(VLOOKUP(U$9,#REF!,17,FALSE),"") | V28: =IFERROR(VLOOKUP(V$9,#REF!,17,FALSE),"") | W28: =IFERROR(VLOOKUP(W$9,#REF!,17,FALSE),"") | X28: =IFERROR(VLOOKUP(X$9,#REF!,17,FALSE),"") | Y28: =IFERROR(VLOOKUP(Y$9,#REF!,17,FALSE),"") | ... AB28: =IFERROR(VLOOKUP(AB$9,#REF!,17,FALSE),"") | AC28: =IFERROR(VLOOKUP(ACK$9,#REF!,17,FALSE),"") | AD28: =IFERROR(VLOOKUP(AD$9,#REF!,17,FALSE),"") | AE28: =IFERROR(VLOOKUP(AE$9,#REF!,17,FALSE),"") | AF28: =IFERROR(VLOOKUP(AF$9,#REF!,17,FALSE),"") | AG28: =IFERROR(VLOOKUP(AG$9,#REF!,17,FALSE),"") | AH28: =IFERROR(VLOOKUP(AH$9,#REF!,17,FALSE),"") | AI28: =#REF! -> #REF!
A29: 14 | B29: 四塩化炭素 | C29: ㎎/L | R29: =IFERROR(VLOOKUP(R$9,#REF!,42,FALSE),"") | S29: =IFERROR(VLOOKUP(S$9,#REF!,42,FALSE),"") | T29: =IFERROR(VLOOKUP(T$9,#REF!,42,FALSE),"") | U29: =IFERROR(VLOOKUP(U$9,#REF!,42,FALSE),"") | V29: =IFERROR(VLOOKUP(V$9,#REF!,42,FALSE),"") | W29: =IFERROR(VLOOKUP(W$9,#REF!,42,FALSE),"") | X29: =IFERROR(VLOOKUP(X$9,#REF!,42,FALSE),"") | Y29: =IFERROR(VLOOKUP(Y$9,#REF!,42,FALSE),"") | ... AB29: =IFERROR(VLOOKUP(AB$9,#REF!,42,FALSE),"") | AC29: =IFERROR(VLOOKUP(ACK$9,#REF!,42,FALSE),"") | AD29: =IFERROR(VLOOKUP(AD$9,#REF!,42,FALSE),"") | AE29: =IFERROR(VLOOKUP(AE$9,#REF!,42,FALSE),"") | AF29: =IFERROR(VLOOKUP(AF$9,#REF!,42,FALSE),"") | AG29: =IFERROR(VLOOKUP(AG$9,#REF!,42,FALSE),"") | AH29: =IFERROR(VLOOKUP(AH$9,#REF!,42,FALSE),"") | AI29: =#REF! -> #REF!
A30: 15 | B30: １,４-ジオキサン | C30: ㎎/L | R30: =IFERROR(VLOOKUP(R$9,#REF!,43,FALSE),"") | S30: =IFERROR(VLOOKUP(S$9,#REF!,43,FALSE),"") | T30: =IFERROR(VLOOKUP(T$9,#REF!,43,FALSE),"") | U30: =IFERROR(VLOOKUP(U$9,#REF!,43,FALSE),"") | V30: =IFERROR(VLOOKUP(V$9,#REF!,43,FALSE),"") | W30: =IFERROR(VLOOKUP(W$9,#REF!,43,FALSE),"") | X30: =IFERROR(VLOOKUP(X$9,#REF!,43,FALSE),"") | Y30: =IFERROR(VLOOKUP(Y$9,#REF!,43,FALSE),"") | ... AB30: =IFERROR(VLOOKUP(AB$9,#REF!,43,FALSE),"") | AC30: =IFERROR(VLOOKUP(ACK$9,#REF!,43,FALSE),"") | AD30: =IFERROR(VLOOKUP(AD$9,#REF!,43,FALSE),"") | AE30: =IFERROR(VLOOKUP(AE$9,#REF!,43,FALSE),"") | AF30: =IFERROR(VLOOKUP(AF$9,#REF!,43,FALSE),"") | AG30: =IFERROR(VLOOKUP(AG$9,#REF!,43,FALSE),"") | AH30: =IFERROR(VLOOKUP(AH$9,#REF!,43,FALSE),"") | AI30: =#REF! -> #REF!
A31: 16 | B31: シス及びトランス-１,２-ジクロロエチレン | C31: ㎎/L | R31: =IFERROR(VLOOKUP(R$9,#REF!,46,FALSE),"") | S31: =IFERROR(VLOOKUP(S$9,#REF!,46,FALSE),"") | T31: =IFERROR(VLOOKUP(T$9,#REF!,46,FALSE),"") | U31: =IFERROR(VLOOKUP(U$9,#REF!,46,FALSE),"") | V31: =IFERROR(VLOOKUP(V$9,#REF!,46,FALSE),"") | W31: =IFERROR(VLOOKUP(W$9,#REF!,46,FALSE),"") | X31: =IFERROR(VLOOKUP(X$9,#REF!,46,FALSE),"") | Y31: =IFERROR(VLOOKUP(Y$9,#REF!,46,FALSE),"") | ... AB31: =IFERROR(VLOOKUP(AB$9,#REF!,46,FALSE),"") | AC31: =IFERROR(VLOOKUP(ACK$9,#REF!,46,FALSE),"") | AD31: =IFERROR(VLOOKUP(AD$9,#REF!,46,FALSE),"") | AE31: =IFERROR(VLOOKUP(AE$9,#REF!,46,FALSE),"") | AF31: =IFERROR(VLOOKUP(AF$9,#REF!,46,FALSE),"") | AG31: =IFERROR(VLOOKUP(AG$9,#REF!,46,FALSE),"") | AH31: =IFERROR(VLOOKUP(AH$9,#REF!,46,FALSE),"") | AI31: =#REF! -> #REF!
A32: 17 | B32: ジクロロメタン | C32: ㎎/L | R32: =IFERROR(VLOOKUP(R$9,#REF!,47,FALSE),"") | S32: =IFERROR(VLOOKUP(S$9,#REF!,47,FALSE),"") | T32: =IFERROR(VLOOKUP(T$9,#REF!,47,FALSE),"") | U32: =IFERROR(VLOOKUP(U$9,#REF!,47,FALSE),"") | V32: =IFERROR(VLOOKUP(V$9,#REF!,47,FALSE),"") | W32: =IFERROR(VLOOKUP(W$9,#REF!,47,FALSE),"") | X32: =IFERROR(VLOOKUP(X$9,#REF!,47,FALSE),"") | Y32: =IFERROR(VLOOKUP(Y$9,#REF!,47,FALSE),"") | ... AB32: =IFERROR(VLOOKUP(AB$9,#REF!,47,FALSE),"") | AC32: =IFERROR(VLOOKUP(ACK$9,#REF!,47,FALSE),"") | AD32: =IFERROR(VLOOKUP(AD$9,#REF!,47,FALSE),"") | AE32: =IFERROR(VLOOKUP(AE$9,#REF!,47,FALSE),"") | AF32: =IFERROR(VLOOKUP(AF$9,#REF!,47,FALSE),"") | AG32: =IFERROR(VLOOKUP(AG$9,#REF!,47,FALSE),"") | AH32: =IFERROR(VLOOKUP(AH$9,#REF!,47,FALSE),"") | AI32: =#REF! -> #REF!
A33: 18 | B33: テトラクロロエチレン | C33: ㎎/L | R33: =IFERROR(VLOOKUP(R$9,#REF!,48,FALSE),"") | S33: =IFERROR(VLOOKUP(S$9,#REF!,48,FALSE),"") | T33: =IFERROR(VLOOKUP(T$9,#REF!,48,FALSE),"") | U33: =IFERROR(VLOOKUP(U$9,#REF!,48,FALSE),"") | V33: =IFERROR(VLOOKUP(V$9,#REF!,48,FALSE),"") | W33: =IFERROR(VLOOKUP(W$9,#REF!,48,FALSE),"") | X33: =IFERROR(VLOOKUP(X$9,#REF!,48,FALSE),"") | Y33: =IFERROR(VLOOKUP(Y$9,#REF!,48,FALSE),"") | ... AB33: =IFERROR(VLOOKUP(AB$9,#REF!,48,FALSE),"") | AC33: =IFERROR(VLOOKUP(ACK$9,#REF!,48,FALSE),"") | AD33: =IFERROR(VLOOKUP(AD$9,#REF!,48,FALSE),"") | AE33: =IFERROR(VLOOKUP(AE$9,#REF!,48,FALSE),"") | AF33: =IFERROR(VLOOKUP(AF$9,#REF!,48,FALSE),"") | AG33: =IFERROR(VLOOKUP(AG$9,#REF!,48,FALSE),"") | AH33: =IFERROR(VLOOKUP(AH$9,#REF!,48,FALSE),"") | AI33: =#REF! -> #REF!
A34: 19 | B34: トリクロロエチレン | C34: ㎎/L | R34: =IFERROR(VLOOKUP(R$9,#REF!,49,FALSE),"") | S34: =IFERROR(VLOOKUP(S$9,#REF!,49,FALSE),"") | T34: =IFERROR(VLOOKUP(T$9,#REF!,49,FALSE),"") | U34: =IFERROR(VLOOKUP(U$9,#REF!,49,FALSE),"") | V34: =IFERROR(VLOOKUP(V$9,#REF!,49,FALSE),"") | W34: =IFERROR(VLOOKUP(W$9,#REF!,49,FALSE),"") | X34: =IFERROR(VLOOKUP(X$9,#REF!,49,FALSE),"") | Y34: =IFERROR(VLOOKUP(Y$9,#REF!,49,FALSE),"") | ... AB34: =IFERROR(VLOOKUP(AB$9,#REF!,49,FALSE),"") | AC34: =IFERROR(VLOOKUP(ACK$9,#REF!,49,FALSE),"") | AD34: =IFERROR(VLOOKUP(AD$9,#REF!,49,FALSE),"") | AE34: =IFERROR(VLOOKUP(AE$9,#REF!,49,FALSE),"") | AF34: =IFERROR(VLOOKUP(AF$9,#REF!,49,FALSE),"") | AG34: =IFERROR(VLOOKUP(AG$9,#REF!,49,FALSE),"") | AH34: =IFERROR(VLOOKUP(AH$9,#REF!,49,FALSE),"") | AI34: =#REF! -> #REF!
A35: 20 | B35: PFOS及びPFOA | C35: ㎎/L
A36: 21 | B36: ベンゼン | C36: ㎎/L | R36: =IFERROR(VLOOKUP(R$9,#REF!,50,FALSE),"") | S36: =IFERROR(VLOOKUP(S$9,#REF!,50,FALSE),"") | T36: =IFERROR(VLOOKUP(T$9,#REF!,50,FALSE),"") | U36: =IFERROR(VLOOKUP(U$9,#REF!,50,FALSE),"") | V36: =IFERROR(VLOOKUP(V$9,#REF!,50,FALSE),"") | W36: =IFERROR(VLOOKUP(W$9,#REF!,50,FALSE),"") | X36: =IFERROR(VLOOKUP(X$9,#REF!,50,FALSE),"") | Y36: =IFERROR(VLOOKUP(Y$9,#REF!,50,FALSE),"") | ... AB36: =IFERROR(VLOOKUP(AB$9,#REF!,50,FALSE),"") | AC36: =IFERROR(VLOOKUP(ACK$9,#REF!,50,FALSE),"") | AD36: =IFERROR(VLOOKUP(AD$9,#REF!,50,FALSE),"") | AE36: =IFERROR(VLOOKUP(AE$9,#REF!,50,FALSE),"") | AF36: =IFERROR(VLOOKUP(AF$9,#REF!,50,FALSE),"") | AG36: =IFERROR(VLOOKUP(AG$9,#REF!,50,FALSE),"") | AH36: =IFERROR(VLOOKUP(AH$9,#REF!,50,FALSE),"") | AI36: =#REF! -> #REF!
A37: 22 | B37: 塩素酸 | C37: ㎎/L | D37: 0.05未満 | E37: 0.05未満 | F37: 0.05未満 | G37: 0.05 | H37: 0.05未満 | I37: 0.05未満 | R37: =IFERROR(VLOOKUP(R$9,#REF!,33,FALSE),"") | S37: =IFERROR(VLOOKUP(S$9,#REF!,33,FALSE),"") | T37: =IFERROR(VLOOKUP(T$9,#REF!,33,FALSE),"") | U37: =IFERROR(VLOOKUP(U$9,#REF!,33,FALSE),"") | V37: =IFERROR(VLOOKUP(V$9,#REF!,33,FALSE),"") | W37: =IFERROR(VLOOKUP(W$9,#REF!,33,FALSE),"") | X37: =IFERROR(VLOOKUP(X$9,#REF!,33,FALSE),"") | Y37: =IFERROR(VLOOKUP(Y$9,#REF!,33,FALSE),"") | ... AB37: =IFERROR(VLOOKUP(AB$9,#REF!,33,FALSE),"") | AC37: =IFERROR(VLOOKUP(ACK$9,#REF!,33,FALSE),"") | AD37: =IFERROR(VLOOKUP(AD$9,#REF!,33,FALSE),"") | AE37: =IFERROR(VLOOKUP(AE$9,#REF!,33,FALSE),"") | AF37: =IFERROR(VLOOKUP(AF$9,#REF!,33,FALSE),"") | AG37: =IFERROR(VLOOKUP(AG$9,#REF!,33,FALSE),"") | AH37: =IFERROR(VLOOKUP(AH$9,#REF!,33,FALSE),"") | AI37: =#REF! -> #REF!
A38: 23 | B38: クロロ酢酸 | C38: ㎎/L | D38: 0.002未満 | E38: 0.002未満 | F38: 0.002未満 | G38: 0.002未満 | H38: 0.002未満 | I38: 0.002未満 | R38: =IFERROR(VLOOKUP(R$9,#REF!,57,FALSE),"") | S38: =IFERROR(VLOOKUP(S$9,#REF!,57,FALSE),"") | T38: =IFERROR(VLOOKUP(T$9,#REF!,57,FALSE),"") | U38: =IFERROR(VLOOKUP(U$9,#REF!,57,FALSE),"") | V38: =IFERROR(VLOOKUP(V$9,#REF!,57,FALSE),"") | W38: =IFERROR(VLOOKUP(W$9,#REF!,57,FALSE),"") | X38: =IFERROR(VLOOKUP(X$9,#REF!,57,FALSE),"") | Y38: =IFERROR(VLOOKUP(Y$9,#REF!,57,FALSE),"") | ... AB38: =IFERROR(VLOOKUP(AB$9,#REF!,57,FALSE),"") | AC38: =IFERROR(VLOOKUP(ACK$9,#REF!,57,FALSE),"") | AD38: =IFERROR(VLOOKUP(AD$9,#REF!,57,FALSE),"") | AE38: =IFERROR(VLOOKUP(AE$9,#REF!,57,FALSE),"") | AF38: =IFERROR(VLOOKUP(AF$9,#REF!,57,FALSE),"") | AG38: =IFERROR(VLOOKUP(AG$9,#REF!,57,FALSE),"") | AH38: =IFERROR(VLOOKUP(AH$9,#REF!,57,FALSE),"") | AI38: =#REF! -> #REF!
A39: 24 | B39: クロロホルム | C39: ㎎/L | R39: =IFERROR(VLOOKUP(R$9,#REF!,51,FALSE),"") | S39: =IFERROR(VLOOKUP(S$9,#REF!,51,FALSE),"") | T39: =IFERROR(VLOOKUP(T$9,#REF!,51,FALSE),"") | U39: =IFERROR(VLOOKUP(U$9,#REF!,51,FALSE),"") | V39: =IFERROR(VLOOKUP(V$9,#REF!,51,FALSE),"") | W39: =IFERROR(VLOOKUP(W$9,#REF!,51,FALSE),"") | X39: =IFERROR(VLOOKUP(X$9,#REF!,51,FALSE),"") | Y39: =IFERROR(VLOOKUP(Y$9,#REF!,51,FALSE),"") | ... AB39: =IFERROR(VLOOKUP(AB$9,#REF!,51,FALSE),"") | AC39: =IFERROR(VLOOKUP(ACK$9,#REF!,51,FALSE),"") | AD39: =IFERROR(VLOOKUP(AD$9,#REF!,51,FALSE),"") | AE39: =IFERROR(VLOOKUP(AE$9,#REF!,51,FALSE),"") | AF39: =IFERROR(VLOOKUP(AF$9,#REF!,51,FALSE),"") | AG39: =IFERROR(VLOOKUP(AG$9,#REF!,51,FALSE),"") | AH39: =IFERROR(VLOOKUP(AH$9,#REF!,51,FALSE),"") | AI39: =#REF! -> #REF!
A40: 25 | B40: ジクロロ酢酸 | C40: ㎎/L | D40: 0.002未満 | E40: 0.002 | F40: 0.002未満 | G40: 0.012 | H40: 0.002未満 | I40: 0.002未満 | R40: =IFERROR(VLOOKUP(R$9,#REF!,58,FALSE),"") | S40: =IFERROR(VLOOKUP(S$9,#REF!,58,FALSE),"") | T40: =IFERROR(VLOOKUP(T$9,#REF!,58,FALSE),"") | U40: =IFERROR(VLOOKUP(U$9,#REF!,58,FALSE),"") | V40: =IFERROR(VLOOKUP(V$9,#REF!,58,FALSE),"") | W40: =IFERROR(VLOOKUP(W$9,#REF!,58,FALSE),"") | X40: =IFERROR(VLOOKUP(X$9,#REF!,58,FALSE),"") | Y40: =IFERROR(VLOOKUP(Y$9,#REF!,58,FALSE),"") | ... AB40: =IFERROR(VLOOKUP(AB$9,#REF!,58,FALSE),"") | AC40: =IFERROR(VLOOKUP(ACK$9,#REF!,58,FALSE),"") | AD40: =IFERROR(VLOOKUP(AD$9,#REF!,58,FALSE),"") | AE40: =IFERROR(VLOOKUP(AE$9,#REF!,58,FALSE),"") | AF40: =IFERROR(VLOOKUP(AF$9,#REF!,58,FALSE),"") | AG40: =IFERROR(VLOOKUP(AG$9,#REF!,58,FALSE),"") | AH40: =IFERROR(VLOOKUP(AH$9,#REF!,58,FALSE),"") | AI40: =#REF! -> #REF!
A41: 26 | B41: ジブロモクロロメタン | C41: ㎎/L | R41: =IFERROR(VLOOKUP(R$9,#REF!,52,FALSE),"") | S41: =IFERROR(VLOOKUP(S$9,#REF!,52,FALSE),"") | T41: =IFERROR(VLOOKUP(T$9,#REF!,52,FALSE),"") | U41: =IFERROR(VLOOKUP(U$9,#REF!,52,FALSE),"") | V41: =IFERROR(VLOOKUP(V$9,#REF!,52,FALSE),"") | W41: =IFERROR(VLOOKUP(W$9,#REF!,52,FALSE),"") | X41: =IFERROR(VLOOKUP(X$9,#REF!,52,FALSE),"") | Y41: =IFERROR(VLOOKUP(Y$9,#REF!,52,FALSE),"") | ... AB41: =IFERROR(VLOOKUP(AB$9,#REF!,52,FALSE),"") | AC41: =IFERROR(VLOOKUP(ACK$9,#REF!,52,FALSE),"") | AD41: =IFERROR(VLOOKUP(AD$9,#REF!,52,FALSE),"") | AE41: =IFERROR(VLOOKUP(AE$9,#REF!,52,FALSE),"") | AF41: =IFERROR(VLOOKUP(AF$9,#REF!,52,FALSE),"") | AG41: =IFERROR(VLOOKUP(AG$9,#REF!,52,FALSE),"") | AH41: =IFERROR(VLOOKUP(AH$9,#REF!,52,FALSE),"") | AI41: =#REF! -> #REF!
A42: 27 | B42: 臭素酸 | C42: ㎎/L | R42: =IFERROR(VLOOKUP(R$9,#REF!,62,FALSE),"") | S42: =IFERROR(VLOOKUP(S$9,#REF!,62,FALSE),"") | T42: =IFERROR(VLOOKUP(T$9,#REF!,62,FALSE),"") | U42: =IFERROR(VLOOKUP(U$9,#REF!,62,FALSE),"") | V42: =IFERROR(VLOOKUP(V$9,#REF!,62,FALSE),"") | W42: =IFERROR(VLOOKUP(W$9,#REF!,62,FALSE),"") | X42: =IFERROR(VLOOKUP(X$9,#REF!,62,FALSE),"") | Y42: =IFERROR(VLOOKUP(Y$9,#REF!,62,FALSE),"") | ... AB42: =IFERROR(VLOOKUP(AB$9,#REF!,62,FALSE),"") | AC42: =IFERROR(VLOOKUP(ACK$9,#REF!,62,FALSE),"") | AD42: =IFERROR(VLOOKUP(AD$9,#REF!,62,FALSE),"") | AE42: =IFERROR(VLOOKUP(AE$9,#REF!,62,FALSE),"") | AF42: =IFERROR(VLOOKUP(AF$9,#REF!,62,FALSE),"") | AG42: =IFERROR(VLOOKUP(AG$9,#REF!,62,FALSE),"") | AH42: =IFERROR(VLOOKUP(AH$9,#REF!,62,FALSE),"") | AI42: =#REF! -> #REF!
A43: 28 | B43: 総トリハロメタン | C43: ㎎/L | R43: =IFERROR(VLOOKUP(R$9,#REF!,55,FALSE),"") | S43: =IFERROR(VLOOKUP(S$9,#REF!,55,FALSE),"") | T43: =IFERROR(VLOOKUP(T$9,#REF!,55,FALSE),"") | U43: =IFERROR(VLOOKUP(U$9,#REF!,55,FALSE),"") | V43: =IFERROR(VLOOKUP(V$9,#REF!,55,FALSE),"") | W43: =IFERROR(VLOOKUP(W$9,#REF!,55,FALSE),"") | X43: =IFERROR(VLOOKUP(X$9,#REF!,55,FALSE),"") | Y43: =IFERROR(VLOOKUP(Y$9,#REF!,55,FALSE),"") | ... AB43: =IFERROR(VLOOKUP(AB$9,#REF!,55,FALSE),"") | AC43: =IFERROR(VLOOKUP(ACK$9,#REF!,55,FALSE),"") | AD43: =IFERROR(VLOOKUP(AD$9,#REF!,55,FALSE),"") | AE43: =IFERROR(VLOOKUP(AE$9,#REF!,55,FALSE),"") | AF43: =IFERROR(VLOOKUP(AF$9,#REF!,55,FALSE),"") | AG43: =IFERROR(VLOOKUP(AG$9,#REF!,55,FALSE),"") | AH43: =IFERROR(VLOOKUP(AH$9,#REF!,55,FALSE),"") | AI43: =#REF! -> #REF!
A44: 29 | B44: トリクロロ酢酸 | C44: ㎎/L | D44: 0.002未満 | E44: 0.002未満 | F44: 0.002 | G44: 0.017 | H44: 0.002未満 | I44: 0.003 | R44: =IFERROR(VLOOKUP(R$9,#REF!,59,FALSE),"") | S44: =IFERROR(VLOOKUP(S$9,#REF!,59,FALSE),"") | T44: =IFERROR(VLOOKUP(T$9,#REF!,59,FALSE),"") | U44: =IFERROR(VLOOKUP(U$9,#REF!,59,FALSE),"") | V44: =IFERROR(VLOOKUP(V$9,#REF!,59,FALSE),"") | W44: =IFERROR(VLOOKUP(W$9,#REF!,59,FALSE),"") | X44: =IFERROR(VLOOKUP(X$9,#REF!,59,FALSE),"") | Y44: =IFERROR(VLOOKUP(Y$9,#REF!,59,FALSE),"") | ... AB44: =IFERROR(VLOOKUP(AB$9,#REF!,59,FALSE),"") | AC44: =IFERROR(VLOOKUP(ACK$9,#REF!,59,FALSE),"") | AD44: =IFERROR(VLOOKUP(AD$9,#REF!,59,FALSE),"") | AE44: =IFERROR(VLOOKUP(AE$9,#REF!,59,FALSE),"") | AF44: =IFERROR(VLOOKUP(AF$9,#REF!,59,FALSE),"") | AG44: =IFERROR(VLOOKUP(AG$9,#REF!,59,FALSE),"") | AH44: =IFERROR(VLOOKUP(AH$9,#REF!,59,FALSE),"") | AI44: =#REF! -> #REF!
A45: 30 | B45: ブロモジクロロメタン | C45: ㎎/L | R45: =IFERROR(VLOOKUP(R$9,#REF!,53,FALSE),"") | S45: =IFERROR(VLOOKUP(S$9,#REF!,53,FALSE),"") | T45: =IFERROR(VLOOKUP(T$9,#REF!,53,FALSE),"") | U45: =IFERROR(VLOOKUP(U$9,#REF!,53,FALSE),"") | V45: =IFERROR(VLOOKUP(V$9,#REF!,53,FALSE),"") | W45: =IFERROR(VLOOKUP(W$9,#REF!,53,FALSE),"") | X45: =IFERROR(VLOOKUP(X$9,#REF!,53,FALSE),"") | Y45: =IFERROR(VLOOKUP(Y$9,#REF!,53,FALSE),"") | ... AB45: =IFERROR(VLOOKUP(AB$9,#REF!,53,FALSE),"") | AC45: =IFERROR(VLOOKUP(ACK$9,#REF!,53,FALSE),"") | AD45: =IFERROR(VLOOKUP(AD$9,#REF!,53,FALSE),"") | AE45: =IFERROR(VLOOKUP(AE$9,#REF!,53,FALSE),"") | AF45: =IFERROR(VLOOKUP(AF$9,#REF!,53,FALSE),"") | AG45: =IFERROR(VLOOKUP(AG$9,#REF!,53,FALSE),"") | AH45: =IFERROR(VLOOKUP(AH$9,#REF!,53,FALSE),"") | AI45: =#REF! -> #REF!
A46: 31 | B46: ブロモホルム | C46: ㎎/L | R46: =IFERROR(VLOOKUP(R$9,#REF!,54,FALSE),"") | S46: =IFERROR(VLOOKUP(S$9,#REF!,54,FALSE),"") | T46: =IFERROR(VLOOKUP(T$9,#REF!,54,FALSE),"") | U46: =IFERROR(VLOOKUP(U$9,#REF!,54,FALSE),"") | V46: =IFERROR(VLOOKUP(V$9,#REF!,54,FALSE),"") | W46: =IFERROR(VLOOKUP(W$9,#REF!,54,FALSE),"") | X46: =IFERROR(VLOOKUP(X$9,#REF!,54,FALSE),"") | Y46: =IFERROR(VLOOKUP(Y$9,#REF!,54,FALSE),"") | ... AB46: =IFERROR(VLOOKUP(AB$9,#REF!,54,FALSE),"") | AC46: =IFERROR(VLOOKUP(ACK$9,#REF!,54,FALSE),"") | AD46: =IFERROR(VLOOKUP(AD$9,#REF!,54,FALSE),"") | AE46: =IFERROR(VLOOKUP(AE$9,#REF!,54,FALSE),"") | AF46: =IFERROR(VLOOKUP(AF$9,#REF!,54,FALSE),"") | AG46: =IFERROR(VLOOKUP(AG$9,#REF!,54,FALSE),"") | AH46: =IFERROR(VLOOKUP(AH$9,#REF!,54,FALSE),"") | AI46: =#REF! -> #REF!
A47: 32 | B47: ホルムアルデヒド | C47: ㎎/L | D47: 0.008未満 | E47: 0.008未満 | F47: 0.008未満 | G47: 0.008未満 | H47: 0.008未満 | I47: 0.008未満 | R47: =IFERROR(VLOOKUP(R$9,#REF!,65,FALSE),"") | S47: =IFERROR(VLOOKUP(S$9,#REF!,65,FALSE),"") | T47: =IFERROR(VLOOKUP(T$9,#REF!,65,FALSE),"") | U47: =IFERROR(VLOOKUP(U$9,#REF!,65,FALSE),"") | V47: =IFERROR(VLOOKUP(V$9,#REF!,65,FALSE),"") | W47: =IFERROR(VLOOKUP(W$9,#REF!,65,FALSE),"") | X47: =IFERROR(VLOOKUP(X$9,#REF!,65,FALSE),"") | Y47: =IFERROR(VLOOKUP(Y$9,#REF!,65,FALSE),"") | ... AB47: =IFERROR(VLOOKUP(AB$9,#REF!,65,FALSE),"") | AC47: =IFERROR(VLOOKUP(ACK$9,#REF!,65,FALSE),"") | AD47: =IFERROR(VLOOKUP(AD$9,#REF!,65,FALSE),"") | AE47: =IFERROR(VLOOKUP(AE$9,#REF!,65,FALSE),"") | AF47: =IFERROR(VLOOKUP(AF$9,#REF!,65,FALSE),"") | AG47: =IFERROR(VLOOKUP(AG$9,#REF!,65,FALSE),"") | AH47: =IFERROR(VLOOKUP(AH$9,#REF!,65,FALSE),"") | AI47: =#REF! -> #REF!
A48: 33 | B48: 亜鉛及びその化合物 | C48: ㎎/L | R48: =IFERROR(VLOOKUP(R$9,#REF!,18,FALSE),"") | S48: =IFERROR(VLOOKUP(S$9,#REF!,18,FALSE),"") | T48: =IFERROR(VLOOKUP(T$9,#REF!,18,FALSE),"") | U48: =IFERROR(VLOOKUP(U$9,#REF!,18,FALSE),"") | V48: =IFERROR(VLOOKUP(V$9,#REF!,18,FALSE),"") | W48: =IFERROR(VLOOKUP(W$9,#REF!,18,FALSE),"") | X48: =IFERROR(VLOOKUP(X$9,#REF!,18,FALSE),"") | Y48: =IFERROR(VLOOKUP(Y$9,#REF!,18,FALSE),"") | ... AB48: =IFERROR(VLOOKUP(AB$9,#REF!,18,FALSE),"") | AC48: =IFERROR(VLOOKUP(ACK$9,#REF!,18,FALSE),"") | AD48: =IFERROR(VLOOKUP(AD$9,#REF!,18,FALSE),"") | AE48: =IFERROR(VLOOKUP(AE$9,#REF!,18,FALSE),"") | AF48: =IFERROR(VLOOKUP(AF$9,#REF!,18,FALSE),"") | AG48: =IFERROR(VLOOKUP(AG$9,#REF!,18,FALSE),"") | AH48: =IFERROR(VLOOKUP(AH$9,#REF!,18,FALSE),"") | AI48: =#REF! -> #REF!
A49: 34 | B49: アルミニウム及びその化合物 | C49: ㎎/L | R49: =IFERROR(VLOOKUP(R$9,#REF!,19,FALSE),"") | S49: =IFERROR(VLOOKUP(S$9,#REF!,19,FALSE),"") | T49: =IFERROR(VLOOKUP(T$9,#REF!,19,FALSE),"") | U49: =IFERROR(VLOOKUP(U$9,#REF!,19,FALSE),"") | V49: =IFERROR(VLOOKUP(V$9,#REF!,19,FALSE),"") | W49: =IFERROR(VLOOKUP(W$9,#REF!,19,FALSE),"") | X49: =IFERROR(VLOOKUP(X$9,#REF!,19,FALSE),"") | Y49: =IFERROR(VLOOKUP(Y$9,#REF!,19,FALSE),"") | ... AB49: =IFERROR(VLOOKUP(AB$9,#REF!,19,FALSE),"") | AC49: =IFERROR(VLOOKUP(ACK$9,#REF!,19,FALSE),"") | AD49: =IFERROR(VLOOKUP(AD$9,#REF!,19,FALSE),"") | AE49: =IFERROR(VLOOKUP(AE$9,#REF!,19,FALSE),"") | AF49: =IFERROR(VLOOKUP(AF$9,#REF!,19,FALSE),"") | AG49: =IFERROR(VLOOKUP(AG$9,#REF!,19,FALSE),"") | AH49: =IFERROR(VLOOKUP(AH$9,#REF!,19,FALSE),"") | AI49: =#REF! -> #REF!
A50: 35 | B50: 鉄及びその化合物 | C50: ㎎/L | R50: =IFERROR(VLOOKUP(R$9,#REF!,20,FALSE),"") | S50: =IFERROR(VLOOKUP(S$9,#REF!,20,FALSE),"") | T50: =IFERROR(VLOOKUP(T$9,#REF!,20,FALSE),"") | U50: =IFERROR(VLOOKUP(U$9,#REF!,20,FALSE),"") | V50: =IFERROR(VLOOKUP(V$9,#REF!,20,FALSE),"") | W50: =IFERROR(VLOOKUP(W$9,#REF!,20,FALSE),"") | X50: =IFERROR(VLOOKUP(X$9,#REF!,20,FALSE),"") | Y50: =IFERROR(VLOOKUP(Y$9,#REF!,20,FALSE),"") | ... AB50: =IFERROR(VLOOKUP(AB$9,#REF!,20,FALSE),"") | AC50: =IFERROR(VLOOKUP(ACK$9,#REF!,20,FALSE),"") | AD50: =IFERROR(VLOOKUP(AD$9,#REF!,20,FALSE),"") | AE50: =IFERROR(VLOOKUP(AE$9,#REF!,20,FALSE),"") | AF50: =IFERROR(VLOOKUP(AF$9,#REF!,20,FALSE),"") | AG50: =IFERROR(VLOOKUP(AG$9,#REF!,20,FALSE),"") | AH50: =IFERROR(VLOOKUP(AH$9,#REF!,20,FALSE),"") | AI50: =#REF! -> #REF!
A51: 36 | B51: 銅及びその化合物 | C51: ㎎/L | R51: =IFERROR(VLOOKUP(R$9,#REF!,21,FALSE),"") | S51: =IFERROR(VLOOKUP(S$9,#REF!,21,FALSE),"") | T51: =IFERROR(VLOOKUP(T$9,#REF!,21,FALSE),"") | U51: =IFERROR(VLOOKUP(U$9,#REF!,21,FALSE),"") | V51: =IFERROR(VLOOKUP(V$9,#REF!,21,FALSE),"") | W51: =IFERROR(VLOOKUP(W$9,#REF!,21,FALSE),"") | X51: =IFERROR(VLOOKUP(X$9,#REF!,21,FALSE),"") | Y51: =IFERROR(VLOOKUP(Y$9,#REF!,21,FALSE),"") | ... AB51: =IFERROR(VLOOKUP(AB$9,#REF!,21,FALSE),"") | AC51: =IFERROR(VLOOKUP(ACK$9,#REF!,21,FALSE),"") | AD51: =IFERROR(VLOOKUP(AD$9,#REF!,21,FALSE),"") | AE51: =IFERROR(VLOOKUP(AE$9,#REF!,21,FALSE),"") | AF51: =IFERROR(VLOOKUP(AF$9,#REF!,21,FALSE),"") | AG51: =IFERROR(VLOOKUP(AG$9,#REF!,21,FALSE),"") | AH51: =IFERROR(VLOOKUP(AH$9,#REF!,21,FALSE),"") | AI51: =#REF! -> #REF!
A52: 37 | B52: ナトリウム及びその化合物 | C52: ㎎/L | D52: 3.1 | E52: 3 | F52: 6.5 | G52: 3.1 | H52: 3.6 | I52: 3.6 | R52: =IFERROR(VLOOKUP(R$9,#REF!,37,FALSE),"") | S52: =IFERROR(VLOOKUP(S$9,#REF!,37,FALSE),"") | T52: =IFERROR(VLOOKUP(T$9,#REF!,37,FALSE),"") | U52: =IFERROR(VLOOKUP(U$9,#REF!,37,FALSE),"") | V52: =IFERROR(VLOOKUP(V$9,#REF!,37,FALSE),"") | W52: =IFERROR(VLOOKUP(W$9,#REF!,37,FALSE),"") | X52: =IFERROR(VLOOKUP(X$9,#REF!,37,FALSE),"") | Y52: =IFERROR(VLOOKUP(Y$9,#REF!,37,FALSE),"") | ... AB52: =IFERROR(VLOOKUP(AB$9,#REF!,37,FALSE),"") | AC52: =IFERROR(VLOOKUP(ACK$9,#REF!,37,FALSE),"") | AD52: =IFERROR(VLOOKUP(AD$9,#REF!,37,FALSE),"") | AE52: =IFERROR(VLOOKUP(AE$9,#REF!,37,FALSE),"") | AF52: =IFERROR(VLOOKUP(AF$9,#REF!,37,FALSE),"") | AG52: =IFERROR(VLOOKUP(AG$9,#REF!,37,FALSE),"") | AH52: =IFERROR(VLOOKUP(AH$9,#REF!,37,FALSE),"") | AI52: =#REF! -> #REF!
A53: 38 | B53: マンガン及びその化合物 | C53: ㎎/L | R53: =IFERROR(VLOOKUP(R$9,#REF!,22,FALSE),"") | S53: =IFERROR(VLOOKUP(S$9,#REF!,22,FALSE),"") | T53: =IFERROR(VLOOKUP(T$9,#REF!,22,FALSE),"") | U53: =IFERROR(VLOOKUP(U$9,#REF!,22,FALSE),"") | V53: =IFERROR(VLOOKUP(V$9,#REF!,22,FALSE),"") | W53: =IFERROR(VLOOKUP(W$9,#REF!,22,FALSE),"") | X53: =IFERROR(VLOOKUP(X$9,#REF!,22,FALSE),"") | Y53: =IFERROR(VLOOKUP(Y$9,#REF!,22,FALSE),"") | ... AB53: =IFERROR(VLOOKUP(AB$9,#REF!,22,FALSE),"") | AC53: =IFERROR(VLOOKUP(ACK$9,#REF!,22,FALSE),"") | AD53: =IFERROR(VLOOKUP(AD$9,#REF!,22,FALSE),"") | AE53: =IFERROR(VLOOKUP(AE$9,#REF!,22,FALSE),"") | AF53: =IFERROR(VLOOKUP(AF$9,#REF!,22,FALSE),"") | AG53: =IFERROR(VLOOKUP(AG$9,#REF!,22,FALSE),"") | AH53: =IFERROR(VLOOKUP(AH$9,#REF!,22,FALSE),"") | AI53: =#REF! -> #REF!
A54: 39 | B54: 塩化物イオン | C54: ㎎/L | D54: 2.9 | E54: 3.1 | F54: 5.5 | G54: 2.6 | H54: 2.5 | I54: 2.6 | R54: =IFERROR(VLOOKUP(R$9,#REF!,32,FALSE),"") | S54: =IFERROR(VLOOKUP(S$9,#REF!,32,FALSE),"") | T54: =IFERROR(VLOOKUP(T$9,#REF!,32,FALSE),"") | U54: =IFERROR(VLOOKUP(U$9,#REF!,32,FALSE),"") | V54: =IFERROR(VLOOKUP(V$9,#REF!,32,FALSE),"") | W54: =IFERROR(VLOOKUP(W$9,#REF!,32,FALSE),"") | X54: =IFERROR(VLOOKUP(X$9,#REF!,32,FALSE),"") | Y54: =IFERROR(VLOOKUP(Y$9,#REF!,32,FALSE),"") | ... AB54: =IFERROR(VLOOKUP(AB$9,#REF!,32,FALSE),"") | AC54: =IFERROR(VLOOKUP(ACK$9,#REF!,32,FALSE),"") | AD54: =IFERROR(VLOOKUP(AD$9,#REF!,32,FALSE),"") | AE54: =IFERROR(VLOOKUP(AE$9,#REF!,32,FALSE),"") | AF54: =IFERROR(VLOOKUP(AF$9,#REF!,32,FALSE),"") | AG54: =IFERROR(VLOOKUP(AG$9,#REF!,32,FALSE),"") | AH54: =IFERROR(VLOOKUP(AH$9,#REF!,32,FALSE),"") | AI54: =#REF! -> #REF!
A55: 40 | B55: カルシウム、マグネシウム等（硬度） | C55: ㎎/L | D55: 5.6083701 | E55: 8.7378965 | F55: 5.488527 | G55: 5.3569523 | H55: 12.194935 | I55: 12.300283 | R55: =IFERROR(VLOOKUP(R$9,#REF!,40,FALSE),"") | S55: =IFERROR(VLOOKUP(S$9,#REF!,40,FALSE),"") | T55: =IFERROR(VLOOKUP(T$9,#REF!,40,FALSE),"") | U55: =IFERROR(VLOOKUP(U$9,#REF!,40,FALSE),"") | V55: =IFERROR(VLOOKUP(V$9,#REF!,40,FALSE),"") | W55: =IFERROR(VLOOKUP(W$9,#REF!,40,FALSE),"") | X55: =IFERROR(VLOOKUP(X$9,#REF!,40,FALSE),"") | Y55: =IFERROR(VLOOKUP(Y$9,#REF!,40,FALSE),"") | ... AB55: =IFERROR(VLOOKUP(AB$9,#REF!,40,FALSE),"") | AC55: =IFERROR(VLOOKUP(ACK$9,#REF!,40,FALSE),"") | AD55: =IFERROR(VLOOKUP(AD$9,#REF!,40,FALSE),"") | AE55: =IFERROR(VLOOKUP(AE$9,#REF!,40,FALSE),"") | AF55: =IFERROR(VLOOKUP(AF$9,#REF!,40,FALSE),"") | AG55: =IFERROR(VLOOKUP(AG$9,#REF!,40,FALSE),"") | AH55: =IFERROR(VLOOKUP(AH$9,#REF!,40,FALSE),"") | AI55: =#REF! -> #REF!
A56: 41 | B56: 蒸発残留物 | C56: ㎎/L | D56: 38 | E56: 41 | F56: 34 | G56: 34 | H56: 41 | I56: 44 | R56: =IFERROR(VLOOKUP(R$9,#REF!,71,FALSE),"") | S56: =IFERROR(VLOOKUP(S$9,#REF!,71,FALSE),"") | T56: =IFERROR(VLOOKUP(T$9,#REF!,71,FALSE),"") | U56: =IFERROR(VLOOKUP(U$9,#REF!,71,FALSE),"") | V56: =IFERROR(VLOOKUP(V$9,#REF!,71,FALSE),"") | W56: =IFERROR(VLOOKUP(W$9,#REF!,71,FALSE),"") | X56: =IFERROR(VLOOKUP(X$9,#REF!,71,FALSE),"") | Y56: =IFERROR(VLOOKUP(Y$9,#REF!,71,FALSE),"") | ... AB56: =IFERROR(VLOOKUP(AB$9,#REF!,71,FALSE),"") | AC56: =IFERROR(VLOOKUP(ACK$9,#REF!,71,FALSE),"") | AD56: =IFERROR(VLOOKUP(AD$9,#REF!,71,FALSE),"") | AE56: =IFERROR(VLOOKUP(AE$9,#REF!,71,FALSE),"") | AF56: =IFERROR(VLOOKUP(AF$9,#REF!,71,FALSE),"") | AG56: =IFERROR(VLOOKUP(AG$9,#REF!,71,FALSE),"") | AH56: =IFERROR(VLOOKUP(AH$9,#REF!,71,FALSE),"") | AI56: =#REF! -> #REF!
A57: 42 | B57: 陰イオン界面活性剤 | C57: ㎎/L | D57: 0.02未満 | E57: 0.02未満 | F57: 0.02未満 | G57: 0.02未満 | H57: 0.02未満 | I57: 0.02未満 | R57: =IFERROR(VLOOKUP(R$9,#REF!,78,FALSE),"") | S57: =IFERROR(VLOOKUP(S$9,#REF!,78,FALSE),"") | T57: =IFERROR(VLOOKUP(T$9,#REF!,78,FALSE),"") | U57: =IFERROR(VLOOKUP(U$9,#REF!,78,FALSE),"") | V57: =IFERROR(VLOOKUP(V$9,#REF!,78,FALSE),"") | W57: =IFERROR(VLOOKUP(W$9,#REF!,78,FALSE),"") | X57: =IFERROR(VLOOKUP(X$9,#REF!,78,FALSE),"") | Y57: =IFERROR(VLOOKUP(Y$9,#REF!,78,FALSE),"") | ... AB57: =IFERROR(VLOOKUP(AB$9,#REF!,78,FALSE),"") | AC57: =IFERROR(VLOOKUP(ACK$9,#REF!,78,FALSE),"") | AD57: =IFERROR(VLOOKUP(AD$9,#REF!,78,FALSE),"") | AE57: =IFERROR(VLOOKUP(AE$9,#REF!,78,FALSE),"") | AF57: =IFERROR(VLOOKUP(AF$9,#REF!,78,FALSE),"") | AG57: =IFERROR(VLOOKUP(AG$9,#REF!,78,FALSE),"") | AH57: =IFERROR(VLOOKUP(AH$9,#REF!,78,FALSE),"") | AI57: =#REF! -> #REF!
A58: 43 | B58: ジェオスミン（別名） | C58: ㎎/L | R58: =IFERROR(VLOOKUP(R$9,#REF!,80,FALSE),"") | S58: =IFERROR(VLOOKUP(S$9,#REF!,80,FALSE),"") | T58: =IFERROR(VLOOKUP(T$9,#REF!,80,FALSE),"") | U58: =IFERROR(VLOOKUP(U$9,#REF!,80,FALSE),"") | V58: =IFERROR(VLOOKUP(V$9,#REF!,80,FALSE),"") | W58: =IFERROR(VLOOKUP(W$9,#REF!,80,FALSE),"") | X58: =IFERROR(VLOOKUP(X$9,#REF!,80,FALSE),"") | Y58: =IFERROR(VLOOKUP(Y$9,#REF!,80,FALSE),"") | ... AB58: =IFERROR(VLOOKUP(AB$9,#REF!,80,FALSE),"") | AC58: =IFERROR(VLOOKUP(ACK$9,#REF!,80,FALSE),"") | AD58: =IFERROR(VLOOKUP(AD$9,#REF!,80,FALSE),"") | AE58: =IFERROR(VLOOKUP(AE$9,#REF!,80,FALSE),"") | AF58: =IFERROR(VLOOKUP(AF$9,#REF!,80,FALSE),"") | AG58: =IFERROR(VLOOKUP(AG$9,#REF!,80,FALSE),"") | AH58: =IFERROR(VLOOKUP(AH$9,#REF!,80,FALSE),"") | AI58: =#REF! -> #REF!
A59: 44 | B59: ２-メチルイソボルネオール（別名） | C59: ㎎/L | R59: =IFERROR(VLOOKUP(R$9,#REF!,81,FALSE),"") | S59: =IFERROR(VLOOKUP(S$9,#REF!,81,FALSE),"") | T59: =IFERROR(VLOOKUP(T$9,#REF!,81,FALSE),"") | U59: =IFERROR(VLOOKUP(U$9,#REF!,81,FALSE),"") | V59: =IFERROR(VLOOKUP(V$9,#REF!,81,FALSE),"") | W59: =IFERROR(VLOOKUP(W$9,#REF!,81,FALSE),"") | X59: =IFERROR(VLOOKUP(X$9,#REF!,81,FALSE),"") | Y59: =IFERROR(VLOOKUP(Y$9,#REF!,81,FALSE),"") | ... AB59: =IFERROR(VLOOKUP(AB$9,#REF!,81,FALSE),"") | AC59: =IFERROR(VLOOKUP(ACK$9,#REF!,81,FALSE),"") | AD59: =IFERROR(VLOOKUP(AD$9,#REF!,81,FALSE),"") | AE59: =IFERROR(VLOOKUP(AE$9,#REF!,81,FALSE),"") | AF59: =IFERROR(VLOOKUP(AF$9,#REF!,81,FALSE),"") | AG59: =IFERROR(VLOOKUP(AG$9,#REF!,81,FALSE),"") | AH59: =IFERROR(VLOOKUP(AH$9,#REF!,81,FALSE),"") | AI59: =#REF! -> #REF!
A60: 45 | B60: 非イオン界面活性剤 | C60: ㎎/L | R60: =IFERROR(VLOOKUP(R$9,#REF!,84,FALSE),"") | S60: =IFERROR(VLOOKUP(S$9,#REF!,84,FALSE),"") | T60: =IFERROR(VLOOKUP(T$9,#REF!,84,FALSE),"") | U60: =IFERROR(VLOOKUP(U$9,#REF!,84,FALSE),"") | V60: =IFERROR(VLOOKUP(V$9,#REF!,84,FALSE),"") | W60: =IFERROR(VLOOKUP(W$9,#REF!,84,FALSE),"") | X60: =IFERROR(VLOOKUP(X$9,#REF!,84,FALSE),"") | Y60: =IFERROR(VLOOKUP(Y$9,#REF!,84,FALSE),"") | ... AB60: =IFERROR(VLOOKUP(AB$9,#REF!,84,FALSE),"") | AC60: =IFERROR(VLOOKUP(ACK$9,#REF!,84,FALSE),"") | AD60: =IFERROR(VLOOKUP(AD$9,#REF!,84,FALSE),"") | AE60: =IFERROR(VLOOKUP(AE$9,#REF!,84,FALSE),"") | AF60: =IFERROR(VLOOKUP(AF$9,#REF!,84,FALSE),"") | AG60: =IFERROR(VLOOKUP(AG$9,#REF!,84,FALSE),"") | AH60: =IFERROR(VLOOKUP(AH$9,#REF!,84,FALSE),"") | AI60: =#REF! -> #REF!
A61: 46 | B61: フェノール類 | C61: ㎎/L | D61: 0.0005未満 | E61: 0.0005未満 | F61: 0.0005未満 | G61: 0.0005未満 | H61: 0.0005未満 | I61: 0.0005未満 | R61: =IFERROR(VLOOKUP(R$9,#REF!,93,FALSE),"") | S61: =IFERROR(VLOOKUP(S$9,#REF!,93,FALSE),"") | T61: =IFERROR(VLOOKUP(T$9,#REF!,93,FALSE),"") | U61: =IFERROR(VLOOKUP(U$9,#REF!,93,FALSE),"") | V61: =IFERROR(VLOOKUP(V$9,#REF!,93,FALSE),"") | W61: =IFERROR(VLOOKUP(W$9,#REF!,93,FALSE),"") | X61: =IFERROR(VLOOKUP(X$9,#REF!,93,FALSE),"") | Y61: =IFERROR(VLOOKUP(Y$9,#REF!,93,FALSE),"") | ... AB61: =IFERROR(VLOOKUP(AB$9,#REF!,93,FALSE),"") | AC61: =IFERROR(VLOOKUP(ACK$9,#REF!,93,FALSE),"") | AD61: =IFERROR(VLOOKUP(AD$9,#REF!,93,FALSE),"") | AE61: =IFERROR(VLOOKUP(AE$9,#REF!,93,FALSE),"") | AF61: =IFERROR(VLOOKUP(AF$9,#REF!,93,FALSE),"") | AG61: =IFERROR(VLOOKUP(AG$9,#REF!,93,FALSE),"") | AH61: =IFERROR(VLOOKUP(AH$9,#REF!,93,FALSE),"") | AI61: =#REF! -> #REF!
A62: 47 | B62: 有機物（全有機炭素（TOC）の量） | C62: ㎎/L | D62: 0.2未満 | E62: 0.3 | F62: 0.3 | G62: 0.6 | H62: 0.2 | I62: 0.3 | R62: =IFERROR(VLOOKUP(R$9,#REF!,95,FALSE),"") | S62: =IFERROR(VLOOKUP(S$9,#REF!,95,FALSE),"") | T62: =IFERROR(VLOOKUP(T$9,#REF!,95,FALSE),"") | U62: =IFERROR(VLOOKUP(U$9,#REF!,95,FALSE),"") | V62: =IFERROR(VLOOKUP(V$9,#REF!,95,FALSE),"") | W62: =IFERROR(VLOOKUP(W$9,#REF!,95,FALSE),"") | X62: =IFERROR(VLOOKUP(X$9,#REF!,95,FALSE),"") | Y62: =IFERROR(VLOOKUP(Y$9,#REF!,95,FALSE),"") | ... AB62: =IFERROR(VLOOKUP(AB$9,#REF!,95,FALSE),"") | AC62: =IFERROR(VLOOKUP(ACK$9,#REF!,95,FALSE),"") | AD62: =IFERROR(VLOOKUP(AD$9,#REF!,95,FALSE),"") | AE62: =IFERROR(VLOOKUP(AE$9,#REF!,95,FALSE),"") | AF62: =IFERROR(VLOOKUP(AF$9,#REF!,95,FALSE),"") | AG62: =IFERROR(VLOOKUP(AG$9,#REF!,95,FALSE),"") | AH62: =IFERROR(VLOOKUP(AH$9,#REF!,95,FALSE),"") | AI62: =#REF! -> #REF!
A63: 48 | B63: pH値 | C63: --- | D63: 7.5 | E63: 7.5 | F63: 7.4 | G63: 6.9 | H63: 7.3 | I63: 7.1 | R63: =IFERROR(VLOOKUP(R$9,#REF!,99,FALSE),"") | S63: =IFERROR(VLOOKUP(S$9,#REF!,99,FALSE),"") | T63: =IFERROR(VLOOKUP(T$9,#REF!,99,FALSE),"") | U63: =IFERROR(VLOOKUP(U$9,#REF!,99,FALSE),"") | V63: =IFERROR(VLOOKUP(V$9,#REF!,99,FALSE),"") | W63: =IFERROR(VLOOKUP(W$9,#REF!,99,FALSE),"") | X63: =IFERROR(VLOOKUP(X$9,#REF!,99,FALSE),"") | Y63: =IFERROR(VLOOKUP(Y$9,#REF!,99,FALSE),"") | ... AB63: =IFERROR(VLOOKUP(AB$9,#REF!,99,FALSE),"") | AC63: =IFERROR(VLOOKUP(ACK$9,#REF!,99,FALSE),"") | AD63: =IFERROR(VLOOKUP(AD$9,#REF!,99,FALSE),"") | AE63: =IFERROR(VLOOKUP(AE$9,#REF!,99,FALSE),"") | AF63: =IFERROR(VLOOKUP(AF$9,#REF!,99,FALSE),"") | AG63: =IFERROR(VLOOKUP(AG$9,#REF!,99,FALSE),"") | AH63: =IFERROR(VLOOKUP(AH$9,#REF!,99,FALSE),"") | AI63: =#REF! -> #REF!
A64: 49 | B64: 味 | C64: --- | D64: 異常なし | E64: 異常なし | F64: 異常なし | G64: 異常なし | H64: 異常なし | I64: 異常なし | R64: =IFERROR(VLOOKUP(R$9,#REF!,101,FALSE),"") | S64: =IFERROR(VLOOKUP(S$9,#REF!,101,FALSE),"") | T64: =IFERROR(VLOOKUP(T$9,#REF!,101,FALSE),"") | U64: =IFERROR(VLOOKUP(U$9,#REF!,101,FALSE),"") | V64: =IFERROR(VLOOKUP(V$9,#REF!,101,FALSE),"") | W64: =IFERROR(VLOOKUP(W$9,#REF!,101,FALSE),"") | X64: =IFERROR(VLOOKUP(X$9,#REF!,101,FALSE),"") | Y64: =IFERROR(VLOOKUP(Y$9,#REF!,101,FALSE),"") | ... AB64: =IFERROR(VLOOKUP(AB$9,#REF!,101,FALSE),"") | AC64: =IFERROR(VLOOKUP(ACK$9,#REF!,101,FALSE),"") | AD64: =IFERROR(VLOOKUP(AD$9,#REF!,101,FALSE),"") | AE64: =IFERROR(VLOOKUP(AE$9,#REF!,101,FALSE),"") | AF64: =IFERROR(VLOOKUP(AF$9,#REF!,101,FALSE),"") | AG64: =IFERROR(VLOOKUP(AG$9,#REF!,101,FALSE),"") | AH64: =IFERROR(VLOOKUP(AH$9,#REF!,101,FALSE),"")
A65: 50 | B65: 臭気 | C65: --- | D65: 異常なし | E65: 異常なし | F65: 異常なし | G65: 異常なし | H65: 異常なし | I65: 異常なし | R65: =IFERROR(VLOOKUP(R$9,#REF!,100,FALSE),"") | S65: =IFERROR(VLOOKUP(S$9,#REF!,100,FALSE),"") | T65: =IFERROR(VLOOKUP(T$9,#REF!,100,FALSE),"") | U65: =IFERROR(VLOOKUP(U$9,#REF!,100,FALSE),"") | V65: =IFERROR(VLOOKUP(V$9,#REF!,100,FALSE),"") | W65: =IFERROR(VLOOKUP(W$9,#REF!,100,FALSE),"") | X65: =IFERROR(VLOOKUP(X$9,#REF!,100,FALSE),"") | Y65: =IFERROR(VLOOKUP(Y$9,#REF!,100,FALSE),"") | ... AB65: =IFERROR(VLOOKUP(AB$9,#REF!,100,FALSE),"") | AC65: =IFERROR(VLOOKUP(ACK$9,#REF!,100,FALSE),"") | AD65: =IFERROR(VLOOKUP(AD$9,#REF!,100,FALSE),"") | AE65: =IFERROR(VLOOKUP(AE$9,#REF!,100,FALSE),"") | AF65: =IFERROR(VLOOKUP(AF$9,#REF!,100,FALSE),"") | AG65: =IFERROR(VLOOKUP(AG$9,#REF!,100,FALSE),"") | AH65: =IFERROR(VLOOKUP(AH$9,#REF!,100,FALSE),"")
A66: 51 | B66: 色度 | C66: 度 | D66: 0.5未満 | E66: 0.6 | F66: 0.5未満 | G66: 0.7 | H66: 0.5未満 | I66: 0.5未満 | R66: =IFERROR(VLOOKUP(R$9,#REF!,97,FALSE),"") | S66: =IFERROR(VLOOKUP(S$9,#REF!,97,FALSE),"") | T66: =IFERROR(VLOOKUP(T$9,#REF!,97,FALSE),"") | U66: =IFERROR(VLOOKUP(U$9,#REF!,97,FALSE),"") | V66: =IFERROR(VLOOKUP(V$9,#REF!,97,FALSE),"") | W66: =IFERROR(VLOOKUP(W$9,#REF!,97,FALSE),"") | X66: =IFERROR(VLOOKUP(X$9,#REF!,97,FALSE),"") | Y66: =IFERROR(VLOOKUP(Y$9,#REF!,97,FALSE),"") | ... AB66: =IFERROR(VLOOKUP(AB$9,#REF!,97,FALSE),"") | AC66: =IFERROR(VLOOKUP(ACK$9,#REF!,97,FALSE),"") | AD66: =IFERROR(VLOOKUP(AD$9,#REF!,97,FALSE),"") | AE66: =IFERROR(VLOOKUP(AE$9,#REF!,97,FALSE),"") | AF66: =IFERROR(VLOOKUP(AF$9,#REF!,97,FALSE),"") | AG66: =IFERROR(VLOOKUP(AG$9,#REF!,97,FALSE),"") | AH66: =IFERROR(VLOOKUP(AH$9,#REF!,97,FALSE),"") | AI66: =#REF! -> #REF!
A67: 52 | B67: 濁度 | C67: 度 | D67: 0.1未満 | E67: 0.1未満 | F67: 0.1未満 | G67: 0.1未満 | H67: 0.1未満 | I67: 0.1未満 | R67: =IFERROR(VLOOKUP(R$9,#REF!,98,FALSE),"") | S67: =IFERROR(VLOOKUP(S$9,#REF!,98,FALSE),"") | T67: =IFERROR(VLOOKUP(T$9,#REF!,98,FALSE),"") | U67: =IFERROR(VLOOKUP(U$9,#REF!,98,FALSE),"") | V67: =IFERROR(VLOOKUP(V$9,#REF!,98,FALSE),"") | W67: =IFERROR(VLOOKUP(W$9,#REF!,98,FALSE),"") | X67: =IFERROR(VLOOKUP(X$9,#REF!,98,FALSE),"") | Y67: =IFERROR(VLOOKUP(Y$9,#REF!,98,FALSE),"") | ... AB67: =IFERROR(VLOOKUP(AB$9,#REF!,98,FALSE),"") | AC67: =IFERROR(VLOOKUP(ACK$9,#REF!,98,FALSE),"") | AD67: =IFERROR(VLOOKUP(AD$9,#REF!,98,FALSE),"") | AE67: =IFERROR(VLOOKUP(AE$9,#REF!,98,FALSE),"") | AF67: =IFERROR(VLOOKUP(AF$9,#REF!,98,FALSE),"") | AG67: =IFERROR(VLOOKUP(AG$9,#REF!,98,FALSE),"") | AH67: =IFERROR(VLOOKUP(AH$9,#REF!,98,FALSE),"") | AI67: =#REF! -> #REF!
A69: 46054 | C69: 46143
A70: 水質管理目標設定項目 | C70: （ 単 位 ）
A71: 1 | B71: アンチモン及びその化合物 | C71: ㎎/L
A72: 2 | B72: ウラン及びその化合物 | C72: ㎎/L
A73: 3 | B73: ニッケル及びその化合物 | C73: ㎎/L
A74: 4 | B74: １,２-ジクロロエタン | C74: ㎎/L
A75: 5 | B75: トルエン | C75: ㎎/L
A76: 6 | B76: フタル酸ジ（２-エチルヘキシル） | C76: ㎎/L
A77: 7 | B77: 亜塩素酸 | C77: ㎎/L
A78: 8 | B78: 二酸化塩素 | C78: ㎎/L
A79: 9 | B79: ジクロロアセトニトリル | C79: ㎎/L
A80: 10 | B80: 抱水クロラール | C80: ㎎/L
A81: 11 | B81: 農薬類（114項目） | C81: ---
A82: 12 | B82: 残留塩素 | C82: ㎎/L | D82: 0.6 | E82: 0.6 | F82: 0.8 | G82: 0.6 | H82: 0.6 | I82: 0.6
A83: 13 | B83: カルシウム、マグネシウム等（硬度） | C83: ㎎/L | D83: 5.6083701 | E83: 8.7378965 | F83: 5.488527 | G83: 5.3569523 | H83: 12.194935 | I83: 12.300283
A84: 14 | B84: マンガン及びその化合物 | C84: ㎎/L
A85: 15 | B85: 遊離炭酸 | C85: ㎎/L | D85: 1.8 | E85: 1.5 | F85: 2.1 | G85: 1.8 | H85: 1.1 | I85: 1.2
A86: 16 | B86: １,１,１-トリクロロエタン | C86: ㎎/L
A87: 17 | B87: メチル-t-ブチルエーテル | C87: ㎎/L
A88: 18 | B88: 有機物等（過マンガン酸カリウム消費量） | C88: ㎎/L
A89: 19 | B89: 臭気強度（TON） | C89: ---
A90: 20 | B90: 蒸発残留物 | C90: ㎎/L | D90: 38 | E90: 41 | F90: 34 | G90: 34 | H90: 41 | I90: 44
A91: 21 | B91: 濁度 | C91: 度 | D91: 0.1未満 | E91: 0.1未満 | F91: 0.1未満 | G91: 0.1未満 | H91: 0.1未満 | I91: 0.1未満
A92: 22 | B92: pH値 | C92: --- | D92: 7.5 | E92: 7.5 | F92: 7.4 | G92: 6.9 | H92: 7.3 | I92: 7.1
A93: 23 | B93: 腐食性（ランゲリア指数） | C93: --- | D93: -3.0023511 | E93: -2.4700618 | F93: -2.9013523 | G93: -3.3804903 | H93: -2.4490335 | I93: -2.6110783
A94: 24 | B94: 従属栄養細菌 | C94: CFU/ml
A95: 25 | B95: １,１-ジクロロエチレン | C95: ㎎/L
A96: 26 | B96: アルミニウム及びその化合物 | C96: ㎎/L
A97: その他管理項目 | C97: （ 単 位 ）
A98: 1 | B98: 総酸度 | C98: - | D98: 2 | E98: 1.7 | F98: 2.4 | G98: 2 | H98: 1.3 | I98: 1.4
A99: 2 | B99: 総アルカリ度 | C99: - | D99: 6 | E99: 10 | F99: 9.8 | G99: 9 | H99: 15.4 | I99: 14.8
A100: 3 | B100: 電気伝導度 | C100: mS/m | D100: 3 | E100: 3.6 | F100: 4.6 | G100: 2.9 | H100: 4.7 | I100: 4.7
A101: 4 | B101: 硝酸態窒素 | C101: ㎎/L | D101: 0.11 | E101: 0.11 | F101: 0.19 | G101: 0.19 | H101: 0.43 | I101: 0.44
A102: 5 | B102: 大腸菌（定量） | C102: -
A103: 6 | B103: 嫌気性芽胞菌 | C103: -
A104: 7 | B104: クリプトスポリジウム | C104: -
...

Sheet 演算タグ
B1: 46143
C4: 地点名 | D4: 野入浄水場 | F4: 山の駅大野瀬 | H4: 小田木浄水場 | J4: 田津原公会堂 | L4: 押川浄水場 | N4: 川手消防詰所
C6: 住所
A7: Ｎｏ | B7: 試 験 項 目 | E7: 変換 | G7: 変換 | I7: 変換 | K7: 変換 | M7: 変換 | O7: 変換 | Q7: 変換 | S7: 変換 | U7: 変換 | W7: 変換
A8: 測定項目 | C8: （ 単 位 ）
A9: 1 | B9: 採水年月日 | C9: --- | D9: 20260518 | E9: =IF(手入力!C3="",REPLACE(D9,5,0,"/"),REPLACE(手入力!C3,5,0,"/")) -> 2026/0518 | F9: 20260518 | G9: =IF(手入力!D3="",REPLACE(F9,5,0,"/"),REPLACE(手入力!D3,5,0,"/")) -> 2026/0518 | H9: 20260518 | I9: =IF(手入力!E3="",REPLACE(H9,5,0,"/"),REPLACE(手入力!E3,5,0,"/")) -> 2026/0518 | J9: 20260518 | K9: =IF(手入力!F3="",REPLACE(J9,5,0,"/"),REPLACE(手入力!F3,5,0,"/")) -> 2026/0518 | L9: 20260518 | M9: =IF(手入力!G3="",REPLACE(L9,5,0,"/"),REPLACE(手入力!G3,5,0,"/")) -> 2026/0518 | N9: 20260518 | O9: =IF(手入力!H3="",REPLACE(N9,5,0,"/"),REPLACE(手入力!H3,5,0,"/")) -> 2026/0518 | Q9: =IF(手入力!I3="",REPLACE(P9,5,0,"/"),REPLACE(手入力!I3,5,0,"/")) -> / | S9: =REPLACE(R9,5,0,"/") -> / | U9: =REPLACE(T9,5,0,"/") -> / | W9: =REPLACE(V9,5,0,"/") -> / | Y9: =REPLACE(X9,5,0,"/") -> / | Z9: =#REF! -> #REF! | AA9: =#REF! -> #REF! | AB9: =#REF! -> #REF! | AC9: =#REF! -> #REF! | AD9: =#REF! -> #REF! | AE9: =#REF! -> #REF! | AF9: =#REF! -> #REF! | AG9: =#REF! -> #REF! | ... AP9: =#REF! -> #REF! | AQ9: 月報値
A10: 2 | B10: 採水時刻 | C10: --- | D10: 1046 | E10: =TEXT(D10,"0000") -> 1046 | F10: 1031 | G10: =TEXT(F10,"0000") -> 1031 | H10: 1116 | I10: =TEXT(H10,"0000") -> 1116 | J10: 929 | K10: =TEXT(J10,"0000") -> 0929 | L10: 1008 | M10: =TEXT(L10,"0000") -> 1008 | N10: 953 | O10: =TEXT(N10,"0000") -> 0953 | Q10: =TEXT(P10,"0000") -> 0000 | S10: =TEXT(R10,"0000") -> 0000 | U10: =TEXT(T10,"0000") -> 0000 | W10: =TEXT(V10,"0000") -> 0000 | Y10: =TEXT(X10,"0000") -> 0000
A11: 3 | B11: 天候(前日) | C11: --- | D11: =IF(D$9=0,"",HLOOKUP(E11,天気タグ!$B$3:$AG$39,35)) -> 晴 | E11: =IF(E9=0,"",(RIGHT(E9,2))-1) -> 17 | F11: =IF(F$9=0,"",HLOOKUP(G11,天気タグ!$B$3:$AG$39,35)) -> 晴 | G11: =IF(G9=0,"",(RIGHT(G9,2))-1) -> 17 | H11: =IF(H$9=0,"",HLOOKUP(I11,天気タグ!$B$3:$AG$39,35)) -> 晴 | I11: =IF(I9=0,"",(RIGHT(I9,2))-1) -> 17 | J11: =IF(J$9=0,"",HLOOKUP(K11,天気タグ!$B$3:$AG$39,35)) -> 晴 | K11: =IF(K9=0,"",(RIGHT(K9,2))-1) -> 17 | L11: =IF(L$9=0,"",HLOOKUP(M11,天気タグ!$B$3:$AG$39,35)) -> 晴 | M11: =IF(M9=0,"",(RIGHT(M9,2))-1) -> 17 | N11: =IF(N$9=0,"",HLOOKUP(O11,天気タグ!$B$3:$AG$39,35)) -> 晴 | O11: =IF(O9=0,"",(RIGHT(O9,2))-1) -> 17 | Q11: =IF(Q9=0,"",(RIGHT(Q9,2))-1) -> #VALUE! | R11: =IF(R$9=0,"",HLOOKUP(S11,天気タグ!$B$3:$AG$39,35)) | S11: =IF(R9=0,"",(RIGHT(R9,2))-1) | T11: =IF(T$9=0,"",HLOOKUP(U11,天気タグ!$B$3:$AG$39,35)) | U11: =IF(T9=0,"",(RIGHT(T9,2))-1) | V11: =IF(V$9=0,"",HLOOKUP(W11,天気タグ!$B$3:$AG$39,35)) | W11: =IF(V9=0,"",(RIGHT(V9,2))-1) | Y11: =IF(X9=0,"",(RIGHT(X9,2))-1)
A12: 4 | B12: 天候(当日) | C12: --- | D12: =IF(D$9=0,"",HLOOKUP(E12,天気タグ!$B$3:$AG$39,35)) -> 晴 | E12: =IF(E9=0,"",RIGHT(E9,2)*1) -> 18 | F12: =IF(F$9=0,"",HLOOKUP(G12,天気タグ!$B$3:$AG$39,35)) -> 晴 | G12: =IF(G9=0,"",RIGHT(G9,2)*1) -> 18 | H12: =IF(H$9=0,"",HLOOKUP(I12,天気タグ!$B$3:$AG$39,35)) -> 晴 | I12: =IF(I9=0,"",RIGHT(I9,2)*1) -> 18 | J12: =IF(J$9=0,"",HLOOKUP(K12,天気タグ!$B$3:$AG$39,35)) -> 晴 | K12: =IF(K9=0,"",RIGHT(K9,2)*1) -> 18 | L12: =IF(L$9=0,"",HLOOKUP(M12,天気タグ!$B$3:$AG$39,35)) -> 晴 | M12: =IF(M9=0,"",RIGHT(M9,2)*1) -> 18 | N12: =IF(N$9=0,"",HLOOKUP(O12,天気タグ!$B$3:$AG$39,35)) -> 晴 | O12: =IF(O9=0,"",RIGHT(O9,2)*1) -> 18 | Q12: =IF(Q9=0,"",RIGHT(Q9,2)*1) -> #VALUE! | R12: =IF(R$9=0,"",HLOOKUP(S12,天気タグ!$B$3:$AG$39,35)) | S12: =IF(R9=0,"",RIGHT(R9,2)*1) | T12: =IF(T$9=0,"",HLOOKUP(U12,天気タグ!$B$3:$AG$39,35)) | U12: =IF(T9=0,"",RIGHT(T9,2)*1) | V12: =IF(V$9=0,"",HLOOKUP(W12,天気タグ!$B$3:$AG$39,35)) | W12: =IF(V9=0,"",RIGHT(V9,2)*1) | Y12: =IF(X9=0,"",RIGHT(X9,2)*1)
A13: 5 | B13: 気温 | C13: ℃ | D13: 24 | F13: 23 | H13: 22.5 | J13: 28 | L13: 22 | N13: 25 | Z13: =IFERROR(VLOOKUP(Z$9,#REF!,2,FALSE),"") | AA13: =IFERROR(VLOOKUP(AA$9,#REF!,2,FALSE),"") | AB13: =IFERROR(VLOOKUP(AB$9,#REF!,2,FALSE),"") | AC13: =IFERROR(VLOOKUP(AC$9,#REF!,2,FALSE),"") | AD13: =IFERROR(VLOOKUP(AD$9,#REF!,2,FALSE),"") | AE13: =IFERROR(VLOOKUP(AE$9,#REF!,2,FALSE),"") | AF13: =IFERROR(VLOOKUP(AF$9,#REF!,2,FALSE),"") | AG13: =IFERROR(VLOOKUP(AG$9,#REF!,2,FALSE),"") | ... AJ13: =IFERROR(VLOOKUP(AJ$9,#REF!,2,FALSE),"") | AK13: =IFERROR(VLOOKUP(ADA$9,#REF!,2,FALSE),"") | AL13: =IFERROR(VLOOKUP(AL$9,#REF!,2,FALSE),"") | AM13: =IFERROR(VLOOKUP(AM$9,#REF!,2,FALSE),"") | AN13: =IFERROR(VLOOKUP(AN$9,#REF!,2,FALSE),"") | AO13: =IFERROR(VLOOKUP(AO$9,#REF!,2,FALSE),"") | AP13: =IFERROR(VLOOKUP(AP$9,#REF!,2,FALSE),"") | AQ13: =#REF! -> #REF!
A14: 6 | B14: 水温 | C14: ℃ | D14: 13.4 | F14: 18 | H14: 14.8 | J14: 19.5 | L14: 13.6 | N14: 17.2 | Z14: =IFERROR(VLOOKUP(Z$9,#REF!,3,FALSE),"") | AA14: =IFERROR(VLOOKUP(AA$9,#REF!,3,FALSE),"") | AB14: =IFERROR(VLOOKUP(AB$9,#REF!,3,FALSE),"") | AC14: =IFERROR(VLOOKUP(AC$9,#REF!,3,FALSE),"") | AD14: =IFERROR(VLOOKUP(AD$9,#REF!,3,FALSE),"") | AE14: =IFERROR(VLOOKUP(AE$9,#REF!,3,FALSE),"") | AF14: =IFERROR(VLOOKUP(AF$9,#REF!,3,FALSE),"") | AG14: =IFERROR(VLOOKUP(AG$9,#REF!,3,FALSE),"") | ... AJ14: =IFERROR(VLOOKUP(AJ$9,#REF!,3,FALSE),"") | AK14: =IFERROR(VLOOKUP(ADA$9,#REF!,3,FALSE),"") | AL14: =IFERROR(VLOOKUP(AL$9,#REF!,3,FALSE),"") | AM14: =IFERROR(VLOOKUP(AM$9,#REF!,3,FALSE),"") | AN14: =IFERROR(VLOOKUP(AN$9,#REF!,3,FALSE),"") | AO14: =IFERROR(VLOOKUP(AO$9,#REF!,3,FALSE),"") | AP14: =IFERROR(VLOOKUP(AP$9,#REF!,3,FALSE),"") | AQ14: =#REF! -> #REF!
A15: 水質基準項目項目 | C15: （ 単 位 ） | AT15: 水質基準値 | AU15: 水質管理目標値
A16: 1 | B16: 一般細菌 | C16: 個/mL | D16: 0 | F16: 0 | H16: 0 | J16: 0 | L16: 0 | N16: 0 | Z16: =IFERROR(VLOOKUP(Z$9,#REF!,9,FALSE),"") | AA16: =IFERROR(VLOOKUP(AA$9,#REF!,9,FALSE),"") | AB16: =IFERROR(VLOOKUP(AB$9,#REF!,9,FALSE),"") | AC16: =IFERROR(VLOOKUP(AC$9,#REF!,9,FALSE),"") | AD16: =IFERROR(VLOOKUP(AD$9,#REF!,9,FALSE),"") | AE16: =IFERROR(VLOOKUP(AE$9,#REF!,9,FALSE),"") | AF16: =IFERROR(VLOOKUP(AF$9,#REF!,9,FALSE),"") | AG16: =IFERROR(VLOOKUP(AG$9,#REF!,9,FALSE),"") | ... AJ16: =IFERROR(VLOOKUP(AJ$9,#REF!,9,FALSE),"") | AK16: =IFERROR(VLOOKUP(ADA$9,#REF!,9,FALSE),"") | AL16: =IFERROR(VLOOKUP(AL$9,#REF!,9,FALSE),"") | AM16: =IFERROR(VLOOKUP(AM$9,#REF!,9,FALSE),"") | AN16: =IFERROR(VLOOKUP(AN$9,#REF!,9,FALSE),"") | AO16: =IFERROR(VLOOKUP(AO$9,#REF!,9,FALSE),"") | AP16: =IFERROR(VLOOKUP(AP$9,#REF!,9,FALSE),"") | AQ16: =#REF! -> #REF! | AS16: 一般細菌
A17: 2 | B17: 大腸菌 | C17: --- | D17: 1 | F17: 1 | H17: 1 | J17: 1 | L17: 1 | N17: 1 | Z17: =IFERROR(VLOOKUP(Z$9,#REF!,10,FALSE),"") | AA17: =IFERROR(VLOOKUP(AA$9,#REF!,10,FALSE),"") | AB17: =IFERROR(VLOOKUP(AB$9,#REF!,10,FALSE),"") | AC17: =IFERROR(VLOOKUP(AC$9,#REF!,10,FALSE),"") | AD17: =IFERROR(VLOOKUP(AD$9,#REF!,10,FALSE),"") | AE17: =IFERROR(VLOOKUP(AE$9,#REF!,10,FALSE),"") | AF17: =IFERROR(VLOOKUP(AF$9,#REF!,10,FALSE),"") | AG17: =IFERROR(VLOOKUP(AG$9,#REF!,10,FALSE),"") | ... AJ17: =IFERROR(VLOOKUP(AJ$9,#REF!,10,FALSE),"") | AK17: =IFERROR(VLOOKUP(ADA$9,#REF!,10,FALSE),"") | AL17: =IFERROR(VLOOKUP(AL$9,#REF!,10,FALSE),"") | AM17: =IFERROR(VLOOKUP(AM$9,#REF!,10,FALSE),"") | AN17: =IFERROR(VLOOKUP(AN$9,#REF!,10,FALSE),"") | AO17: =IFERROR(VLOOKUP(AO$9,#REF!,10,FALSE),"") | AP17: =IFERROR(VLOOKUP(AP$9,#REF!,10,FALSE),"") | AS17: 大腸菌
A18: 3 | B18: カドミウム及びその化合物 | C18: ㎎/L | E18: =D18/1000 -> #VALUE! | G18: =F18/1000 -> #VALUE! | I18: =H18/1000 -> #VALUE! | K18: =J18/1000 -> #VALUE! | M18: =L18/1000 -> #VALUE! | O18: =N18/1000 -> #VALUE! | Q18: =P18/1000 -> 0 | S18: =R18/1000 -> 0 | U18: =T18/1000 -> 0 | W18: =V18/1000 -> 0 | Y18: =X18/1000 -> 0 | Z18: =IFERROR(VLOOKUP(Z$9,#REF!,12,FALSE),"") | AA18: =IFERROR(VLOOKUP(AA$9,#REF!,12,FALSE),"") | AB18: =IFERROR(VLOOKUP(AB$9,#REF!,12,FALSE),"") | AC18: =IFERROR(VLOOKUP(AC$9,#REF!,12,FALSE),"") | AD18: =IFERROR(VLOOKUP(AD$9,#REF!,12,FALSE),"") | AE18: =IFERROR(VLOOKUP(AE$9,#REF!,12,FALSE),"") | AF18: =IFERROR(VLOOKUP(AF$9,#REF!,12,FALSE),"") | AG18: =IFERROR(VLOOKUP(AG$9,#REF!,12,FALSE),"") | ... AJ18: =IFERROR(VLOOKUP(AJ$9,#REF!,12,FALSE),"") | AK18: =IFERROR(VLOOKUP(ADA$9,#REF!,12,FALSE),"") | AL18: =IFERROR(VLOOKUP(AL$9,#REF!,12,FALSE),"") | AM18: =IFERROR(VLOOKUP(AM$9,#REF!,12,FALSE),"") | AN18: =IFERROR(VLOOKUP(AN$9,#REF!,12,FALSE),"") | AO18: =IFERROR(VLOOKUP(AO$9,#REF!,12,FALSE),"") | AP18: =IFERROR(VLOOKUP(AP$9,#REF!,12,FALSE),"") | AQ18: =#REF! -> #REF! | AS18: カドミウム及びその化合物
A19: 4 | B19: 水銀及びその化合物 | C19: ㎎/L | E19: =D19/1000 -> #VALUE! | G19: =F19/1000 -> #VALUE! | I19: =H19/1000 -> #VALUE! | K19: =J19/1000 -> #VALUE! | M19: =L19/1000 -> #VALUE! | O19: =N19/1000 -> #VALUE! | Q19: =P19/1000 -> 0 | S19: =R19/1000 -> 0 | U19: =T19/1000 -> 0 | W19: =V19/1000 -> 0 | Y19: =X19/1000 -> 0 | Z19: =IFERROR(VLOOKUP(Z$9,#REF!,25,FALSE),"") | AA19: =IFERROR(VLOOKUP(AA$9,#REF!,25,FALSE),"") | AB19: =IFERROR(VLOOKUP(AB$9,#REF!,25,FALSE),"") | AC19: =IFERROR(VLOOKUP(AC$9,#REF!,25,FALSE),"") | AD19: =IFERROR(VLOOKUP(AD$9,#REF!,25,FALSE),"") | AE19: =IFERROR(VLOOKUP(AE$9,#REF!,25,FALSE),"") | AF19: =IFERROR(VLOOKUP(AF$9,#REF!,25,FALSE),"") | AG19: =IFERROR(VLOOKUP(AG$9,#REF!,25,FALSE),"") | ... AJ19: =IFERROR(VLOOKUP(AJ$9,#REF!,25,FALSE),"") | AK19: =IFERROR(VLOOKUP(ADA$9,#REF!,25,FALSE),"") | AL19: =IFERROR(VLOOKUP(AL$9,#REF!,25,FALSE),"") | AM19: =IFERROR(VLOOKUP(AM$9,#REF!,25,FALSE),"") | AN19: =IFERROR(VLOOKUP(AN$9,#REF!,25,FALSE),"") | AO19: =IFERROR(VLOOKUP(AO$9,#REF!,25,FALSE),"") | AP19: =IFERROR(VLOOKUP(AP$9,#REF!,25,FALSE),"") | AQ19: =#REF! -> #REF! | AS19: 水銀及びその化合物
A20: 5 | B20: セレン及びその化合物 | C20: ㎎/L | E20: =D20/1000 -> #VALUE! | G20: =F20/1000 -> #VALUE! | I20: =H20/1000 -> #VALUE! | K20: =J20/1000 -> #VALUE! | M20: =L20/1000 -> #VALUE! | O20: =N20/1000 -> #VALUE! | Q20: =P20/1000 -> 0 | S20: =R20/1000 -> 0 | U20: =T20/1000 -> 0 | W20: =V20/1000 -> 0 | Y20: =X20/1000 -> 0 | Z20: =IFERROR(VLOOKUP(Z$9,#REF!,13,FALSE),"") | AA20: =IFERROR(VLOOKUP(AA$9,#REF!,13,FALSE),"") | AB20: =IFERROR(VLOOKUP(AB$9,#REF!,13,FALSE),"") | AC20: =IFERROR(VLOOKUP(AC$9,#REF!,13,FALSE),"") | AD20: =IFERROR(VLOOKUP(AD$9,#REF!,13,FALSE),"") | AE20: =IFERROR(VLOOKUP(AE$9,#REF!,13,FALSE),"") | AF20: =IFERROR(VLOOKUP(AF$9,#REF!,13,FALSE),"") | AG20: =IFERROR(VLOOKUP(AG$9,#REF!,13,FALSE),"") | ... AJ20: =IFERROR(VLOOKUP(AJ$9,#REF!,13,FALSE),"") | AK20: =IFERROR(VLOOKUP(ADA$9,#REF!,13,FALSE),"") | AL20: =IFERROR(VLOOKUP(AL$9,#REF!,13,FALSE),"") | AM20: =IFERROR(VLOOKUP(AM$9,#REF!,13,FALSE),"") | AN20: =IFERROR(VLOOKUP(AN$9,#REF!,13,FALSE),"") | AO20: =IFERROR(VLOOKUP(AO$9,#REF!,13,FALSE),"") | AP20: =IFERROR(VLOOKUP(AP$9,#REF!,13,FALSE),"") | AQ20: =#REF! -> #REF! | AS20: セレン及びその化合物
A21: 6 | B21: 鉛及びその化合物 | C21: ㎎/L | E21: =D21/1000 -> #VALUE! | G21: =F21/1000 -> #VALUE! | I21: =H21/1000 -> #VALUE! | K21: =J21/1000 -> #VALUE! | M21: =L21/1000 -> #VALUE! | O21: =N21/1000 -> #VALUE! | Q21: =P21/1000 -> 0 | S21: =R21/1000 -> 0 | U21: =T21/1000 -> 0 | W21: =V21/1000 -> 0 | Y21: =X21/1000 -> 0 | Z21: =IFERROR(VLOOKUP(Z$9,#REF!,14,FALSE),"") | AA21: =IFERROR(VLOOKUP(AA$9,#REF!,14,FALSE),"") | AB21: =IFERROR(VLOOKUP(AB$9,#REF!,14,FALSE),"") | AC21: =IFERROR(VLOOKUP(AC$9,#REF!,14,FALSE),"") | AD21: =IFERROR(VLOOKUP(AD$9,#REF!,14,FALSE),"") | AE21: =IFERROR(VLOOKUP(AE$9,#REF!,14,FALSE),"") | AF21: =IFERROR(VLOOKUP(AF$9,#REF!,14,FALSE),"") | AG21: =IFERROR(VLOOKUP(AG$9,#REF!,14,FALSE),"") | ... AJ21: =IFERROR(VLOOKUP(AJ$9,#REF!,14,FALSE),"") | AK21: =IFERROR(VLOOKUP(ADA$9,#REF!,14,FALSE),"") | AL21: =IFERROR(VLOOKUP(AL$9,#REF!,14,FALSE),"") | AM21: =IFERROR(VLOOKUP(AM$9,#REF!,14,FALSE),"") | AN21: =IFERROR(VLOOKUP(AN$9,#REF!,14,FALSE),"") | AO21: =IFERROR(VLOOKUP(AO$9,#REF!,14,FALSE),"") | AP21: =IFERROR(VLOOKUP(AP$9,#REF!,14,FALSE),"") | AQ21: =#REF! -> #REF! | AS21: 鉛及びその化合物
A22: 7 | B22: ヒ素及びその化合物 | C22: ㎎/L | E22: =D22/1000 -> #VALUE! | G22: =F22/1000 -> #VALUE! | I22: =H22/1000 -> #VALUE! | K22: =J22/1000 -> #VALUE! | M22: =L22/1000 -> #VALUE! | O22: =N22/1000 -> #VALUE! | Q22: =P22/1000 -> 0 | S22: =R22/1000 -> 0 | U22: =T22/1000 -> 0 | W22: =V22/1000 -> 0 | Y22: =X22/1000 -> 0 | Z22: =IFERROR(VLOOKUP(Z$9,#REF!,15,FALSE),"") | AA22: =IFERROR(VLOOKUP(AA$9,#REF!,15,FALSE),"") | AB22: =IFERROR(VLOOKUP(AB$9,#REF!,15,FALSE),"") | AC22: =IFERROR(VLOOKUP(AC$9,#REF!,15,FALSE),"") | AD22: =IFERROR(VLOOKUP(AD$9,#REF!,15,FALSE),"") | AE22: =IFERROR(VLOOKUP(AE$9,#REF!,15,FALSE),"") | AF22: =IFERROR(VLOOKUP(AF$9,#REF!,15,FALSE),"") | AG22: =IFERROR(VLOOKUP(AG$9,#REF!,15,FALSE),"") | ... AJ22: =IFERROR(VLOOKUP(AJ$9,#REF!,15,FALSE),"") | AK22: =IFERROR(VLOOKUP(ADA$9,#REF!,15,FALSE),"") | AL22: =IFERROR(VLOOKUP(AL$9,#REF!,15,FALSE),"") | AM22: =IFERROR(VLOOKUP(AM$9,#REF!,15,FALSE),"") | AN22: =IFERROR(VLOOKUP(AN$9,#REF!,15,FALSE),"") | AO22: =IFERROR(VLOOKUP(AO$9,#REF!,15,FALSE),"") | AP22: =IFERROR(VLOOKUP(AP$9,#REF!,15,FALSE),"") | AQ22: =#REF! -> #REF! | AS22: ヒ素及びその化合物
A23: 8 | B23: 六価クロム化合物 | C23: ㎎/L | E23: =D23/1000 -> #VALUE! | G23: =F23/1000 -> #VALUE! | I23: =H23/1000 -> #VALUE! | K23: =J23/1000 -> #VALUE! | M23: =L23/1000 -> #VALUE! | O23: =N23/1000 -> #VALUE! | Q23: =P23/1000 -> 0 | S23: =R23/1000 -> 0 | U23: =T23/1000 -> 0 | W23: =V23/1000 -> 0 | Y23: =X23/1000 -> 0 | Z23: =IFERROR(VLOOKUP(Z$9,#REF!,16,FALSE),"") | AA23: =IFERROR(VLOOKUP(AA$9,#REF!,16,FALSE),"") | AB23: =IFERROR(VLOOKUP(AB$9,#REF!,16,FALSE),"") | AC23: =IFERROR(VLOOKUP(AC$9,#REF!,16,FALSE),"") | AD23: =IFERROR(VLOOKUP(AD$9,#REF!,16,FALSE),"") | AE23: =IFERROR(VLOOKUP(AE$9,#REF!,16,FALSE),"") | AF23: =IFERROR(VLOOKUP(AF$9,#REF!,16,FALSE),"") | AG23: =IFERROR(VLOOKUP(AG$9,#REF!,16,FALSE),"") | ... AJ23: =IFERROR(VLOOKUP(AJ$9,#REF!,16,FALSE),"") | AK23: =IFERROR(VLOOKUP(ADA$9,#REF!,16,FALSE),"") | AL23: =IFERROR(VLOOKUP(AL$9,#REF!,16,FALSE),"") | AM23: =IFERROR(VLOOKUP(AM$9,#REF!,16,FALSE),"") | AN23: =IFERROR(VLOOKUP(AN$9,#REF!,16,FALSE),"") | AO23: =IFERROR(VLOOKUP(AO$9,#REF!,16,FALSE),"") | AP23: =IFERROR(VLOOKUP(AP$9,#REF!,16,FALSE),"") | AQ23: =#REF! -> #REF! | AS23: 六価クロム化合物
A24: 9 | B24: 亜硝酸態窒素 | C24: ㎎/L | D24: 0 | F24: 0 | H24: 0 | J24: 0 | L24: 0 | N24: 0 | Z24: =IFERROR(VLOOKUP(Z$9,#REF!,34,FALSE),"") | AA24: =IFERROR(VLOOKUP(AA$9,#REF!,34,FALSE),"") | AB24: =IFERROR(VLOOKUP(AB$9,#REF!,34,FALSE),"") | AC24: =IFERROR(VLOOKUP(AC$9,#REF!,34,FALSE),"") | AD24: =IFERROR(VLOOKUP(AD$9,#REF!,34,FALSE),"") | AE24: =IFERROR(VLOOKUP(AE$9,#REF!,34,FALSE),"") | AF24: =IFERROR(VLOOKUP(AF$9,#REF!,34,FALSE),"") | AG24: =IFERROR(VLOOKUP(AG$9,#REF!,34,FALSE),"") | ... AJ24: =IFERROR(VLOOKUP(AJ$9,#REF!,34,FALSE),"") | AK24: =IFERROR(VLOOKUP(ADA$9,#REF!,34,FALSE),"") | AL24: =IFERROR(VLOOKUP(AL$9,#REF!,34,FALSE),"") | AM24: =IFERROR(VLOOKUP(AM$9,#REF!,34,FALSE),"") | AN24: =IFERROR(VLOOKUP(AN$9,#REF!,34,FALSE),"") | AO24: =IFERROR(VLOOKUP(AO$9,#REF!,34,FALSE),"") | AP24: =IFERROR(VLOOKUP(AP$9,#REF!,34,FALSE),"") | AQ24: =#REF! -> #REF! | AS24: 亜硝酸態窒素
A25: 10 | B25: シアン化物イオン及び塩化シアン | C25: ㎎/L | E25: =D25/1000 -> #VALUE! | G25: =F25/1000 -> #VALUE! | I25: =H25/1000 -> #VALUE! | K25: =J25/1000 -> #VALUE! | M25: =L25/1000 -> #VALUE! | O25: =N25/1000 -> #VALUE! | Q25: =P25/1000 -> 0 | S25: =R25/1000 -> 0 | U25: =T25/1000 -> 0 | W25: =V25/1000 -> 0 | Y25: =X25/1000 -> 0 | Z25: =IFERROR(VLOOKUP(Z$9,#REF!,29,FALSE),"") | AA25: =IFERROR(VLOOKUP(AA$9,#REF!,29,FALSE),"") | AB25: =IFERROR(VLOOKUP(AB$9,#REF!,29,FALSE),"") | AC25: =IFERROR(VLOOKUP(AC$9,#REF!,29,FALSE),"") | AD25: =IFERROR(VLOOKUP(AD$9,#REF!,29,FALSE),"") | AE25: =IFERROR(VLOOKUP(AE$9,#REF!,29,FALSE),"") | AF25: =IFERROR(VLOOKUP(AF$9,#REF!,29,FALSE),"") | AG25: =IFERROR(VLOOKUP(AG$9,#REF!,29,FALSE),"") | ... AJ25: =IFERROR(VLOOKUP(AJ$9,#REF!,29,FALSE),"") | AK25: =IFERROR(VLOOKUP(ADA$9,#REF!,29,FALSE),"") | AL25: =IFERROR(VLOOKUP(AL$9,#REF!,29,FALSE),"") | AM25: =IFERROR(VLOOKUP(AM$9,#REF!,29,FALSE),"") | AN25: =IFERROR(VLOOKUP(AN$9,#REF!,29,FALSE),"") | AO25: =IFERROR(VLOOKUP(AO$9,#REF!,29,FALSE),"") | AP25: =IFERROR(VLOOKUP(AP$9,#REF!,29,FALSE),"") | AQ25: =#REF! -> #REF! | AS25: シアン化物イオン及び塩化シアン
A26: 11 | B26: 硝酸態窒素及び亜硝酸態窒素 | C26: ㎎/L | D26: 0.11 | F26: 0.11 | H26: 0.19 | J26: 0.19 | L26: 0.43 | N26: 0.44 | Z26: =IFERROR(VLOOKUP(Z$9,#REF!,36,FALSE),"") | AA26: =IFERROR(VLOOKUP(AA$9,#REF!,36,FALSE),"") | AB26: =IFERROR(VLOOKUP(AB$9,#REF!,36,FALSE),"") | AC26: =IFERROR(VLOOKUP(AC$9,#REF!,36,FALSE),"") | AD26: =IFERROR(VLOOKUP(AD$9,#REF!,36,FALSE),"") | AE26: =IFERROR(VLOOKUP(AE$9,#REF!,36,FALSE),"") | AF26: =IFERROR(VLOOKUP(AF$9,#REF!,36,FALSE),"") | AG26: =IFERROR(VLOOKUP(AG$9,#REF!,36,FALSE),"") | ... AJ26: =IFERROR(VLOOKUP(AJ$9,#REF!,36,FALSE),"") | AK26: =IFERROR(VLOOKUP(ADA$9,#REF!,36,FALSE),"") | AL26: =IFERROR(VLOOKUP(AL$9,#REF!,36,FALSE),"") | AM26: =IFERROR(VLOOKUP(AM$9,#REF!,36,FALSE),"") | AN26: =IFERROR(VLOOKUP(AN$9,#REF!,36,FALSE),"") | AO26: =IFERROR(VLOOKUP(AO$9,#REF!,36,FALSE),"") | AP26: =IFERROR(VLOOKUP(AP$9,#REF!,36,FALSE),"") | AQ26: =#REF! -> #REF! | AS26: 硝酸態窒素及び亜硝酸態窒素
A27: 12 | B27: フッ素及びその化合物 | C27: ㎎/L | D27: 0 | F27: 0 | H27: 0 | J27: 0 | L27: 0 | N27: 0 | Z27: =IFERROR(VLOOKUP(Z$9,#REF!,31,FALSE),"") | AA27: =IFERROR(VLOOKUP(AA$9,#REF!,31,FALSE),"") | AB27: =IFERROR(VLOOKUP(AB$9,#REF!,31,FALSE),"") | AC27: =IFERROR(VLOOKUP(AC$9,#REF!,31,FALSE),"") | AD27: =IFERROR(VLOOKUP(AD$9,#REF!,31,FALSE),"") | AE27: =IFERROR(VLOOKUP(AE$9,#REF!,31,FALSE),"") | AF27: =IFERROR(VLOOKUP(AF$9,#REF!,31,FALSE),"") | AG27: =IFERROR(VLOOKUP(AG$9,#REF!,31,FALSE),"") | ... AJ27: =IFERROR(VLOOKUP(AJ$9,#REF!,31,FALSE),"") | AK27: =IFERROR(VLOOKUP(ADA$9,#REF!,31,FALSE),"") | AL27: =IFERROR(VLOOKUP(AL$9,#REF!,31,FALSE),"") | AM27: =IFERROR(VLOOKUP(AM$9,#REF!,31,FALSE),"") | AN27: =IFERROR(VLOOKUP(AN$9,#REF!,31,FALSE),"") | AO27: =IFERROR(VLOOKUP(AO$9,#REF!,31,FALSE),"") | AP27: =IFERROR(VLOOKUP(AP$9,#REF!,31,FALSE),"") | AQ27: =#REF! -> #REF! | AS27: フッ素及びその化合物
A28: 13 | B28: ホウ素及びその化合物 | C28: ㎎/L | E28: =D28/1000 -> #VALUE! | G28: =F28/1000 -> #VALUE! | I28: =H28/1000 -> #VALUE! | K28: =J28/1000 -> #VALUE! | M28: =L28/1000 -> #VALUE! | O28: =N28/1000 -> #VALUE! | Q28: =P28/1000 -> 0 | S28: =R28/1000 -> 0 | U28: =T28/1000 -> 0 | W28: =V28/1000 -> 0 | Y28: =X28/1000 -> 0 | Z28: =IFERROR(VLOOKUP(Z$9,#REF!,17,FALSE),"") | AA28: =IFERROR(VLOOKUP(AA$9,#REF!,17,FALSE),"") | AB28: =IFERROR(VLOOKUP(AB$9,#REF!,17,FALSE),"") | AC28: =IFERROR(VLOOKUP(AC$9,#REF!,17,FALSE),"") | AD28: =IFERROR(VLOOKUP(AD$9,#REF!,17,FALSE),"") | AE28: =IFERROR(VLOOKUP(AE$9,#REF!,17,FALSE),"") | AF28: =IFERROR(VLOOKUP(AF$9,#REF!,17,FALSE),"") | AG28: =IFERROR(VLOOKUP(AG$9,#REF!,17,FALSE),"") | ... AJ28: =IFERROR(VLOOKUP(AJ$9,#REF!,17,FALSE),"") | AK28: =IFERROR(VLOOKUP(ADA$9,#REF!,17,FALSE),"") | AL28: =IFERROR(VLOOKUP(AL$9,#REF!,17,FALSE),"") | AM28: =IFERROR(VLOOKUP(AM$9,#REF!,17,FALSE),"") | AN28: =IFERROR(VLOOKUP(AN$9,#REF!,17,FALSE),"") | AO28: =IFERROR(VLOOKUP(AO$9,#REF!,17,FALSE),"") | AP28: =IFERROR(VLOOKUP(AP$9,#REF!,17,FALSE),"") | AQ28: =#REF! -> #REF! | AS28: ホウ素及びその化合物
A29: 14 | B29: 四塩化炭素 | C29: ㎎/L | E29: =D29/1000 -> #VALUE! | G29: =F29/1000 -> #VALUE! | I29: =H29/1000 -> #VALUE! | K29: =J29/1000 -> #VALUE! | M29: =L29/1000 -> #VALUE! | O29: =N29/1000 -> #VALUE! | Q29: =P29/1000 -> 0 | S29: =R29/1000 -> 0 | U29: =T29/1000 -> 0 | W29: =V29/1000 -> 0 | Y29: =X29/1000 -> 0 | Z29: =IFERROR(VLOOKUP(Z$9,#REF!,42,FALSE),"") | AA29: =IFERROR(VLOOKUP(AA$9,#REF!,42,FALSE),"") | AB29: =IFERROR(VLOOKUP(AB$9,#REF!,42,FALSE),"") | AC29: =IFERROR(VLOOKUP(AC$9,#REF!,42,FALSE),"") | AD29: =IFERROR(VLOOKUP(AD$9,#REF!,42,FALSE),"") | AE29: =IFERROR(VLOOKUP(AE$9,#REF!,42,FALSE),"") | AF29: =IFERROR(VLOOKUP(AF$9,#REF!,42,FALSE),"") | AG29: =IFERROR(VLOOKUP(AG$9,#REF!,42,FALSE),"") | ... AJ29: =IFERROR(VLOOKUP(AJ$9,#REF!,42,FALSE),"") | AK29: =IFERROR(VLOOKUP(ADA$9,#REF!,42,FALSE),"") | AL29: =IFERROR(VLOOKUP(AL$9,#REF!,42,FALSE),"") | AM29: =IFERROR(VLOOKUP(AM$9,#REF!,42,FALSE),"") | AN29: =IFERROR(VLOOKUP(AN$9,#REF!,42,FALSE),"") | AO29: =IFERROR(VLOOKUP(AO$9,#REF!,42,FALSE),"") | AP29: =IFERROR(VLOOKUP(AP$9,#REF!,42,FALSE),"") | AQ29: =#REF! -> #REF! | AS29: 四塩化炭素
A30: 15 | B30: １,４-ジオキサン | C30: ㎎/L | E30: =D30/1000 -> #VALUE! | G30: =F30/1000 -> #VALUE! | I30: =H30/1000 -> #VALUE! | K30: =J30/1000 -> #VALUE! | M30: =L30/1000 -> #VALUE! | O30: =N30/1000 -> #VALUE! | Q30: =P30/1000 -> 0 | S30: =R30/1000 -> 0 | U30: =T30/1000 -> 0 | W30: =V30/1000 -> 0 | Y30: =X30/1000 -> 0 | Z30: =IFERROR(VLOOKUP(Z$9,#REF!,43,FALSE),"") | AA30: =IFERROR(VLOOKUP(AA$9,#REF!,43,FALSE),"") | AB30: =IFERROR(VLOOKUP(AB$9,#REF!,43,FALSE),"") | AC30: =IFERROR(VLOOKUP(AC$9,#REF!,43,FALSE),"") | AD30: =IFERROR(VLOOKUP(AD$9,#REF!,43,FALSE),"") | AE30: =IFERROR(VLOOKUP(AE$9,#REF!,43,FALSE),"") | AF30: =IFERROR(VLOOKUP(AF$9,#REF!,43,FALSE),"") | AG30: =IFERROR(VLOOKUP(AG$9,#REF!,43,FALSE),"") | ... AJ30: =IFERROR(VLOOKUP(AJ$9,#REF!,43,FALSE),"") | AK30: =IFERROR(VLOOKUP(ADA$9,#REF!,43,FALSE),"") | AL30: =IFERROR(VLOOKUP(AL$9,#REF!,43,FALSE),"") | AM30: =IFERROR(VLOOKUP(AM$9,#REF!,43,FALSE),"") | AN30: =IFERROR(VLOOKUP(AN$9,#REF!,43,FALSE),"") | AO30: =IFERROR(VLOOKUP(AO$9,#REF!,43,FALSE),"") | AP30: =IFERROR(VLOOKUP(AP$9,#REF!,43,FALSE),"") | AQ30: =#REF! -> #REF! | AS30: １,４-ジオキサン
A31: 16 | B31: シス及びトランス-１,２-ジクロロエチレン | C31: ㎎/L | E31: =D31/1000 -> #VALUE! | G31: =F31/1000 -> #VALUE! | I31: =H31/1000 -> #VALUE! | K31: =J31/1000 -> #VALUE! | M31: =L31/1000 -> #VALUE! | O31: =N31/1000 -> #VALUE! | Q31: =P31/1000 -> 0 | S31: =R31/1000 -> 0 | U31: =T31/1000 -> 0 | W31: =V31/1000 -> 0 | Y31: =X31/1000 -> 0 | Z31: =IFERROR(VLOOKUP(Z$9,#REF!,46,FALSE),"") | AA31: =IFERROR(VLOOKUP(AA$9,#REF!,46,FALSE),"") | AB31: =IFERROR(VLOOKUP(AB$9,#REF!,46,FALSE),"") | AC31: =IFERROR(VLOOKUP(AC$9,#REF!,46,FALSE),"") | AD31: =IFERROR(VLOOKUP(AD$9,#REF!,46,FALSE),"") | AE31: =IFERROR(VLOOKUP(AE$9,#REF!,46,FALSE),"") | AF31: =IFERROR(VLOOKUP(AF$9,#REF!,46,FALSE),"") | AG31: =IFERROR(VLOOKUP(AG$9,#REF!,46,FALSE),"") | ... AJ31: =IFERROR(VLOOKUP(AJ$9,#REF!,46,FALSE),"") | AK31: =IFERROR(VLOOKUP(ADA$9,#REF!,46,FALSE),"") | AL31: =IFERROR(VLOOKUP(AL$9,#REF!,46,FALSE),"") | AM31: =IFERROR(VLOOKUP(AM$9,#REF!,46,FALSE),"") | AN31: =IFERROR(VLOOKUP(AN$9,#REF!,46,FALSE),"") | AO31: =IFERROR(VLOOKUP(AO$9,#REF!,46,FALSE),"") | AP31: =IFERROR(VLOOKUP(AP$9,#REF!,46,FALSE),"") | AQ31: =#REF! -> #REF! | AS31: シス及びトランス-１,２-ジクロロエチレン
A32: 17 | B32: ジクロロメタン | C32: ㎎/L | E32: =D32/1000 -> #VALUE! | G32: =F32/1000 -> #VALUE! | I32: =H32/1000 -> #VALUE! | K32: =J32/1000 -> #VALUE! | M32: =L32/1000 -> #VALUE! | O32: =N32/1000 -> #VALUE! | Q32: =P32/1000 -> 0 | S32: =R32/1000 -> 0 | U32: =T32/1000 -> 0 | W32: =V32/1000 -> 0 | Y32: =X32/1000 -> 0 | Z32: =IFERROR(VLOOKUP(Z$9,#REF!,47,FALSE),"") | AA32: =IFERROR(VLOOKUP(AA$9,#REF!,47,FALSE),"") | AB32: =IFERROR(VLOOKUP(AB$9,#REF!,47,FALSE),"") | AC32: =IFERROR(VLOOKUP(AC$9,#REF!,47,FALSE),"") | AD32: =IFERROR(VLOOKUP(AD$9,#REF!,47,FALSE),"") | AE32: =IFERROR(VLOOKUP(AE$9,#REF!,47,FALSE),"") | AF32: =IFERROR(VLOOKUP(AF$9,#REF!,47,FALSE),"") | AG32: =IFERROR(VLOOKUP(AG$9,#REF!,47,FALSE),"") | ... AJ32: =IFERROR(VLOOKUP(AJ$9,#REF!,47,FALSE),"") | AK32: =IFERROR(VLOOKUP(ADA$9,#REF!,47,FALSE),"") | AL32: =IFERROR(VLOOKUP(AL$9,#REF!,47,FALSE),"") | AM32: =IFERROR(VLOOKUP(AM$9,#REF!,47,FALSE),"") | AN32: =IFERROR(VLOOKUP(AN$9,#REF!,47,FALSE),"") | AO32: =IFERROR(VLOOKUP(AO$9,#REF!,47,FALSE),"") | AP32: =IFERROR(VLOOKUP(AP$9,#REF!,47,FALSE),"") | AQ32: =#REF! -> #REF! | AS32: ジクロロメタン
A33: 18 | B33: テトラクロロエチレン | C33: ㎎/L | E33: =D33/1000 -> #VALUE! | G33: =F33/1000 -> #VALUE! | I33: =H33/1000 -> #VALUE! | K33: =J33/1000 -> #VALUE! | M33: =L33/1000 -> #VALUE! | O33: =N33/1000 -> #VALUE! | Q33: =P33/1000 -> 0 | S33: =R33/1000 -> 0 | U33: =T33/1000 -> 0 | W33: =V33/1000 -> 0 | Y33: =X33/1000 -> 0 | Z33: =IFERROR(VLOOKUP(Z$9,#REF!,48,FALSE),"") | AA33: =IFERROR(VLOOKUP(AA$9,#REF!,48,FALSE),"") | AB33: =IFERROR(VLOOKUP(AB$9,#REF!,48,FALSE),"") | AC33: =IFERROR(VLOOKUP(AC$9,#REF!,48,FALSE),"") | AD33: =IFERROR(VLOOKUP(AD$9,#REF!,48,FALSE),"") | AE33: =IFERROR(VLOOKUP(AE$9,#REF!,48,FALSE),"") | AF33: =IFERROR(VLOOKUP(AF$9,#REF!,48,FALSE),"") | AG33: =IFERROR(VLOOKUP(AG$9,#REF!,48,FALSE),"") | ... AJ33: =IFERROR(VLOOKUP(AJ$9,#REF!,48,FALSE),"") | AK33: =IFERROR(VLOOKUP(ADA$9,#REF!,48,FALSE),"") | AL33: =IFERROR(VLOOKUP(AL$9,#REF!,48,FALSE),"") | AM33: =IFERROR(VLOOKUP(AM$9,#REF!,48,FALSE),"") | AN33: =IFERROR(VLOOKUP(AN$9,#REF!,48,FALSE),"") | AO33: =IFERROR(VLOOKUP(AO$9,#REF!,48,FALSE),"") | AP33: =IFERROR(VLOOKUP(AP$9,#REF!,48,FALSE),"") | AQ33: =#REF! -> #REF! | AS33: テトラクロロエチレン
A34: 19 | B34: トリクロロエチレン | C34: ㎎/L | E34: =D34/1000 -> #VALUE! | G34: =F34/1000 -> #VALUE! | I34: =H34/1000 -> #VALUE! | K34: =J34/1000 -> #VALUE! | M34: =L34/1000 -> #VALUE! | O34: =N34/1000 -> #VALUE! | Q34: =P34/1000 -> 0 | S34: =R34/1000 -> 0 | U34: =T34/1000 -> 0 | W34: =V34/1000 -> 0 | Y34: =X34/1000 -> 0 | Z34: =IFERROR(VLOOKUP(Z$9,#REF!,49,FALSE),"") | AA34: =IFERROR(VLOOKUP(AA$9,#REF!,49,FALSE),"") | AB34: =IFERROR(VLOOKUP(AB$9,#REF!,49,FALSE),"") | AC34: =IFERROR(VLOOKUP(AC$9,#REF!,49,FALSE),"") | AD34: =IFERROR(VLOOKUP(AD$9,#REF!,49,FALSE),"") | AE34: =IFERROR(VLOOKUP(AE$9,#REF!,49,FALSE),"") | AF34: =IFERROR(VLOOKUP(AF$9,#REF!,49,FALSE),"") | AG34: =IFERROR(VLOOKUP(AG$9,#REF!,49,FALSE),"") | ... AJ34: =IFERROR(VLOOKUP(AJ$9,#REF!,49,FALSE),"") | AK34: =IFERROR(VLOOKUP(ADA$9,#REF!,49,FALSE),"") | AL34: =IFERROR(VLOOKUP(AL$9,#REF!,49,FALSE),"") | AM34: =IFERROR(VLOOKUP(AM$9,#REF!,49,FALSE),"") | AN34: =IFERROR(VLOOKUP(AN$9,#REF!,49,FALSE),"") | AO34: =IFERROR(VLOOKUP(AO$9,#REF!,49,FALSE),"") | AP34: =IFERROR(VLOOKUP(AP$9,#REF!,49,FALSE),"") | AQ34: =#REF! -> #REF! | AS34: トリクロロエチレン
A35: 20 | B35: ベンゼン | C35: ㎎/L | E35: =D35/1000 -> #VALUE! | G35: =F35/1000 -> #VALUE! | I35: =H35/1000 -> #VALUE! | K35: =J35/1000 -> #VALUE! | M35: =L35/1000 -> #VALUE! | O35: =N35/1000 -> #VALUE! | Q35: =P35/1000 -> 0 | S35: =R35/1000 -> 0 | U35: =T35/1000 -> 0 | W35: =V35/1000 -> 0 | Y35: =X35/1000 -> 0 | Z35: =IFERROR(VLOOKUP(Z$9,#REF!,50,FALSE),"") | AA35: =IFERROR(VLOOKUP(AA$9,#REF!,50,FALSE),"") | AB35: =IFERROR(VLOOKUP(AB$9,#REF!,50,FALSE),"") | AC35: =IFERROR(VLOOKUP(AC$9,#REF!,50,FALSE),"") | AD35: =IFERROR(VLOOKUP(AD$9,#REF!,50,FALSE),"") | AE35: =IFERROR(VLOOKUP(AE$9,#REF!,50,FALSE),"") | AF35: =IFERROR(VLOOKUP(AF$9,#REF!,50,FALSE),"") | AG35: =IFERROR(VLOOKUP(AG$9,#REF!,50,FALSE),"") | ... AJ35: =IFERROR(VLOOKUP(AJ$9,#REF!,50,FALSE),"") | AK35: =IFERROR(VLOOKUP(ADA$9,#REF!,50,FALSE),"") | AL35: =IFERROR(VLOOKUP(AL$9,#REF!,50,FALSE),"") | AM35: =IFERROR(VLOOKUP(AM$9,#REF!,50,FALSE),"") | AN35: =IFERROR(VLOOKUP(AN$9,#REF!,50,FALSE),"") | AO35: =IFERROR(VLOOKUP(AO$9,#REF!,50,FALSE),"") | AP35: =IFERROR(VLOOKUP(AP$9,#REF!,50,FALSE),"") | AQ35: =#REF! -> #REF! | AS35: ベンゼン
A36: 21 | B36: 塩素酸 | C36: ㎎/L | D36: 0 | F36: 0 | H36: 0 | J36: 0.05 | L36: 0 | N36: 0 | Z36: =IFERROR(VLOOKUP(Z$9,#REF!,33,FALSE),"") | AA36: =IFERROR(VLOOKUP(AA$9,#REF!,33,FALSE),"") | AB36: =IFERROR(VLOOKUP(AB$9,#REF!,33,FALSE),"") | AC36: =IFERROR(VLOOKUP(AC$9,#REF!,33,FALSE),"") | AD36: =IFERROR(VLOOKUP(AD$9,#REF!,33,FALSE),"") | AE36: =IFERROR(VLOOKUP(AE$9,#REF!,33,FALSE),"") | AF36: =IFERROR(VLOOKUP(AF$9,#REF!,33,FALSE),"") | AG36: =IFERROR(VLOOKUP(AG$9,#REF!,33,FALSE),"") | ... AJ36: =IFERROR(VLOOKUP(AJ$9,#REF!,33,FALSE),"") | AK36: =IFERROR(VLOOKUP(ADA$9,#REF!,33,FALSE),"") | AL36: =IFERROR(VLOOKUP(AL$9,#REF!,33,FALSE),"") | AM36: =IFERROR(VLOOKUP(AM$9,#REF!,33,FALSE),"") | AN36: =IFERROR(VLOOKUP(AN$9,#REF!,33,FALSE),"") | AO36: =IFERROR(VLOOKUP(AO$9,#REF!,33,FALSE),"") | AP36: =IFERROR(VLOOKUP(AP$9,#REF!,33,FALSE),"") | AQ36: =#REF! -> #REF! | AS36: 塩素酸
A37: 22 | B37: クロロ酢酸 | C37: ㎎/L | D37: 0 | F37: 0 | H37: 0 | J37: 0 | L37: 0 | N37: 0 | Z37: =IFERROR(VLOOKUP(Z$9,#REF!,57,FALSE),"") | AA37: =IFERROR(VLOOKUP(AA$9,#REF!,57,FALSE),"") | AB37: =IFERROR(VLOOKUP(AB$9,#REF!,57,FALSE),"") | AC37: =IFERROR(VLOOKUP(AC$9,#REF!,57,FALSE),"") | AD37: =IFERROR(VLOOKUP(AD$9,#REF!,57,FALSE),"") | AE37: =IFERROR(VLOOKUP(AE$9,#REF!,57,FALSE),"") | AF37: =IFERROR(VLOOKUP(AF$9,#REF!,57,FALSE),"") | AG37: =IFERROR(VLOOKUP(AG$9,#REF!,57,FALSE),"") | ... AJ37: =IFERROR(VLOOKUP(AJ$9,#REF!,57,FALSE),"") | AK37: =IFERROR(VLOOKUP(ADA$9,#REF!,57,FALSE),"") | AL37: =IFERROR(VLOOKUP(AL$9,#REF!,57,FALSE),"") | AM37: =IFERROR(VLOOKUP(AM$9,#REF!,57,FALSE),"") | AN37: =IFERROR(VLOOKUP(AN$9,#REF!,57,FALSE),"") | AO37: =IFERROR(VLOOKUP(AO$9,#REF!,57,FALSE),"") | AP37: =IFERROR(VLOOKUP(AP$9,#REF!,57,FALSE),"") | AQ37: =#REF! -> #REF! | AS37: クロロ酢酸
A38: 23 | B38: クロロホルム | C38: ㎎/L | E38: =D38/1000 -> #VALUE! | G38: =F38/1000 -> #VALUE! | I38: =H38/1000 -> #VALUE! | K38: =J38/1000 -> #VALUE! | M38: =L38/1000 -> #VALUE! | O38: =N38/1000 -> #VALUE! | Q38: =P38/1000 -> 0 | S38: =R38/1000 -> 0 | U38: =T38/1000 -> 0 | W38: =V38/1000 -> 0 | Y38: =X38/1000 -> 0 | Z38: =IFERROR(VLOOKUP(Z$9,#REF!,51,FALSE),"") | AA38: =IFERROR(VLOOKUP(AA$9,#REF!,51,FALSE),"") | AB38: =IFERROR(VLOOKUP(AB$9,#REF!,51,FALSE),"") | AC38: =IFERROR(VLOOKUP(AC$9,#REF!,51,FALSE),"") | AD38: =IFERROR(VLOOKUP(AD$9,#REF!,51,FALSE),"") | AE38: =IFERROR(VLOOKUP(AE$9,#REF!,51,FALSE),"") | AF38: =IFERROR(VLOOKUP(AF$9,#REF!,51,FALSE),"") | AG38: =IFERROR(VLOOKUP(AG$9,#REF!,51,FALSE),"") | ... AJ38: =IFERROR(VLOOKUP(AJ$9,#REF!,51,FALSE),"") | AK38: =IFERROR(VLOOKUP(ADA$9,#REF!,51,FALSE),"") | AL38: =IFERROR(VLOOKUP(AL$9,#REF!,51,FALSE),"") | AM38: =IFERROR(VLOOKUP(AM$9,#REF!,51,FALSE),"") | AN38: =IFERROR(VLOOKUP(AN$9,#REF!,51,FALSE),"") | AO38: =IFERROR(VLOOKUP(AO$9,#REF!,51,FALSE),"") | AP38: =IFERROR(VLOOKUP(AP$9,#REF!,51,FALSE),"") | AQ38: =#REF! -> #REF! | AS38: クロロホルム
A39: 24 | B39: ジクロロ酢酸 | C39: ㎎/L | D39: 0 | F39: 0.002 | H39: 0 | J39: 0.012 | L39: 0 | N39: 0 | Z39: =IFERROR(VLOOKUP(Z$9,#REF!,58,FALSE),"") | AA39: =IFERROR(VLOOKUP(AA$9,#REF!,58,FALSE),"") | AB39: =IFERROR(VLOOKUP(AB$9,#REF!,58,FALSE),"") | AC39: =IFERROR(VLOOKUP(AC$9,#REF!,58,FALSE),"") | AD39: =IFERROR(VLOOKUP(AD$9,#REF!,58,FALSE),"") | AE39: =IFERROR(VLOOKUP(AE$9,#REF!,58,FALSE),"") | AF39: =IFERROR(VLOOKUP(AF$9,#REF!,58,FALSE),"") | AG39: =IFERROR(VLOOKUP(AG$9,#REF!,58,FALSE),"") | ... AJ39: =IFERROR(VLOOKUP(AJ$9,#REF!,58,FALSE),"") | AK39: =IFERROR(VLOOKUP(ADA$9,#REF!,58,FALSE),"") | AL39: =IFERROR(VLOOKUP(AL$9,#REF!,58,FALSE),"") | AM39: =IFERROR(VLOOKUP(AM$9,#REF!,58,FALSE),"") | AN39: =IFERROR(VLOOKUP(AN$9,#REF!,58,FALSE),"") | AO39: =IFERROR(VLOOKUP(AO$9,#REF!,58,FALSE),"") | AP39: =IFERROR(VLOOKUP(AP$9,#REF!,58,FALSE),"") | AQ39: =#REF! -> #REF! | AS39: ジクロロ酢酸
A40: 25 | B40: ジブロモクロロメタン | C40: ㎎/L | E40: =D40/1000 -> #VALUE! | G40: =F40/1000 -> #VALUE! | I40: =H40/1000 -> #VALUE! | K40: =J40/1000 -> #VALUE! | M40: =L40/1000 -> #VALUE! | O40: =N40/1000 -> #VALUE! | Q40: =P40/1000 -> 0 | S40: =R40/1000 -> 0 | U40: =T40/1000 -> 0 | W40: =V40/1000 -> 0 | Y40: =X40/1000 -> 0 | Z40: =IFERROR(VLOOKUP(Z$9,#REF!,52,FALSE),"") | AA40: =IFERROR(VLOOKUP(AA$9,#REF!,52,FALSE),"") | AB40: =IFERROR(VLOOKUP(AB$9,#REF!,52,FALSE),"") | AC40: =IFERROR(VLOOKUP(AC$9,#REF!,52,FALSE),"") | AD40: =IFERROR(VLOOKUP(AD$9,#REF!,52,FALSE),"") | AE40: =IFERROR(VLOOKUP(AE$9,#REF!,52,FALSE),"") | AF40: =IFERROR(VLOOKUP(AF$9,#REF!,52,FALSE),"") | AG40: =IFERROR(VLOOKUP(AG$9,#REF!,52,FALSE),"") | ... AJ40: =IFERROR(VLOOKUP(AJ$9,#REF!,52,FALSE),"") | AK40: =IFERROR(VLOOKUP(ADA$9,#REF!,52,FALSE),"") | AL40: =IFERROR(VLOOKUP(AL$9,#REF!,52,FALSE),"") | AM40: =IFERROR(VLOOKUP(AM$9,#REF!,52,FALSE),"") | AN40: =IFERROR(VLOOKUP(AN$9,#REF!,52,FALSE),"") | AO40: =IFERROR(VLOOKUP(AO$9,#REF!,52,FALSE),"") | AP40: =IFERROR(VLOOKUP(AP$9,#REF!,52,FALSE),"") | AQ40: =#REF! -> #REF! | AS40: ジブロモクロロメタン
A41: 26 | B41: 臭素酸 | C41: ㎎/L | Z41: =IFERROR(VLOOKUP(Z$9,#REF!,62,FALSE),"") | AA41: =IFERROR(VLOOKUP(AA$9,#REF!,62,FALSE),"") | AB41: =IFERROR(VLOOKUP(AB$9,#REF!,62,FALSE),"") | AC41: =IFERROR(VLOOKUP(AC$9,#REF!,62,FALSE),"") | AD41: =IFERROR(VLOOKUP(AD$9,#REF!,62,FALSE),"") | AE41: =IFERROR(VLOOKUP(AE$9,#REF!,62,FALSE),"") | AF41: =IFERROR(VLOOKUP(AF$9,#REF!,62,FALSE),"") | AG41: =IFERROR(VLOOKUP(AG$9,#REF!,62,FALSE),"") | ... AJ41: =IFERROR(VLOOKUP(AJ$9,#REF!,62,FALSE),"") | AK41: =IFERROR(VLOOKUP(ADA$9,#REF!,62,FALSE),"") | AL41: =IFERROR(VLOOKUP(AL$9,#REF!,62,FALSE),"") | AM41: =IFERROR(VLOOKUP(AM$9,#REF!,62,FALSE),"") | AN41: =IFERROR(VLOOKUP(AN$9,#REF!,62,FALSE),"") | AO41: =IFERROR(VLOOKUP(AO$9,#REF!,62,FALSE),"") | AP41: =IFERROR(VLOOKUP(AP$9,#REF!,62,FALSE),"") | AQ41: =#REF! -> #REF! | AS41: 臭素酸
A42: 27 | B42: 総トリハロメタン | C42: ㎎/L | E42: =D42/1000 -> #VALUE! | G42: =F42/1000 -> #VALUE! | I42: =H42/1000 -> #VALUE! | K42: =J42/1000 -> #VALUE! | M42: =L42/1000 -> #VALUE! | O42: =N42/1000 -> #VALUE! | Q42: =P42/1000 -> 0 | S42: =R42/1000 -> 0 | U42: =T42/1000 -> 0 | W42: =V42/1000 -> 0 | Y42: =X42/1000 -> 0 | Z42: =IFERROR(VLOOKUP(Z$9,#REF!,55,FALSE),"") | AA42: =IFERROR(VLOOKUP(AA$9,#REF!,55,FALSE),"") | AB42: =IFERROR(VLOOKUP(AB$9,#REF!,55,FALSE),"") | AC42: =IFERROR(VLOOKUP(AC$9,#REF!,55,FALSE),"") | AD42: =IFERROR(VLOOKUP(AD$9,#REF!,55,FALSE),"") | AE42: =IFERROR(VLOOKUP(AE$9,#REF!,55,FALSE),"") | AF42: =IFERROR(VLOOKUP(AF$9,#REF!,55,FALSE),"") | AG42: =IFERROR(VLOOKUP(AG$9,#REF!,55,FALSE),"") | ... AJ42: =IFERROR(VLOOKUP(AJ$9,#REF!,55,FALSE),"") | AK42: =IFERROR(VLOOKUP(ADA$9,#REF!,55,FALSE),"") | AL42: =IFERROR(VLOOKUP(AL$9,#REF!,55,FALSE),"") | AM42: =IFERROR(VLOOKUP(AM$9,#REF!,55,FALSE),"") | AN42: =IFERROR(VLOOKUP(AN$9,#REF!,55,FALSE),"") | AO42: =IFERROR(VLOOKUP(AO$9,#REF!,55,FALSE),"") | AP42: =IFERROR(VLOOKUP(AP$9,#REF!,55,FALSE),"") | AQ42: =#REF! -> #REF! | AS42: 総トリハロメタン
A43: 28 | B43: トリクロロ酢酸 | C43: ㎎/L | D43: 0 | F43: 0 | H43: 0.002 | J43: 0.017 | L43: 0 | N43: 0.003 | Z43: =IFERROR(VLOOKUP(Z$9,#REF!,59,FALSE),"") | AA43: =IFERROR(VLOOKUP(AA$9,#REF!,59,FALSE),"") | AB43: =IFERROR(VLOOKUP(AB$9,#REF!,59,FALSE),"") | AC43: =IFERROR(VLOOKUP(AC$9,#REF!,59,FALSE),"") | AD43: =IFERROR(VLOOKUP(AD$9,#REF!,59,FALSE),"") | AE43: =IFERROR(VLOOKUP(AE$9,#REF!,59,FALSE),"") | AF43: =IFERROR(VLOOKUP(AF$9,#REF!,59,FALSE),"") | AG43: =IFERROR(VLOOKUP(AG$9,#REF!,59,FALSE),"") | ... AJ43: =IFERROR(VLOOKUP(AJ$9,#REF!,59,FALSE),"") | AK43: =IFERROR(VLOOKUP(ADA$9,#REF!,59,FALSE),"") | AL43: =IFERROR(VLOOKUP(AL$9,#REF!,59,FALSE),"") | AM43: =IFERROR(VLOOKUP(AM$9,#REF!,59,FALSE),"") | AN43: =IFERROR(VLOOKUP(AN$9,#REF!,59,FALSE),"") | AO43: =IFERROR(VLOOKUP(AO$9,#REF!,59,FALSE),"") | AP43: =IFERROR(VLOOKUP(AP$9,#REF!,59,FALSE),"") | AQ43: =#REF! -> #REF! | AS43: トリクロロ酢酸
A44: 29 | B44: ブロモジクロロメタン | C44: ㎎/L | E44: =D44/1000 -> #VALUE! | G44: =F44/1000 -> #VALUE! | I44: =H44/1000 -> #VALUE! | K44: =J44/1000 -> #VALUE! | M44: =L44/1000 -> #VALUE! | O44: =N44/1000 -> #VALUE! | Q44: =P44/1000 -> 0 | S44: =R44/1000 -> 0 | U44: =T44/1000 -> 0 | W44: =V44/1000 -> 0 | Y44: =X44/1000 -> 0 | Z44: =IFERROR(VLOOKUP(Z$9,#REF!,53,FALSE),"") | AA44: =IFERROR(VLOOKUP(AA$9,#REF!,53,FALSE),"") | AB44: =IFERROR(VLOOKUP(AB$9,#REF!,53,FALSE),"") | AC44: =IFERROR(VLOOKUP(AC$9,#REF!,53,FALSE),"") | AD44: =IFERROR(VLOOKUP(AD$9,#REF!,53,FALSE),"") | AE44: =IFERROR(VLOOKUP(AE$9,#REF!,53,FALSE),"") | AF44: =IFERROR(VLOOKUP(AF$9,#REF!,53,FALSE),"") | AG44: =IFERROR(VLOOKUP(AG$9,#REF!,53,FALSE),"") | ... AJ44: =IFERROR(VLOOKUP(AJ$9,#REF!,53,FALSE),"") | AK44: =IFERROR(VLOOKUP(ADA$9,#REF!,53,FALSE),"") | AL44: =IFERROR(VLOOKUP(AL$9,#REF!,53,FALSE),"") | AM44: =IFERROR(VLOOKUP(AM$9,#REF!,53,FALSE),"") | AN44: =IFERROR(VLOOKUP(AN$9,#REF!,53,FALSE),"") | AO44: =IFERROR(VLOOKUP(AO$9,#REF!,53,FALSE),"") | AP44: =IFERROR(VLOOKUP(AP$9,#REF!,53,FALSE),"") | AQ44: =#REF! -> #REF! | AS44: ブロモジクロロメタン
A45: 30 | B45: ブロモホルム | C45: ㎎/L | E45: =D45/1000 -> #VALUE! | G45: =F45/1000 -> #VALUE! | I45: =H45/1000 -> #VALUE! | K45: =J45/1000 -> #VALUE! | M45: =L45/1000 -> #VALUE! | O45: =N45/1000 -> #VALUE! | Q45: =P45/1000 -> 0 | S45: =R45/1000 -> 0 | U45: =T45/1000 -> 0 | W45: =V45/1000 -> 0 | Y45: =X45/1000 -> 0 | Z45: =IFERROR(VLOOKUP(Z$9,#REF!,54,FALSE),"") | AA45: =IFERROR(VLOOKUP(AA$9,#REF!,54,FALSE),"") | AB45: =IFERROR(VLOOKUP(AB$9,#REF!,54,FALSE),"") | AC45: =IFERROR(VLOOKUP(AC$9,#REF!,54,FALSE),"") | AD45: =IFERROR(VLOOKUP(AD$9,#REF!,54,FALSE),"") | AE45: =IFERROR(VLOOKUP(AE$9,#REF!,54,FALSE),"") | AF45: =IFERROR(VLOOKUP(AF$9,#REF!,54,FALSE),"") | AG45: =IFERROR(VLOOKUP(AG$9,#REF!,54,FALSE),"") | ... AJ45: =IFERROR(VLOOKUP(AJ$9,#REF!,54,FALSE),"") | AK45: =IFERROR(VLOOKUP(ADA$9,#REF!,54,FALSE),"") | AL45: =IFERROR(VLOOKUP(AL$9,#REF!,54,FALSE),"") | AM45: =IFERROR(VLOOKUP(AM$9,#REF!,54,FALSE),"") | AN45: =IFERROR(VLOOKUP(AN$9,#REF!,54,FALSE),"") | AO45: =IFERROR(VLOOKUP(AO$9,#REF!,54,FALSE),"") | AP45: =IFERROR(VLOOKUP(AP$9,#REF!,54,FALSE),"") | AQ45: =#REF! -> #REF! | AS45: ブロモホルム
A46: 31 | B46: ホルムアルデヒド | C46: ㎎/L | D46: 0 | F46: 0 | H46: 0 | J46: 0 | L46: 0 | N46: 0 | Z46: =IFERROR(VLOOKUP(Z$9,#REF!,65,FALSE),"") | AA46: =IFERROR(VLOOKUP(AA$9,#REF!,65,FALSE),"") | AB46: =IFERROR(VLOOKUP(AB$9,#REF!,65,FALSE),"") | AC46: =IFERROR(VLOOKUP(AC$9,#REF!,65,FALSE),"") | AD46: =IFERROR(VLOOKUP(AD$9,#REF!,65,FALSE),"") | AE46: =IFERROR(VLOOKUP(AE$9,#REF!,65,FALSE),"") | AF46: =IFERROR(VLOOKUP(AF$9,#REF!,65,FALSE),"") | AG46: =IFERROR(VLOOKUP(AG$9,#REF!,65,FALSE),"") | ... AJ46: =IFERROR(VLOOKUP(AJ$9,#REF!,65,FALSE),"") | AK46: =IFERROR(VLOOKUP(ADA$9,#REF!,65,FALSE),"") | AL46: =IFERROR(VLOOKUP(AL$9,#REF!,65,FALSE),"") | AM46: =IFERROR(VLOOKUP(AM$9,#REF!,65,FALSE),"") | AN46: =IFERROR(VLOOKUP(AN$9,#REF!,65,FALSE),"") | AO46: =IFERROR(VLOOKUP(AO$9,#REF!,65,FALSE),"") | AP46: =IFERROR(VLOOKUP(AP$9,#REF!,65,FALSE),"") | AQ46: =#REF! -> #REF! | AS46: ホルムアルデヒド
A47: 32 | B47: 亜鉛及びその化合物 | C47: ㎎/L | E47: =D47/1000 -> #VALUE! | G47: =F47/1000 -> #VALUE! | I47: =H47/1000 -> #VALUE! | K47: =J47/1000 -> #VALUE! | M47: =L47/1000 -> #VALUE! | O47: =N47/1000 -> #VALUE! | Q47: =P47/1000 -> 0 | S47: =R47/1000 -> 0 | U47: =T47/1000 -> 0 | W47: =V47/1000 -> 0 | Y47: =X47/1000 -> 0 | Z47: =IFERROR(VLOOKUP(Z$9,#REF!,18,FALSE),"") | AA47: =IFERROR(VLOOKUP(AA$9,#REF!,18,FALSE),"") | AB47: =IFERROR(VLOOKUP(AB$9,#REF!,18,FALSE),"") | AC47: =IFERROR(VLOOKUP(AC$9,#REF!,18,FALSE),"") | AD47: =IFERROR(VLOOKUP(AD$9,#REF!,18,FALSE),"") | AE47: =IFERROR(VLOOKUP(AE$9,#REF!,18,FALSE),"") | AF47: =IFERROR(VLOOKUP(AF$9,#REF!,18,FALSE),"") | AG47: =IFERROR(VLOOKUP(AG$9,#REF!,18,FALSE),"") | ... AJ47: =IFERROR(VLOOKUP(AJ$9,#REF!,18,FALSE),"") | AK47: =IFERROR(VLOOKUP(ADA$9,#REF!,18,FALSE),"") | AL47: =IFERROR(VLOOKUP(AL$9,#REF!,18,FALSE),"") | AM47: =IFERROR(VLOOKUP(AM$9,#REF!,18,FALSE),"") | AN47: =IFERROR(VLOOKUP(AN$9,#REF!,18,FALSE),"") | AO47: =IFERROR(VLOOKUP(AO$9,#REF!,18,FALSE),"") | AP47: =IFERROR(VLOOKUP(AP$9,#REF!,18,FALSE),"") | AQ47: =#REF! -> #REF! | AS47: 亜鉛及びその化合物
A48: 33 | B48: アルミニウム及びその化合物 | C48: ㎎/L | E48: =D48/1000 -> #VALUE! | G48: =F48/1000 -> #VALUE! | I48: =H48/1000 -> #VALUE! | K48: =J48/1000 -> #VALUE! | M48: =L48/1000 -> #VALUE! | O48: =N48/1000 -> #VALUE! | Q48: =P48/1000 -> 0 | S48: =R48/1000 -> 0 | U48: =T48/1000 -> 0 | W48: =V48/1000 -> 0 | Y48: =X48/1000 -> 0 | Z48: =IFERROR(VLOOKUP(Z$9,#REF!,19,FALSE),"") | AA48: =IFERROR(VLOOKUP(AA$9,#REF!,19,FALSE),"") | AB48: =IFERROR(VLOOKUP(AB$9,#REF!,19,FALSE),"") | AC48: =IFERROR(VLOOKUP(AC$9,#REF!,19,FALSE),"") | AD48: =IFERROR(VLOOKUP(AD$9,#REF!,19,FALSE),"") | AE48: =IFERROR(VLOOKUP(AE$9,#REF!,19,FALSE),"") | AF48: =IFERROR(VLOOKUP(AF$9,#REF!,19,FALSE),"") | AG48: =IFERROR(VLOOKUP(AG$9,#REF!,19,FALSE),"") | ... AJ48: =IFERROR(VLOOKUP(AJ$9,#REF!,19,FALSE),"") | AK48: =IFERROR(VLOOKUP(ADA$9,#REF!,19,FALSE),"") | AL48: =IFERROR(VLOOKUP(AL$9,#REF!,19,FALSE),"") | AM48: =IFERROR(VLOOKUP(AM$9,#REF!,19,FALSE),"") | AN48: =IFERROR(VLOOKUP(AN$9,#REF!,19,FALSE),"") | AO48: =IFERROR(VLOOKUP(AO$9,#REF!,19,FALSE),"") | AP48: =IFERROR(VLOOKUP(AP$9,#REF!,19,FALSE),"") | AQ48: =#REF! -> #REF! | AS48: アルミニウム及びその化合物
A49: 34 | B49: 鉄及びその化合物 | C49: ㎎/L | E49: =D49/1000 -> #VALUE! | G49: =F49/1000 -> #VALUE! | I49: =H49/1000 -> #VALUE! | K49: =J49/1000 -> #VALUE! | M49: =L49/1000 -> #VALUE! | O49: =N49/1000 -> #VALUE! | Q49: =P49/1000 -> 0 | S49: =R49/1000 -> 0 | U49: =T49/1000 -> 0 | W49: =V49/1000 -> 0 | Y49: =X49/1000 -> 0 | Z49: =IFERROR(VLOOKUP(Z$9,#REF!,20,FALSE),"") | AA49: =IFERROR(VLOOKUP(AA$9,#REF!,20,FALSE),"") | AB49: =IFERROR(VLOOKUP(AB$9,#REF!,20,FALSE),"") | AC49: =IFERROR(VLOOKUP(AC$9,#REF!,20,FALSE),"") | AD49: =IFERROR(VLOOKUP(AD$9,#REF!,20,FALSE),"") | AE49: =IFERROR(VLOOKUP(AE$9,#REF!,20,FALSE),"") | AF49: =IFERROR(VLOOKUP(AF$9,#REF!,20,FALSE),"") | AG49: =IFERROR(VLOOKUP(AG$9,#REF!,20,FALSE),"") | ... AJ49: =IFERROR(VLOOKUP(AJ$9,#REF!,20,FALSE),"") | AK49: =IFERROR(VLOOKUP(ADA$9,#REF!,20,FALSE),"") | AL49: =IFERROR(VLOOKUP(AL$9,#REF!,20,FALSE),"") | AM49: =IFERROR(VLOOKUP(AM$9,#REF!,20,FALSE),"") | AN49: =IFERROR(VLOOKUP(AN$9,#REF!,20,FALSE),"") | AO49: =IFERROR(VLOOKUP(AO$9,#REF!,20,FALSE),"") | AP49: =IFERROR(VLOOKUP(AP$9,#REF!,20,FALSE),"") | AQ49: =#REF! -> #REF! | AS49: 鉄及びその化合物
A50: 35 | B50: 銅及びその化合物 | C50: ㎎/L | E50: =D50/1000 -> #VALUE! | G50: =F50/1000 -> #VALUE! | I50: =H50/1000 -> #VALUE! | K50: =J50/1000 -> #VALUE! | M50: =L50/1000 -> #VALUE! | O50: =N50/1000 -> #VALUE! | Q50: =P50/1000 -> 0 | S50: =R50/1000 -> 0 | U50: =T50/1000 -> 0 | W50: =V50/1000 -> 0 | Y50: =X50/1000 -> 0 | Z50: =IFERROR(VLOOKUP(Z$9,#REF!,21,FALSE),"") | AA50: =IFERROR(VLOOKUP(AA$9,#REF!,21,FALSE),"") | AB50: =IFERROR(VLOOKUP(AB$9,#REF!,21,FALSE),"") | AC50: =IFERROR(VLOOKUP(AC$9,#REF!,21,FALSE),"") | AD50: =IFERROR(VLOOKUP(AD$9,#REF!,21,FALSE),"") | AE50: =IFERROR(VLOOKUP(AE$9,#REF!,21,FALSE),"") | AF50: =IFERROR(VLOOKUP(AF$9,#REF!,21,FALSE),"") | AG50: =IFERROR(VLOOKUP(AG$9,#REF!,21,FALSE),"") | ... AJ50: =IFERROR(VLOOKUP(AJ$9,#REF!,21,FALSE),"") | AK50: =IFERROR(VLOOKUP(ADA$9,#REF!,21,FALSE),"") | AL50: =IFERROR(VLOOKUP(AL$9,#REF!,21,FALSE),"") | AM50: =IFERROR(VLOOKUP(AM$9,#REF!,21,FALSE),"") | AN50: =IFERROR(VLOOKUP(AN$9,#REF!,21,FALSE),"") | AO50: =IFERROR(VLOOKUP(AO$9,#REF!,21,FALSE),"") | AP50: =IFERROR(VLOOKUP(AP$9,#REF!,21,FALSE),"") | AQ50: =#REF! -> #REF! | AS50: 銅及びその化合物
A51: 36 | B51: ナトリウム及びその化合物 | C51: ㎎/L | D51: 3.1 | F51: 3 | H51: 6.5 | J51: 3.1 | L51: 3.6 | N51: 3.6 | Z51: =IFERROR(VLOOKUP(Z$9,#REF!,37,FALSE),"") | AA51: =IFERROR(VLOOKUP(AA$9,#REF!,37,FALSE),"") | AB51: =IFERROR(VLOOKUP(AB$9,#REF!,37,FALSE),"") | AC51: =IFERROR(VLOOKUP(AC$9,#REF!,37,FALSE),"") | AD51: =IFERROR(VLOOKUP(AD$9,#REF!,37,FALSE),"") | AE51: =IFERROR(VLOOKUP(AE$9,#REF!,37,FALSE),"") | AF51: =IFERROR(VLOOKUP(AF$9,#REF!,37,FALSE),"") | AG51: =IFERROR(VLOOKUP(AG$9,#REF!,37,FALSE),"") | ... AJ51: =IFERROR(VLOOKUP(AJ$9,#REF!,37,FALSE),"") | AK51: =IFERROR(VLOOKUP(ADA$9,#REF!,37,FALSE),"") | AL51: =IFERROR(VLOOKUP(AL$9,#REF!,37,FALSE),"") | AM51: =IFERROR(VLOOKUP(AM$9,#REF!,37,FALSE),"") | AN51: =IFERROR(VLOOKUP(AN$9,#REF!,37,FALSE),"") | AO51: =IFERROR(VLOOKUP(AO$9,#REF!,37,FALSE),"") | AP51: =IFERROR(VLOOKUP(AP$9,#REF!,37,FALSE),"") | AQ51: =#REF! -> #REF! | AS51: ナトリウム及びその化合物
A52: 37 | B52: マンガン及びその化合物 | C52: ㎎/L | E52: =D52/1000 -> #VALUE! | G52: =F52/1000 -> #VALUE! | I52: =H52/1000 -> #VALUE! | K52: =J52/1000 -> #VALUE! | M52: =L52/1000 -> #VALUE! | O52: =N52/1000 -> #VALUE! | Q52: =P52/1000 -> 0 | S52: =R52/1000 -> 0 | U52: =T52/1000 -> 0 | W52: =V52/1000 -> 0 | Y52: =X52/1000 -> 0 | Z52: =IFERROR(VLOOKUP(Z$9,#REF!,22,FALSE),"") | AA52: =IFERROR(VLOOKUP(AA$9,#REF!,22,FALSE),"") | AB52: =IFERROR(VLOOKUP(AB$9,#REF!,22,FALSE),"") | AC52: =IFERROR(VLOOKUP(AC$9,#REF!,22,FALSE),"") | AD52: =IFERROR(VLOOKUP(AD$9,#REF!,22,FALSE),"") | AE52: =IFERROR(VLOOKUP(AE$9,#REF!,22,FALSE),"") | AF52: =IFERROR(VLOOKUP(AF$9,#REF!,22,FALSE),"") | AG52: =IFERROR(VLOOKUP(AG$9,#REF!,22,FALSE),"") | ... AJ52: =IFERROR(VLOOKUP(AJ$9,#REF!,22,FALSE),"") | AK52: =IFERROR(VLOOKUP(ADA$9,#REF!,22,FALSE),"") | AL52: =IFERROR(VLOOKUP(AL$9,#REF!,22,FALSE),"") | AM52: =IFERROR(VLOOKUP(AM$9,#REF!,22,FALSE),"") | AN52: =IFERROR(VLOOKUP(AN$9,#REF!,22,FALSE),"") | AO52: =IFERROR(VLOOKUP(AO$9,#REF!,22,FALSE),"") | AP52: =IFERROR(VLOOKUP(AP$9,#REF!,22,FALSE),"") | AQ52: =#REF! -> #REF! | AS52: マンガン及びその化合物
A53: 38 | B53: 塩化物イオン | C53: ㎎/L | D53: 2.9 | F53: 3.1 | H53: 5.5 | J53: 2.6 | L53: 2.5 | N53: 2.6 | Z53: =IFERROR(VLOOKUP(Z$9,#REF!,32,FALSE),"") | AA53: =IFERROR(VLOOKUP(AA$9,#REF!,32,FALSE),"") | AB53: =IFERROR(VLOOKUP(AB$9,#REF!,32,FALSE),"") | AC53: =IFERROR(VLOOKUP(AC$9,#REF!,32,FALSE),"") | AD53: =IFERROR(VLOOKUP(AD$9,#REF!,32,FALSE),"") | AE53: =IFERROR(VLOOKUP(AE$9,#REF!,32,FALSE),"") | AF53: =IFERROR(VLOOKUP(AF$9,#REF!,32,FALSE),"") | AG53: =IFERROR(VLOOKUP(AG$9,#REF!,32,FALSE),"") | ... AJ53: =IFERROR(VLOOKUP(AJ$9,#REF!,32,FALSE),"") | AK53: =IFERROR(VLOOKUP(ADA$9,#REF!,32,FALSE),"") | AL53: =IFERROR(VLOOKUP(AL$9,#REF!,32,FALSE),"") | AM53: =IFERROR(VLOOKUP(AM$9,#REF!,32,FALSE),"") | AN53: =IFERROR(VLOOKUP(AN$9,#REF!,32,FALSE),"") | AO53: =IFERROR(VLOOKUP(AO$9,#REF!,32,FALSE),"") | AP53: =IFERROR(VLOOKUP(AP$9,#REF!,32,FALSE),"") | AQ53: =#REF! -> #REF! | AS53: 塩化物イオン
A54: 39 | B54: カルシウム、マグネシウム等（硬度） | C54: ㎎/L | D54: 5.6083701 | F54: 8.7378965 | H54: 5.488527 | J54: 5.3569523 | L54: 12.194935 | N54: 12.300283 | Z54: =IFERROR(VLOOKUP(Z$9,#REF!,40,FALSE),"") | AA54: =IFERROR(VLOOKUP(AA$9,#REF!,40,FALSE),"") | AB54: =IFERROR(VLOOKUP(AB$9,#REF!,40,FALSE),"") | AC54: =IFERROR(VLOOKUP(AC$9,#REF!,40,FALSE),"") | AD54: =IFERROR(VLOOKUP(AD$9,#REF!,40,FALSE),"") | AE54: =IFERROR(VLOOKUP(AE$9,#REF!,40,FALSE),"") | AF54: =IFERROR(VLOOKUP(AF$9,#REF!,40,FALSE),"") | AG54: =IFERROR(VLOOKUP(AG$9,#REF!,40,FALSE),"") | ... AJ54: =IFERROR(VLOOKUP(AJ$9,#REF!,40,FALSE),"") | AK54: =IFERROR(VLOOKUP(ADA$9,#REF!,40,FALSE),"") | AL54: =IFERROR(VLOOKUP(AL$9,#REF!,40,FALSE),"") | AM54: =IFERROR(VLOOKUP(AM$9,#REF!,40,FALSE),"") | AN54: =IFERROR(VLOOKUP(AN$9,#REF!,40,FALSE),"") | AO54: =IFERROR(VLOOKUP(AO$9,#REF!,40,FALSE),"") | AP54: =IFERROR(VLOOKUP(AP$9,#REF!,40,FALSE),"") | AQ54: =#REF! -> #REF! | AS54: カルシウム、マグネシウム等（硬度）
A55: 40 | B55: 蒸発残留物 | C55: ㎎/L | D55: 38 | F55: 41 | H55: 34 | J55: 34 | L55: 41 | N55: 44 | Z55: =IFERROR(VLOOKUP(Z$9,#REF!,71,FALSE),"") | AA55: =IFERROR(VLOOKUP(AA$9,#REF!,71,FALSE),"") | AB55: =IFERROR(VLOOKUP(AB$9,#REF!,71,FALSE),"") | AC55: =IFERROR(VLOOKUP(AC$9,#REF!,71,FALSE),"") | AD55: =IFERROR(VLOOKUP(AD$9,#REF!,71,FALSE),"") | AE55: =IFERROR(VLOOKUP(AE$9,#REF!,71,FALSE),"") | AF55: =IFERROR(VLOOKUP(AF$9,#REF!,71,FALSE),"") | AG55: =IFERROR(VLOOKUP(AG$9,#REF!,71,FALSE),"") | ... AJ55: =IFERROR(VLOOKUP(AJ$9,#REF!,71,FALSE),"") | AK55: =IFERROR(VLOOKUP(ADA$9,#REF!,71,FALSE),"") | AL55: =IFERROR(VLOOKUP(AL$9,#REF!,71,FALSE),"") | AM55: =IFERROR(VLOOKUP(AM$9,#REF!,71,FALSE),"") | AN55: =IFERROR(VLOOKUP(AN$9,#REF!,71,FALSE),"") | AO55: =IFERROR(VLOOKUP(AO$9,#REF!,71,FALSE),"") | AP55: =IFERROR(VLOOKUP(AP$9,#REF!,71,FALSE),"") | AQ55: =#REF! -> #REF! | AS55: 蒸発残留物
A56: 41 | B56: 陰イオン界面活性剤 | C56: ㎎/L | D56: 0 | F56: 0 | H56: 0 | J56: 0 | L56: 0 | N56: 0 | Z56: =IFERROR(VLOOKUP(Z$9,#REF!,78,FALSE),"") | AA56: =IFERROR(VLOOKUP(AA$9,#REF!,78,FALSE),"") | AB56: =IFERROR(VLOOKUP(AB$9,#REF!,78,FALSE),"") | AC56: =IFERROR(VLOOKUP(AC$9,#REF!,78,FALSE),"") | AD56: =IFERROR(VLOOKUP(AD$9,#REF!,78,FALSE),"") | AE56: =IFERROR(VLOOKUP(AE$9,#REF!,78,FALSE),"") | AF56: =IFERROR(VLOOKUP(AF$9,#REF!,78,FALSE),"") | AG56: =IFERROR(VLOOKUP(AG$9,#REF!,78,FALSE),"") | ... AJ56: =IFERROR(VLOOKUP(AJ$9,#REF!,78,FALSE),"") | AK56: =IFERROR(VLOOKUP(ADA$9,#REF!,78,FALSE),"") | AL56: =IFERROR(VLOOKUP(AL$9,#REF!,78,FALSE),"") | AM56: =IFERROR(VLOOKUP(AM$9,#REF!,78,FALSE),"") | AN56: =IFERROR(VLOOKUP(AN$9,#REF!,78,FALSE),"") | AO56: =IFERROR(VLOOKUP(AO$9,#REF!,78,FALSE),"") | AP56: =IFERROR(VLOOKUP(AP$9,#REF!,78,FALSE),"") | AQ56: =#REF! -> #REF! | AS56: 陰イオン界面活性剤
A57: 42 | B57: ジェオスミン（別名） | C57: ㎎/L | E57: =D57/1000 -> #VALUE! | G57: =F57/1000 -> #VALUE! | I57: =H57/1000 -> #VALUE! | K57: =J57/1000 -> #VALUE! | M57: =L57/1000 -> #VALUE! | O57: =N57/1000 -> #VALUE! | Q57: =P57/1000 -> 0 | S57: =R57/1000 -> 0 | U57: =T57/1000 -> 0 | W57: =V57/1000 -> 0 | Y57: =X57/1000 -> 0 | Z57: =IFERROR(VLOOKUP(Z$9,#REF!,80,FALSE),"") | AA57: =IFERROR(VLOOKUP(AA$9,#REF!,80,FALSE),"") | AB57: =IFERROR(VLOOKUP(AB$9,#REF!,80,FALSE),"") | AC57: =IFERROR(VLOOKUP(AC$9,#REF!,80,FALSE),"") | AD57: =IFERROR(VLOOKUP(AD$9,#REF!,80,FALSE),"") | AE57: =IFERROR(VLOOKUP(AE$9,#REF!,80,FALSE),"") | AF57: =IFERROR(VLOOKUP(AF$9,#REF!,80,FALSE),"") | AG57: =IFERROR(VLOOKUP(AG$9,#REF!,80,FALSE),"") | ... AJ57: =IFERROR(VLOOKUP(AJ$9,#REF!,80,FALSE),"") | AK57: =IFERROR(VLOOKUP(ADA$9,#REF!,80,FALSE),"") | AL57: =IFERROR(VLOOKUP(AL$9,#REF!,80,FALSE),"") | AM57: =IFERROR(VLOOKUP(AM$9,#REF!,80,FALSE),"") | AN57: =IFERROR(VLOOKUP(AN$9,#REF!,80,FALSE),"") | AO57: =IFERROR(VLOOKUP(AO$9,#REF!,80,FALSE),"") | AP57: =IFERROR(VLOOKUP(AP$9,#REF!,80,FALSE),"") | AQ57: =#REF! -> #REF! | AS57: ジェオスミン（別名）
A58: 43 | B58: ２-メチルイソボルネオール（別名） | C58: ㎎/L | E58: =D58/1000 -> #VALUE! | G58: =F58/1000 -> #VALUE! | I58: =H58/1000 -> #VALUE! | K58: =J58/1000 -> #VALUE! | M58: =L58/1000 -> #VALUE! | O58: =N58/1000 -> #VALUE! | Q58: =P58/1000 -> 0 | S58: =R58/1000 -> 0 | U58: =T58/1000 -> 0 | W58: =V58/1000 -> 0 | Y58: =X58/1000 -> 0 | Z58: =IFERROR(VLOOKUP(Z$9,#REF!,81,FALSE),"") | AA58: =IFERROR(VLOOKUP(AA$9,#REF!,81,FALSE),"") | AB58: =IFERROR(VLOOKUP(AB$9,#REF!,81,FALSE),"") | AC58: =IFERROR(VLOOKUP(AC$9,#REF!,81,FALSE),"") | AD58: =IFERROR(VLOOKUP(AD$9,#REF!,81,FALSE),"") | AE58: =IFERROR(VLOOKUP(AE$9,#REF!,81,FALSE),"") | AF58: =IFERROR(VLOOKUP(AF$9,#REF!,81,FALSE),"") | AG58: =IFERROR(VLOOKUP(AG$9,#REF!,81,FALSE),"") | ... AJ58: =IFERROR(VLOOKUP(AJ$9,#REF!,81,FALSE),"") | AK58: =IFERROR(VLOOKUP(ADA$9,#REF!,81,FALSE),"") | AL58: =IFERROR(VLOOKUP(AL$9,#REF!,81,FALSE),"") | AM58: =IFERROR(VLOOKUP(AM$9,#REF!,81,FALSE),"") | AN58: =IFERROR(VLOOKUP(AN$9,#REF!,81,FALSE),"") | AO58: =IFERROR(VLOOKUP(AO$9,#REF!,81,FALSE),"") | AP58: =IFERROR(VLOOKUP(AP$9,#REF!,81,FALSE),"") | AQ58: =#REF! -> #REF! | AS58: ２-メチルイソボルネオール（別名）
A59: 44 | B59: 非イオン界面活性剤 | C59: ㎎/L | Z59: =IFERROR(VLOOKUP(Z$9,#REF!,84,FALSE),"") | AA59: =IFERROR(VLOOKUP(AA$9,#REF!,84,FALSE),"") | AB59: =IFERROR(VLOOKUP(AB$9,#REF!,84,FALSE),"") | AC59: =IFERROR(VLOOKUP(AC$9,#REF!,84,FALSE),"") | AD59: =IFERROR(VLOOKUP(AD$9,#REF!,84,FALSE),"") | AE59: =IFERROR(VLOOKUP(AE$9,#REF!,84,FALSE),"") | AF59: =IFERROR(VLOOKUP(AF$9,#REF!,84,FALSE),"") | AG59: =IFERROR(VLOOKUP(AG$9,#REF!,84,FALSE),"") | ... AJ59: =IFERROR(VLOOKUP(AJ$9,#REF!,84,FALSE),"") | AK59: =IFERROR(VLOOKUP(ADA$9,#REF!,84,FALSE),"") | AL59: =IFERROR(VLOOKUP(AL$9,#REF!,84,FALSE),"") | AM59: =IFERROR(VLOOKUP(AM$9,#REF!,84,FALSE),"") | AN59: =IFERROR(VLOOKUP(AN$9,#REF!,84,FALSE),"") | AO59: =IFERROR(VLOOKUP(AO$9,#REF!,84,FALSE),"") | AP59: =IFERROR(VLOOKUP(AP$9,#REF!,84,FALSE),"") | AQ59: =#REF! -> #REF! | AS59: 非イオン界面活性剤
A60: 45 | B60: フェノール類 | C60: ㎎/L | D60: 0 | E60: =D60/1000 -> 0 | F60: 0 | G60: =F60/1000 -> 0 | H60: 0 | I60: =H60/1000 -> 0 | J60: 0 | K60: =J60/1000 -> 0 | L60: 0 | M60: =L60/1000 -> 0 | N60: 0 | O60: =N60/1000 -> 0 | Q60: =P60/1000 -> 0 | S60: =R60/1000 -> 0 | U60: =T60/1000 -> 0 | W60: =V60/1000 -> 0 | Y60: =X60/1000 -> 0 | Z60: =IFERROR(VLOOKUP(Z$9,#REF!,93,FALSE),"") | AA60: =IFERROR(VLOOKUP(AA$9,#REF!,93,FALSE),"") | AB60: =IFERROR(VLOOKUP(AB$9,#REF!,93,FALSE),"") | AC60: =IFERROR(VLOOKUP(AC$9,#REF!,93,FALSE),"") | AD60: =IFERROR(VLOOKUP(AD$9,#REF!,93,FALSE),"") | AE60: =IFERROR(VLOOKUP(AE$9,#REF!,93,FALSE),"") | AF60: =IFERROR(VLOOKUP(AF$9,#REF!,93,FALSE),"") | AG60: =IFERROR(VLOOKUP(AG$9,#REF!,93,FALSE),"") | ... AJ60: =IFERROR(VLOOKUP(AJ$9,#REF!,93,FALSE),"") | AK60: =IFERROR(VLOOKUP(ADA$9,#REF!,93,FALSE),"") | AL60: =IFERROR(VLOOKUP(AL$9,#REF!,93,FALSE),"") | AM60: =IFERROR(VLOOKUP(AM$9,#REF!,93,FALSE),"") | AN60: =IFERROR(VLOOKUP(AN$9,#REF!,93,FALSE),"") | AO60: =IFERROR(VLOOKUP(AO$9,#REF!,93,FALSE),"") | AP60: =IFERROR(VLOOKUP(AP$9,#REF!,93,FALSE),"") | AQ60: =#REF! -> #REF! | AS60: フェノール類
A61: 46 | B61: 有機物（全有機炭素（TOC）の量） | C61: ㎎/L | D61: 0 | F61: 0.3 | H61: 0.3 | J61: 0.6 | L61: 0.2 | N61: 0.3 | Z61: =IFERROR(VLOOKUP(Z$9,#REF!,95,FALSE),"") | AA61: =IFERROR(VLOOKUP(AA$9,#REF!,95,FALSE),"") | AB61: =IFERROR(VLOOKUP(AB$9,#REF!,95,FALSE),"") | AC61: =IFERROR(VLOOKUP(AC$9,#REF!,95,FALSE),"") | AD61: =IFERROR(VLOOKUP(AD$9,#REF!,95,FALSE),"") | AE61: =IFERROR(VLOOKUP(AE$9,#REF!,95,FALSE),"") | AF61: =IFERROR(VLOOKUP(AF$9,#REF!,95,FALSE),"") | AG61: =IFERROR(VLOOKUP(AG$9,#REF!,95,FALSE),"") | ... AJ61: =IFERROR(VLOOKUP(AJ$9,#REF!,95,FALSE),"") | AK61: =IFERROR(VLOOKUP(ADA$9,#REF!,95,FALSE),"") | AL61: =IFERROR(VLOOKUP(AL$9,#REF!,95,FALSE),"") | AM61: =IFERROR(VLOOKUP(AM$9,#REF!,95,FALSE),"") | AN61: =IFERROR(VLOOKUP(AN$9,#REF!,95,FALSE),"") | AO61: =IFERROR(VLOOKUP(AO$9,#REF!,95,FALSE),"") | AP61: =IFERROR(VLOOKUP(AP$9,#REF!,95,FALSE),"") | AQ61: =#REF! -> #REF! | AS61: 有機物（全有機炭素（TOC）の量）
A62: 47 | B62: pH値 | C62: --- | D62: 7.5 | F62: 7.5 | H62: 7.4 | J62: 6.9 | L62: 7.3 | N62: 7.1 | Z62: =IFERROR(VLOOKUP(Z$9,#REF!,99,FALSE),"") | AA62: =IFERROR(VLOOKUP(AA$9,#REF!,99,FALSE),"") | AB62: =IFERROR(VLOOKUP(AB$9,#REF!,99,FALSE),"") | AC62: =IFERROR(VLOOKUP(AC$9,#REF!,99,FALSE),"") | AD62: =IFERROR(VLOOKUP(AD$9,#REF!,99,FALSE),"") | AE62: =IFERROR(VLOOKUP(AE$9,#REF!,99,FALSE),"") | AF62: =IFERROR(VLOOKUP(AF$9,#REF!,99,FALSE),"") | AG62: =IFERROR(VLOOKUP(AG$9,#REF!,99,FALSE),"") | ... AJ62: =IFERROR(VLOOKUP(AJ$9,#REF!,99,FALSE),"") | AK62: =IFERROR(VLOOKUP(ADA$9,#REF!,99,FALSE),"") | AL62: =IFERROR(VLOOKUP(AL$9,#REF!,99,FALSE),"") | AM62: =IFERROR(VLOOKUP(AM$9,#REF!,99,FALSE),"") | AN62: =IFERROR(VLOOKUP(AN$9,#REF!,99,FALSE),"") | AO62: =IFERROR(VLOOKUP(AO$9,#REF!,99,FALSE),"") | AP62: =IFERROR(VLOOKUP(AP$9,#REF!,99,FALSE),"") | AQ62: =#REF! -> #REF! | AS62: pH値
A63: 48 | B63: 味 | C63: --- | D63: 1 | F63: 1 | H63: 1 | J63: 1 | L63: 1 | N63: 1 | Z63: =IFERROR(VLOOKUP(Z$9,#REF!,101,FALSE),"") | AA63: =IFERROR(VLOOKUP(AA$9,#REF!,101,FALSE),"") | AB63: =IFERROR(VLOOKUP(AB$9,#REF!,101,FALSE),"") | AC63: =IFERROR(VLOOKUP(AC$9,#REF!,101,FALSE),"") | AD63: =IFERROR(VLOOKUP(AD$9,#REF!,101,FALSE),"") | AE63: =IFERROR(VLOOKUP(AE$9,#REF!,101,FALSE),"") | AF63: =IFERROR(VLOOKUP(AF$9,#REF!,101,FALSE),"") | AG63: =IFERROR(VLOOKUP(AG$9,#REF!,101,FALSE),"") | ... AJ63: =IFERROR(VLOOKUP(AJ$9,#REF!,101,FALSE),"") | AK63: =IFERROR(VLOOKUP(ADA$9,#REF!,101,FALSE),"") | AL63: =IFERROR(VLOOKUP(AL$9,#REF!,101,FALSE),"") | AM63: =IFERROR(VLOOKUP(AM$9,#REF!,101,FALSE),"") | AN63: =IFERROR(VLOOKUP(AN$9,#REF!,101,FALSE),"") | AO63: =IFERROR(VLOOKUP(AO$9,#REF!,101,FALSE),"") | AP63: =IFERROR(VLOOKUP(AP$9,#REF!,101,FALSE),"") | AS63: 味 | AT63: --- | AU63: ---
A64: 49 | B64: 臭気 | C64: --- | D64: 1 | F64: 1 | H64: 1 | J64: 1 | L64: 1 | N64: 1 | Z64: =IFERROR(VLOOKUP(Z$9,#REF!,100,FALSE),"") | AA64: =IFERROR(VLOOKUP(AA$9,#REF!,100,FALSE),"") | AB64: =IFERROR(VLOOKUP(AB$9,#REF!,100,FALSE),"") | AC64: =IFERROR(VLOOKUP(AC$9,#REF!,100,FALSE),"") | AD64: =IFERROR(VLOOKUP(AD$9,#REF!,100,FALSE),"") | AE64: =IFERROR(VLOOKUP(AE$9,#REF!,100,FALSE),"") | AF64: =IFERROR(VLOOKUP(AF$9,#REF!,100,FALSE),"") | AG64: =IFERROR(VLOOKUP(AG$9,#REF!,100,FALSE),"") | ... AJ64: =IFERROR(VLOOKUP(AJ$9,#REF!,100,FALSE),"") | AK64: =IFERROR(VLOOKUP(ADA$9,#REF!,100,FALSE),"") | AL64: =IFERROR(VLOOKUP(AL$9,#REF!,100,FALSE),"") | AM64: =IFERROR(VLOOKUP(AM$9,#REF!,100,FALSE),"") | AN64: =IFERROR(VLOOKUP(AN$9,#REF!,100,FALSE),"") | AO64: =IFERROR(VLOOKUP(AO$9,#REF!,100,FALSE),"") | AP64: =IFERROR(VLOOKUP(AP$9,#REF!,100,FALSE),"") | AS64: 臭気 | AT64: --- | AU64: ---
A65: 50 | B65: 色度 | C65: 度 | D65: 0 | F65: 0.6 | H65: 0 | J65: 0.7 | L65: 0 | N65: 0 | Z65: =IFERROR(VLOOKUP(Z$9,#REF!,97,FALSE),"") | AA65: =IFERROR(VLOOKUP(AA$9,#REF!,97,FALSE),"") | AB65: =IFERROR(VLOOKUP(AB$9,#REF!,97,FALSE),"") | AC65: =IFERROR(VLOOKUP(AC$9,#REF!,97,FALSE),"") | AD65: =IFERROR(VLOOKUP(AD$9,#REF!,97,FALSE),"") | AE65: =IFERROR(VLOOKUP(AE$9,#REF!,97,FALSE),"") | AF65: =IFERROR(VLOOKUP(AF$9,#REF!,97,FALSE),"") | AG65: =IFERROR(VLOOKUP(AG$9,#REF!,97,FALSE),"") | ... AJ65: =IFERROR(VLOOKUP(AJ$9,#REF!,97,FALSE),"") | AK65: =IFERROR(VLOOKUP(ADA$9,#REF!,97,FALSE),"") | AL65: =IFERROR(VLOOKUP(AL$9,#REF!,97,FALSE),"") | AM65: =IFERROR(VLOOKUP(AM$9,#REF!,97,FALSE),"") | AN65: =IFERROR(VLOOKUP(AN$9,#REF!,97,FALSE),"") | AO65: =IFERROR(VLOOKUP(AO$9,#REF!,97,FALSE),"") | AP65: =IFERROR(VLOOKUP(AP$9,#REF!,97,FALSE),"") | AQ65: =#REF! -> #REF! | AS65: 色度
A66: 51 | B66: 濁度 | C66: 度 | D66: 0 | F66: 0 | H66: 0 | J66: 0 | L66: 0 | N66: 0 | Z66: =IFERROR(VLOOKUP(Z$9,#REF!,98,FALSE),"") | AA66: =IFERROR(VLOOKUP(AA$9,#REF!,98,FALSE),"") | AB66: =IFERROR(VLOOKUP(AB$9,#REF!,98,FALSE),"") | AC66: =IFERROR(VLOOKUP(AC$9,#REF!,98,FALSE),"") | AD66: =IFERROR(VLOOKUP(AD$9,#REF!,98,FALSE),"") | AE66: =IFERROR(VLOOKUP(AE$9,#REF!,98,FALSE),"") | AF66: =IFERROR(VLOOKUP(AF$9,#REF!,98,FALSE),"") | AG66: =IFERROR(VLOOKUP(AG$9,#REF!,98,FALSE),"") | ... AJ66: =IFERROR(VLOOKUP(AJ$9,#REF!,98,FALSE),"") | AK66: =IFERROR(VLOOKUP(ADA$9,#REF!,98,FALSE),"") | AL66: =IFERROR(VLOOKUP(AL$9,#REF!,98,FALSE),"") | AM66: =IFERROR(VLOOKUP(AM$9,#REF!,98,FALSE),"") | AN66: =IFERROR(VLOOKUP(AN$9,#REF!,98,FALSE),"") | AO66: =IFERROR(VLOOKUP(AO$9,#REF!,98,FALSE),"") | AP66: =IFERROR(VLOOKUP(AP$9,#REF!,98,FALSE),"") | AQ66: =#REF! -> #REF! | AS66: 濁度
A69: 水質管理目標設定項目 | C69: （ 単 位 ） | AT69: 水質基準値 | AU69: 水質管理目標値
A70: 1 | B70: アンチモン及びその化合物 | C70: ㎎/L | E70: =D70/1000 -> #VALUE! | G70: =F70/1000 -> #VALUE! | I70: =H70/1000 -> #VALUE! | K70: =J70/1000 -> #VALUE! | M70: =L70/1000 -> #VALUE! | O70: =N70/1000 -> #VALUE! | Q70: =P70/1000 -> 0 | S70: =R70/1000 -> 0 | U70: =T70/1000 -> 0 | W70: =V70/1000 -> 0 | Y70: =X70/1000 -> 0 | AS70: アンチモン及びその化合物
A71: 2 | B71: ウラン及びその化合物 | C71: ㎎/L | E71: =D71/1000 -> #VALUE! | G71: =F71/1000 -> #VALUE! | I71: =H71/1000 -> #VALUE! | K71: =J71/1000 -> #VALUE! | M71: =L71/1000 -> #VALUE! | O71: =N71/1000 -> #VALUE! | Q71: =P71/1000 -> 0 | S71: =R71/1000 -> 0 | U71: =T71/1000 -> 0 | W71: =V71/1000 -> 0 | Y71: =X71/1000 -> 0 | AS71: ウラン及びその化合物
A72: 3 | B72: ニッケル及びその化合物 | C72: ㎎/L | E72: =D72/1000 -> #VALUE! | G72: =F72/1000 -> #VALUE! | I72: =H72/1000 -> #VALUE! | K72: =J72/1000 -> #VALUE! | M72: =L72/1000 -> #VALUE! | O72: =N72/1000 -> #VALUE! | Q72: =P72/1000 -> 0 | S72: =R72/1000 -> 0 | U72: =T72/1000 -> 0 | W72: =V72/1000 -> 0 | Y72: =X72/1000 -> 0 | AS72: ニッケル及びその化合物
A73: 4 | B73: １,２-ジクロロエタン | C73: ㎎/L | E73: =D73/1000 -> #VALUE! | G73: =F73/1000 -> #VALUE! | I73: =H73/1000 -> #VALUE! | K73: =J73/1000 -> #VALUE! | M73: =L73/1000 -> #VALUE! | O73: =N73/1000 -> #VALUE! | Q73: =P73/1000 -> 0 | S73: =R73/1000 -> 0 | U73: =T73/1000 -> 0 | W73: =V73/1000 -> 0 | Y73: =X73/1000 -> 0 | AS73: １,２-ジクロロエタン
A74: 5 | B74: トルエン | C74: ㎎/L | E74: =D74/1000 -> #VALUE! | G74: =F74/1000 -> #VALUE! | I74: =H74/1000 -> #VALUE! | K74: =J74/1000 -> #VALUE! | M74: =L74/1000 -> #VALUE! | O74: =N74/1000 -> #VALUE! | Q74: =P74/1000 -> 0 | S74: =R74/1000 -> 0 | U74: =T74/1000 -> 0 | W74: =V74/1000 -> 0 | Y74: =X74/1000 -> 0 | AS74: トルエン
A75: 6 | B75: フタル酸ジ（２-エチルヘキシル） | C75: ㎎/L | E75: =D75/1000 -> #VALUE! | G75: =F75/1000 -> #VALUE! | I75: =H75/1000 -> #VALUE! | K75: =J75/1000 -> #VALUE! | M75: =L75/1000 -> #VALUE! | O75: =N75/1000 -> #VALUE! | Q75: =P75/1000 -> 0 | S75: =R75/1000 -> 0 | U75: =T75/1000 -> 0 | W75: =V75/1000 -> 0 | Y75: =X75/1000 -> 0 | AS75: フタル酸ジ（２-エチルヘキシル）
A76: 7 | B76: 亜塩素酸 | C76: ㎎/L | AS76: 亜塩素酸
A77: 8 | B77: 二酸化塩素 | C77: ㎎/L | AS77: 二酸化塩素
A78: 9 | B78: ジクロロアセトニトリル | C78: ㎎/L | AS78: ジクロロアセトニトリル
A79: 10 | B79: 抱水クロラール | C79: ㎎/L | AS79: 抱水クロラール
A80: 11 | B80: 農薬類（114項目） | C80: --- | AS80: 農薬類（114項目）
A81: 12 | B81: 残留塩素 | C81: ㎎/L | D81: 0.6 | F81: 0.6 | H81: 0.8 | J81: 0.6 | L81: 0.6 | N81: 0.6 | AS81: 残留塩素
A82: 13 | B82: カルシウム、マグネシウム等（硬度） | C82: ㎎/L | D82: 5.6083701 | F82: 8.7378965 | H82: 5.488527 | J82: 5.3569523 | L82: 12.194935 | N82: 12.300283 | AS82: カルシウム、マグネシウム等（硬度）
A83: 14 | B83: マンガン及びその化合物 | C83: ㎎/L | E83: =D83/1000 -> #VALUE! | G83: =F83/1000 -> #VALUE! | I83: =H83/1000 -> #VALUE! | K83: =J83/1000 -> #VALUE! | M83: =L83/1000 -> #VALUE! | O83: =N83/1000 -> #VALUE! | Q83: =P83/1000 -> 0 | S83: =R83/1000 -> 0 | U83: =T83/1000 -> 0 | W83: =V83/1000 -> 0 | Y83: =X83/1000 -> 0 | AS83: マンガン及びその化合物
A84: 15 | B84: 遊離炭酸 | C84: ㎎/L | D84: 1.8 | F84: 1.5 | H84: 2.1 | J84: 1.8 | L84: 1.1 | N84: 1.2 | AS84: 遊離炭酸
A85: 16 | B85: １,１,１-トリクロロエタン | C85: ㎎/L | AS85: １,１,１-トリクロロエタン
A86: 17 | B86: メチル-t-ブチルエーテル | C86: ㎎/L | AS86: メチル-t-ブチルエーテル
A87: 18 | B87: 有機物等（過マンガン酸カリウム消費量） | C87: ㎎/L | AS87: 有機物等（過マンガン酸カリウム消費量）
A88: 19 | B88: 臭気強度（TON） | C88: --- | AS88: 臭気強度（TON）
A89: 20 | B89: 蒸発残留物 | C89: ㎎/L | D89: 38 | F89: 41 | H89: 34 | J89: 34 | L89: 41 | N89: 44 | AS89: 蒸発残留物
A90: 21 | B90: 濁度 | C90: 度 | D90: 0 | F90: 0 | H90: 0 | J90: 0 | L90: 0 | N90: 0 | AS90: 濁度
A91: 22 | B91: pH値 | C91: --- | D91: 7.5 | F91: 7.5 | H91: 7.4 | J91: 6.9 | L91: 7.3 | N91: 7.1 | AS91: pH値
A92: 23 | B92: 腐食性（ランゲリア指数） | C92: --- | D92: -3.0023511 | F92: -2.4700618 | H92: -2.9013523 | J92: -3.3804903 | L92: -2.4490335 | N92: -2.6110783 | AS92: 腐食性（ランゲリア指数）
A93: 24 | B93: 従属栄養細菌 | C93: CFU/ml | AS93: 従属栄養細菌
A94: 25 | B94: １,１-ジクロロエチレン | C94: ㎎/L | AS94: １,１-ジクロロエチレン
A95: 26 | B95: アルミニウム及びその化合物 | C95: ㎎/L | E95: =D95/1000 -> #VALUE! | G95: =F95/1000 -> #VALUE! | I95: =H95/1000 -> #VALUE! | K95: =J95/1000 -> #VALUE! | M95: =L95/1000 -> #VALUE! | O95: =N95/1000 -> #VALUE! | Q95: =P95/1000 -> 0 | S95: =R95/1000 -> 0 | U95: =T95/1000 -> 0 | W95: =V95/1000 -> 0 | Y95: =X95/1000 -> 0 | AS95: アルミニウム及びその化合物
A96: 27 | B96: PFOS及びPFOA | E96: =D96/1000 -> #VALUE! | G96: =F96/1000 -> #VALUE! | I96: =H96/1000 -> #VALUE! | K96: =J96/1000 -> #VALUE! | M96: =L96/1000 -> #VALUE! | O96: =N96/1000 -> #VALUE! | Q96: =P96/1000 -> 0
A97: その他管理項目 | C97: （ 単 位 ）
A98: 1 | B98: 総酸度 | C98: - | D98: 2 | F98: 1.7 | H98: 2.4 | J98: 2 | L98: 1.3 | N98: 1.4
A99: 2 | B99: 総アルカリ度 | C99: - | D99: 6 | F99: 10 | H99: 9.8 | J99: 9 | L99: 15.4 | N99: 14.8
A100: 3 | B100: 電気伝導度 | C100: - | D100: 3 | F100: 3.6 | H100: 4.6 | J100: 2.9 | L100: 4.7 | N100: 4.7
B101: 硝酸態窒素 | D101: 0.11 | F101: 0.11 | H101: 0.19 | J101: 0.19 | L101: 0.43 | N101: 0.44
A102: 5 | B102: 大腸菌 | C102: -
A103: 4 | B103: 嫌気性芽胞菌 | C103: -
A104: 6 | B104: クリプトスポリジウム | C104: -
A105: 7 | B105: ジアルジア | C105: -

Sheet 手入力
B1: 46143 | C1: 手入力タグ 1日のみ反映
B2: 地点名 | C2: 野入浄水場 | D2: 山の駅大野瀬 | E2: 小田木浄水場 | F2: 田津原公会堂 | G2: 押川浄水場 | H2: 川手消防詰所
A3: 採水年月日 | B3: 46143
B4: 46144
B5: 46145
B6: 46146
B7: 46147
B8: 46148
B9: 46149
B10: 46150
B11: 46151
B12: 46152
B13: 46153
B14: 46154
B15: 46155
... B33: 46173

Sheet cnt_野入
B1: 1 | C1: 2 | D1: 3 | E1: 5 | F1: 6 | G1: 7 | H1: 8 | I1: 13 | J1: 32 | K1: 33(30) | L1: 34 | M1: 35 | N1: 37(18) | O1: 1 | P1: 2 | Q1: 3 | R1: 4 | S1: 10 | T1: 12 | U1: 38 | V1: 21 | W1: 9 | X1: 11 | Y1: 36 | Z1: 39(17) | AA1: 14 | AB1: 15 | AC1: 16 | AD1: 17 | AE1: 18 | AF1: 19 | AG1: 20 | AH1: 23 | AI1: 25 | AJ1: 29 | AK1: 30 | AL1: 27 | AM1: 5 | AN1: 8 | AO1: 20 | AP1: 21 | AQ1: 29 | AR1: 22 | AS1: 24 | AT1: 28 | AU1: 26 | AV1: 31 | AW1: 40(24) | AX1: 41 | AY1: 43 | AZ1: 42 | BA1: 44 | BB1: 45 | BC1: 46 | BD1: 50 | BE1: 51(25) | BF1: 47（26） | BG1: 49 | BH1: 48 | BI1: 9 | BJ1: 13 | BK1: 14 | BL1: 32 | BM1: 19 | BN1: 33 | BO1: 27 | BP1: 22 | BQ1: 23 | BR1: 31 | BS1: 28 | BT1: 38 | BU1: 39 | BV1: 35 | BW1: 16 | CA1: 34
B2: 01_細菌 | D2: 2_金属 | R2: 3_Hg | S2: 4_CN | T2: 5_IC （別途項目あり） | AA2: 7_VOC | AR2: 8_ハロ酢酸 | AU2: 9_臭素酸 | AV2: 10_ホルムアルデヒド | AW2: 11_蒸発残留物 | AX2: 12_陰イオン界面 | AY2: 13_カビ臭物質 | BA2: 14_非イオン界面 | BB2: 15_フェノール | BC2: 16_TOC | BD2: 17_色度濁度 | BI2: 目1_フタル酸 | BJ2: 目2_ジクロロ・抱水 | BL2: 目4_酸度・アルカリ度 | BP2: 目6_過マンガン酸カリウム | BQ2: 目7_TON | BR2: 目9_PFOS・PFOA | BS2: 目8_従属・指標菌 | BT2: 他1_クリプト・ジアルジア | BV2: 05_IC | BW2: 採水データ | CA2: 17_色度濁度
B3: 一般細菌 | C3: 大腸菌 _定性 | D3: カドミウム及びその化合物 | E3: セレン及びその化合物 | F3: 鉛及びその化合物 | G3: ヒ素及びその化合物 | H3: 六価クロム化合物 | I3: ホウ素及びその化合物 | J3: 亜鉛及びその化合物 | K3: アルミニウム及びその化合物 | L3: 鉄及びその化合物 | M3: 銅及びその化合物 | N3: マンガン及びその化合物 | O3: アンチモン及びその化合物 | P3: ウラン及びその化合物 | Q3: ニッケル及びその化合物 | R3: 水銀及びその化合物 | S3: シアン化物イオン及び塩化シアン | T3: フッ素及びその化合物 | U3: 塩化物 イオン | V3: 塩素酸 | W3: 亜硝酸態 窒素 | X3: 硝酸態窒素及び亜硝酸態窒素 | Y3: ナトリウム及びその化合物 | Z3: カルシウム、マグネシウム等（硬度） | AA3: 四塩化炭素 | AB3: 1,4-ジオキサン | AC3: シス及びトランス‐１,２‐ジクロロエチレン | AD3: ジクロロメタン | AE3: テトラクロロエチレン | AF3: トリクロロエチレン | AG3: ベンゼン | AH3: クロロホルム | AI3: ジブロモクロロメタン | AJ3: ブロモジクロロメタン | AK3: ブロモホルム | AL3: 総トリハロメタン | AM3: 1,2-ジクロロエタン | AN3: トルエン | AO3: 1,1,1-トリクロロエタン | AP3: メチル-t-ブチルエーテル | AQ3: 1,1-ジクロロエチレン | AR3: クロロ酢酸 | AS3: ジクロロ酢酸 | AT3: トリクロロ酢酸 | AU3: 臭素酸 | AV3: ホルムアルデヒド | AW3: 蒸発残留物 | AX3: 陰イオン界面活性剤 | AY3: 2－メチルイソボルネオール | AZ3: ジェオスミン | BA3: 非イオン界面活性剤 | BB3: フェノール類 | BC3: 有機物 （全有機炭素（TOC）の量） | BD3: 色度 | BE3: 濁度 | BF3: pH | BG3: 臭気 | BH3: 味 | BI3: フタル酸ジ(2-エチルヘキシル) | BJ3: ジクロロアセトニトリル | BK3: 抱水クロラール | BL3: 総酸度 | BM3: 遊離炭酸 | BN3: 総アルカリ度 | BO3: 腐食性 (ﾗﾝｹﾞﾘｱ指数) | BP3: 有機物等(過マンガン酸カリウム消費量) | BQ3: 臭気強度 | BR3: PFOS及びPFOA | BS3: 従属栄養細菌 | BT3: クリプトスポリジウム | BU3: ジアルジア | BV3: 硝酸態 窒素 | BW3: 残塩 | BX3: 気温 | BY3: 水温 | BZ3: 農薬類 | CA3: 電気伝導度
B4: (個/mL) | D4: μg/L | E4: μg/L | F4: μg/L | G4: μg/L | H4: μg/L | I4: μg/L | J4: μg/L | K4: μg/L | L4: μg/L | M4: μg/L | N4: μg/L | O4: μg/L | P4: μg/L | Q4: μg/L | T4: mg/L | U4: mg/L | V4: mg/L | W4: mg/L | Y4: mg/L | AA4: µg/L | AB4: µg/L | AD4: µg/L | AE4: µg/L | AF4: µg/L | AG4: µg/L | AH4: µg/L | AI4: µg/L | AJ4: µg/L | AK4: µg/L | AL4: μg/L | AM4: μg/L | AN4: μg/L | AO4: μg/L | AP4: μg/L | AQ4: μg/L | AR4: mg/L | AS4: mg/L | AT4: mg/L | AU4: mg/L | AV4: mg/L | AW4: mg/L | AX4: mg/L | AY4: mg/L | AZ4: mg/L | BA4: mg/L | BB4: μg/L | BC4: mg/L | BD4: 度 | BE4: 度 | BI4: mg/L | BJ4: mg/L | BK4: mg/L | BL4: mg/L | BM4: mg/L | BN4: mg/L | BP4: mg/L | BR4: μg/L | BS4: CFU/mL | BV4: mg/L
B5: 1 | C5: 1 | D5: 0 | E5: 0 | F5: 0 | G5: 0 | H5: 0 | I5: 0 | J5: 0 | K5: 0 | L5: 0 | M5: 0 | N5: 0 | O5: 0 | P5: 0 | Q5: 0 | R5: 0 | S5: 0 | T5: 1 | U5: 1 | V5: 1 | W5: 1 | X5: 1 | Y5: 1 | Z5: 1 | AA5: 0 | AB5: 0 | AC5: 0 | AD5: 0 | AE5: 0 | AF5: 0 | AG5: 0 | AH5: 0 | AI5: 0 | AJ5: 0 | AK5: 0 | AL5: 0 | AM5: 0 | AN5: 0 | AO5: 0 | AP5: 0 | AQ5: 0 | AR5: 1 | AS5: 1 | AT5: 1 | AU5: 0 | AV5: 1 | AW5: 1 | AX5: 1 | AY5: 0 | AZ5: 0 | BA5: 0 | BB5: 1 | BC5: 1 | BD5: 1 | BE5: 1 | BF5: 1 | BG5: 1 | BH5: 1 | BI5: 0 | BJ5: 0 | BK5: 0 | BL5: 1 | BM5: 1 | BN5: 1 | BO5: 1 | BP5: 0 | BQ5: 0 | BR5: 0 | BS5: 0 | BT5: 0 | BU5: 0 | BV5: 1 | BW5: 1 | BX5: 1 | BY5: 1 | BZ5: 0 | CA5: 1

Sheet cnt_山の駅
B1: 1 | C1: 2 | D1: 3 | E1: 5 | F1: 6 | G1: 7 | H1: 8 | I1: 13 | J1: 32 | K1: 33(30) | L1: 34 | M1: 35 | N1: 37(18) | O1: 1 | P1: 2 | Q1: 3 | R1: 4 | S1: 10 | T1: 12 | U1: 38 | V1: 21 | W1: 9 | X1: 11 | Y1: 36 | Z1: 39(17) | AA1: 14 | AB1: 15 | AC1: 16 | AD1: 17 | AE1: 18 | AF1: 19 | AG1: 20 | AH1: 23 | AI1: 25 | AJ1: 29 | AK1: 30 | AL1: 27 | AM1: 5 | AN1: 8 | AO1: 20 | AP1: 21 | AQ1: 29 | AR1: 22 | AS1: 24 | AT1: 28 | AU1: 26 | AV1: 31 | AW1: 40(24) | AX1: 41 | AY1: 43 | AZ1: 42 | BA1: 44 | BB1: 45 | BC1: 46 | BD1: 50 | BE1: 51(25) | BF1: 47（26） | BG1: 49 | BH1: 48 | BI1: 9 | BJ1: 13 | BK1: 14 | BL1: 32 | BM1: 19 | BN1: 33 | BO1: 27 | BP1: 22 | BQ1: 23 | BR1: 31 | BS1: 28 | BT1: 38 | BU1: 39 | BV1: 35 | BW1: 16 | CA1: 34
B2: 01_細菌 | D2: 2_金属 | R2: 3_Hg | S2: 4_CN | T2: 5_IC （別途項目あり） | AA2: 7_VOC | AR2: 8_ハロ酢酸 | AU2: 9_臭素酸 | AV2: 10_ホルムアルデヒド | AW2: 11_蒸発残留物 | AX2: 12_陰イオン界面 | AY2: 13_カビ臭物質 | BA2: 14_非イオン界面 | BB2: 15_フェノール | BC2: 16_TOC | BD2: 17_色度濁度 | BI2: 目1_フタル酸 | BJ2: 目2_ジクロロ・抱水 | BL2: 目4_酸度・アルカリ度 | BP2: 目6_過マンガン酸カリウム | BQ2: 目7_TON | BR2: 目9_PFOS・PFOA | BS2: 目8_従属・指標菌 | BT2: 他1_クリプト・ジアルジア | BV2: 05_IC | BW2: 採水データ | CA2: 17_色度濁度
B3: 一般細菌 | C3: 大腸菌 _定性 | D3: カドミウム及びその化合物 | E3: セレン及びその化合物 | F3: 鉛及びその化合物 | G3: ヒ素及びその化合物 | H3: 六価クロム化合物 | I3: ホウ素及びその化合物 | J3: 亜鉛及びその化合物 | K3: アルミニウム及びその化合物 | L3: 鉄及びその化合物 | M3: 銅及びその化合物 | N3: マンガン及びその化合物 | O3: アンチモン及びその化合物 | P3: ウラン及びその化合物 | Q3: ニッケル及びその化合物 | R3: 水銀及びその化合物 | S3: シアン化物イオン及び塩化シアン | T3: フッ素及びその化合物 | U3: 塩化物 イオン | V3: 塩素酸 | W3: 亜硝酸態 窒素 | X3: 硝酸態窒素及び亜硝酸態窒素 | Y3: ナトリウム及びその化合物 | Z3: カルシウム、マグネシウム等（硬度） | AA3: 四塩化炭素 | AB3: 1,4-ジオキサン | AC3: シス及びトランス‐１,２‐ジクロロエチレン | AD3: ジクロロメタン | AE3: テトラクロロエチレン | AF3: トリクロロエチレン | AG3: ベンゼン | AH3: クロロホルム | AI3: ジブロモクロロメタン | AJ3: ブロモジクロロメタン | AK3: ブロモホルム | AL3: 総トリハロメタン | AM3: 1,2-ジクロロエタン | AN3: トルエン | AO3: 1,1,1-トリクロロエタン | AP3: メチル-t-ブチルエーテル | AQ3: 1,1-ジクロロエチレン | AR3: クロロ酢酸 | AS3: ジクロロ酢酸 | AT3: トリクロロ酢酸 | AU3: 臭素酸 | AV3: ホルムアルデヒド | AW3: 蒸発残留物 | AX3: 陰イオン界面活性剤 | AY3: 2－メチルイソボルネオール | AZ3: ジェオスミン | BA3: 非イオン界面活性剤 | BB3: フェノール類 | BC3: 有機物 （全有機炭素（TOC）の量） | BD3: 色度 | BE3: 濁度 | BF3: pH | BG3: 臭気 | BH3: 味 | BI3: フタル酸ジ(2-エチルヘキシル) | BJ3: ジクロロアセトニトリル | BK3: 抱水クロラール | BL3: 総酸度 | BM3: 遊離炭酸 | BN3: 総アルカリ度 | BO3: 腐食性 (ﾗﾝｹﾞﾘｱ指数) | BP3: 有機物等(過マンガン酸カリウム消費量) | BQ3: 臭気強度 | BR3: PFOS及びPFOA | BS3: PFOS及びPFOA | BT3: クリプトスポリジウム | BU3: ジアルジア | BV3: 硝酸態 窒素 | BW3: 残塩 | BX3: 気温 | BY3: 水温 | BZ3: 農薬類 | CA3: 電気伝導度
B4: (個/mL) | D4: μg/L | E4: μg/L | F4: μg/L | G4: μg/L | H4: μg/L | I4: μg/L | J4: μg/L | K4: μg/L | L4: μg/L | M4: μg/L | N4: μg/L | O4: μg/L | P4: μg/L | Q4: μg/L | T4: mg/L | U4: mg/L | V4: mg/L | W4: mg/L | Y4: mg/L | AA4: µg/L | AB4: µg/L | AD4: µg/L | AE4: µg/L | AF4: µg/L | AG4: µg/L | AH4: µg/L | AI4: µg/L | AJ4: µg/L | AK4: µg/L | AL4: μg/L | AM4: μg/L | AN4: μg/L | AO4: μg/L | AP4: μg/L | AQ4: μg/L | AR4: mg/L | AS4: mg/L | AT4: mg/L | AU4: mg/L | AV4: mg/L | AW4: mg/L | AX4: mg/L | AY4: mg/L | AZ4: mg/L | BA4: mg/L | BB4: μg/L | BC4: mg/L | BD4: 度 | BE4: 度 | BI4: mg/L | BJ4: mg/L | BK4: mg/L | BL4: mg/L | BM4: mg/L | BN4: mg/L | BP4: mg/L | BR4: μg/L | BS4: μg/L | BV4: mg/L
B5: 1 | C5: 1 | D5: 0 | E5: 0 | F5: 0 | G5: 0 | H5: 0 | I5: 0 | J5: 0 | K5: 0 | L5: 0 | M5: 0 | N5: 0 | O5: 0 | P5: 0 | Q5: 0 | R5: 0 | S5: 0 | T5: 1 | U5: 1 | V5: 1 | W5: 1 | X5: 1 | Y5: 1 | Z5: 1 | AA5: 0 | AB5: 0 | AC5: 0 | AD5: 0 | AE5: 0 | AF5: 0 | AG5: 0 | AH5: 0 | AI5: 0 | AJ5: 0 | AK5: 0 | AL5: 0 | AM5: 0 | AN5: 0 | AO5: 0 | AP5: 0 | AQ5: 0 | AR5: 1 | AS5: 1 | AT5: 1 | AU5: 0 | AV5: 1 | AW5: 1 | AX5: 1 | AY5: 0 | AZ5: 0 | BA5: 0 | BB5: 1 | BC5: 1 | BD5: 1 | BE5: 1 | BF5: 1 | BG5: 1 | BH5: 1 | BI5: 0 | BJ5: 0 | BK5: 0 | BL5: 1 | BM5: 1 | BN5: 1 | BO5: 1 | BP5: 0 | BQ5: 0 | BR5: 0 | BS5: 0 | BT5: 0 | BU5: 0 | BV5: 1 | BW5: 1 | BX5: 1 | BY5: 1 | BZ5: 0 | CA5: 1

Sheet cnt_小田木
B1: 1 | C1: 2 | D1: 3 | E1: 5 | F1: 6 | G1: 7 | H1: 8 | I1: 13 | J1: 32 | K1: 33(30) | L1: 34 | M1: 35 | N1: 37(18) | O1: 1 | P1: 2 | Q1: 3 | R1: 4 | S1: 10 | T1: 12 | U1: 38 | V1: 21 | W1: 9 | X1: 11 | Y1: 36 | Z1: 39(17) | AA1: 14 | AB1: 15 | AC1: 16 | AD1: 17 | AE1: 18 | AF1: 19 | AG1: 20 | AH1: 23 | AI1: 25 | AJ1: 29 | AK1: 30 | AL1: 27 | AM1: 5 | AN1: 8 | AO1: 20 | AP1: 21 | AQ1: 29 | AR1: 22 | AS1: 24 | AT1: 28 | AU1: 26 | AV1: 31 | AW1: 40(24) | AX1: 41 | AY1: 43 | AZ1: 42 | BA1: 44 | BB1: 45 | BC1: 46 | BD1: 50 | BE1: 51(25) | BF1: 47（26） | BG1: 49 | BH1: 48 | BI1: 9 | BJ1: 13 | BK1: 14 | BL1: 32 | BM1: 19 | BN1: 33 | BO1: 27 | BP1: 22 | BQ1: 23 | BR1: 31 | BS1: 28 | BT1: 38 | BU1: 39 | BV1: 35 | BW1: 16 | CA1: 34
B2: 01_細菌 | D2: 2_金属 | R2: 3_Hg | S2: 4_CN | T2: 5_IC （別途項目あり） | AA2: 7_VOC | AR2: 8_ハロ酢酸 | AU2: 9_臭素酸 | AV2: 10_ホルムアルデヒド | AW2: 11_蒸発残留物 | AX2: 12_陰イオン界面 | AY2: 13_カビ臭物質 | BA2: 14_非イオン界面 | BB2: 15_フェノール | BC2: 16_TOC | BD2: 17_色度濁度 | BI2: 目1_フタル酸 | BJ2: 目2_ジクロロ・抱水 | BL2: 目4_酸度・アルカリ度 | BP2: 目6_過マンガン酸カリウム | BQ2: 目7_TON | BR2: 目9_PFOS・PFOA | BS2: 目8_従属・指標菌 | BT2: 他1_クリプト・ジアルジア | BV2: 05_IC | BW2: 採水データ | CA2: 17_色度濁度
B3: 一般細菌 | C3: 大腸菌 _定性 | D3: カドミウム及びその化合物 | E3: セレン及びその化合物 | F3: 鉛及びその化合物 | G3: ヒ素及びその化合物 | H3: 六価クロム化合物 | I3: ホウ素及びその化合物 | J3: 亜鉛及びその化合物 | K3: アルミニウム及びその化合物 | L3: 鉄及びその化合物 | M3: 銅及びその化合物 | N3: マンガン及びその化合物 | O3: アンチモン及びその化合物 | P3: ウラン及びその化合物 | Q3: ニッケル及びその化合物 | R3: 水銀及びその化合物 | S3: シアン化物イオン及び塩化シアン | T3: フッ素及びその化合物 | U3: 塩化物イオン | V3: 塩素酸 | W3: 亜硝酸態 窒素 | X3: 硝酸態窒素及び亜硝酸態窒素 | Y3: ナトリウム及びその化合物 | Z3: カルシウム、マグネシウム等（硬度） | AA3: 四塩化炭素 | AB3: 1,4-ジオキサン | AC3: シス及びトランス‐１,２‐ジクロロエチレン | AD3: ジクロロメタン | AE3: テトラクロロエチレン | AF3: トリクロロエチレン | AG3: ベンゼン | AH3: クロロホルム | AI3: ジブロモクロロメタン | AJ3: ブロモジクロロメタン | AK3: ブロモホルム | AL3: 総トリハロメタン | AM3: 1,2-ジクロロエタン | AN3: トルエン | AO3: 1,1,1-トリクロロエタン | AP3: メチル-t-ブチルエーテル | AQ3: 1,1-ジクロロエチレン | AR3: クロロ酢酸 | AS3: ジクロロ酢酸 | AT3: トリクロロ酢酸 | AU3: 臭素酸 | AV3: ホルムアルデヒド | AW3: 蒸発残留物 | AX3: 陰イオン界面活性剤 | AY3: 2－メチルイソボルネオール | AZ3: ジェオスミン | BA3: 非イオン界面活性剤 | BB3: フェノール類 | BC3: 有機物 （全有機炭素（TOC）の量） | BD3: 色度 | BE3: 濁度 | BF3: pH | BG3: 臭気 | BH3: 味 | BI3: フタル酸ジ(2-エチルヘキシル) | BJ3: ジクロロアセトニトリル | BK3: 抱水クロラール | BL3: 総酸度 | BM3: 遊離炭酸 | BN3: 総アルカリ度 | BO3: 腐食性 (ﾗﾝｹﾞﾘｱ指数) | BP3: 有機物等(過マンガン酸カリウム消費量) | BQ3: 臭気強度 | BR3: PFOS及びPFOA | BS3: 従属栄養細菌 | BT3: クリプトスポリジウム | BU3: ジアルジア | BV3: 硝酸態窒素 | BW3: 残塩 | BX3: 気温 | BY3: 水温 | BZ3: 農薬類 | CA3: 電気伝導度
B4: (個/mL) | D4: μg/L | E4: μg/L | F4: μg/L | G4: μg/L | H4: μg/L | I4: μg/L | J4: μg/L | K4: μg/L | L4: μg/L | M4: μg/L | N4: μg/L | O4: μg/L | P4: μg/L | Q4: μg/L | T4: mg/L | U4: mg/L | V4: mg/L | W4: mg/L | Y4: mg/L | AA4: µg/L | AB4: µg/L | AD4: µg/L | AE4: µg/L | AF4: µg/L | AG4: µg/L | AH4: µg/L | AI4: µg/L | AJ4: µg/L | AK4: µg/L | AL4: μg/L | AM4: μg/L | AN4: μg/L | AO4: μg/L | AP4: μg/L | AQ4: μg/L | AR4: mg/L | AS4: mg/L | AT4: mg/L | AU4: mg/L | AV4: mg/L | AW4: mg/L | AX4: mg/L | AY4: mg/L | AZ4: mg/L | BA4: mg/L | BB4: μg/L | BC4: mg/L | BD4: 度 | BE4: 度 | BI4: mg/L | BJ4: mg/L | BK4: mg/L | BL4: mg/L | BM4: mg/L | BN4: mg/L | BP4: mg/L | BR4: μg/L | BS4: CFU/mL | BV4: mg/L
B5: 1 | C5: 1 | D5: 0 | E5: 0 | F5: 0 | G5: 0 | H5: 0 | I5: 0 | J5: 0 | K5: 0 | L5: 0 | M5: 0 | N5: 0 | O5: 0 | P5: 0 | Q5: 0 | R5: 0 | S5: 0 | T5: 1 | U5: 1 | V5: 1 | W5: 1 | X5: 1 | Y5: 1 | Z5: 1 | AA5: 0 | AB5: 0 | AC5: 0 | AD5: 0 | AE5: 0 | AF5: 0 | AG5: 0 | AH5: 0 | AI5: 0 | AJ5: 0 | AK5: 0 | AL5: 0 | AM5: 0 | AN5: 0 | AO5: 0 | AP5: 0 | AQ5: 0 | AR5: 1 | AS5: 1 | AT5: 1 | AU5: 0 | AV5: 1 | AW5: 1 | AX5: 1 | AY5: 0 | AZ5: 0 | BA5: 0 | BB5: 1 | BC5: 1 | BD5: 1 | BE5: 1 | BF5: 1 | BG5: 1 | BH5: 1 | BI5: 0 | BJ5: 0 | BK5: 0 | BL5: 1 | BM5: 1 | BN5: 1 | BO5: 1 | BP5: 0 | BQ5: 0 | BR5: 0 | BS5: 0 | BT5: 0 | BU5: 0 | BV5: 1 | BW5: 1 | BX5: 1 | BY5: 1 | BZ5: 0 | CA5: 1

Sheet cnt_田津原
B1: 1 | C1: 2 | D1: 3 | E1: 5 | F1: 6 | G1: 7 | H1: 8 | I1: 13 | J1: 32 | K1: 33(30) | L1: 34 | M1: 35 | N1: 37(18) | O1: 1 | P1: 2 | Q1: 3 | R1: 4 | S1: 10 | T1: 12 | U1: 38 | V1: 21 | W1: 9 | X1: 11 | Y1: 36 | Z1: 39(17) | AA1: 14 | AB1: 15 | AC1: 16 | AD1: 17 | AE1: 18 | AF1: 19 | AG1: 20 | AH1: 23 | AI1: 25 | AJ1: 29 | AK1: 30 | AL1: 27 | AM1: 5 | AN1: 8 | AO1: 20 | AP1: 21 | AQ1: 29 | AR1: 22 | AS1: 24 | AT1: 28 | AU1: 26 | AV1: 31 | AW1: 40(24) | AX1: 41 | AY1: 43 | AZ1: 42 | BA1: 44 | BB1: 45 | BC1: 46 | BD1: 50 | BE1: 51(25) | BF1: 47（26） | BG1: 49 | BH1: 48 | BI1: 9 | BJ1: 13 | BK1: 14 | BL1: 32 | BM1: 19 | BN1: 33 | BO1: 27 | BP1: 22 | BQ1: 23 | BR1: 31 | BS1: 28 | BT1: 38 | BU1: 39 | BV1: 35 | BW1: 16 | CA1: 34
B2: 01_細菌 | D2: 2_金属 | R2: 3_Hg | S2: 4_CN | T2: 5_IC （別途項目あり） | AA2: 7_VOC | AR2: 8_ハロ酢酸 | AU2: 9_臭素酸 | AV2: 10_ホルムアルデヒド | AW2: 11_蒸発残留物 | AX2: 12_陰イオン界面 | AY2: 13_カビ臭物質 | BA2: 14_非イオン界面 | BB2: 15_フェノール | BC2: 16_TOC | BD2: 17_色度濁度 | BI2: 目1_フタル酸 | BJ2: 目2_ジクロロ・抱水 | BL2: 目4_酸度・アルカリ度 | BP2: 目6_過マンガン酸カリウム | BQ2: 目7_TON | BR2: 目9_PFOS・PFOA | BS2: 目8_従属・指標菌 | BT2: 他1_クリプト・ジアルジア | BV2: 05_IC | BW2: 採水データ | CA2: 17_色度濁度
B3: 一般細菌 | C3: 大腸菌 _定性 | D3: カドミウム及びその化合物 | E3: セレン及びその化合物 | F3: 鉛及びその化合物 | G3: ヒ素及びその化合物 | H3: 六価クロム化合物 | I3: ホウ素及びその化合物 | J3: 亜鉛及びその化合物 | K3: アルミニウム及びその化合物 | L3: 鉄及びその化合物 | M3: 銅及びその化合物 | N3: マンガン及びその化合物 | O3: アンチモン及びその化合物 | P3: ウラン及びその化合物 | Q3: ニッケル及びその化合物 | R3: 水銀及びその化合物 | S3: シアン化物イオン及び塩化シアン | T3: フッ素及びその化合物 | U3: 塩化物イオン | V3: 塩素酸 | W3: 亜硝酸態 窒素 | X3: 硝酸態窒素及び亜硝酸態窒素 | Y3: ナトリウム及びその化合物 | Z3: カルシウム、マグネシウム等（硬度） | AA3: 四塩化炭素 | AB3: 1,4-ジオキサン | AC3: シス及びトランス‐１,２‐ジクロロエチレン | AD3: ジクロロメタン | AE3: テトラクロロエチレン | AF3: トリクロロエチレン | AG3: ベンゼン | AH3: クロロホルム | AI3: ジブロモクロロメタン | AJ3: ブロモジクロロメタン | AK3: ブロモホルム | AL3: 総トリハロメタン | AM3: 1,2-ジクロロエタン | AN3: トルエン | AO3: 1,1,1-トリクロロエタン | AP3: メチル-t-ブチルエーテル | AQ3: 1,1-ジクロロエチレン | AR3: クロロ酢酸 | AS3: ジクロロ酢酸 | AT3: トリクロロ酢酸 | AU3: 臭素酸 | AV3: ホルムアルデヒド | AW3: 蒸発残留物 | AX3: 陰イオン界面活性剤 | AY3: 2－メチルイソボルネオール | AZ3: ジェオスミン | BA3: 非イオン界面活性剤 | BB3: フェノール類 | BC3: 有機物 （全有機炭素（TOC）の量） | BD3: 色度 | BE3: 濁度 | BF3: pH | BG3: 臭気 | BH3: 味 | BI3: フタル酸ジ(2-エチルヘキシル) | BJ3: ジクロロアセトニトリル | BK3: 抱水クロラール | BL3: 総酸度 | BM3: 遊離炭酸 | BN3: 総アルカリ度 | BO3: 腐食性 (ﾗﾝｹﾞﾘｱ指数) | BP3: 有機物等(過マンガン酸カリウム消費量) | BQ3: 臭気強度 | BR3: PFOS及びPFOA | BS3: 従属栄養細菌 | BT3: クリプトスポリジウム | BU3: ジアルジア | BV3: 硝酸態窒素 | BW3: 残塩 | BX3: 気温 | BY3: 水温 | BZ3: 農薬類 | CA3: 電気伝導度
B4: (個/mL) | D4: μg/L | E4: μg/L | F4: μg/L | G4: μg/L | H4: μg/L | I4: μg/L | J4: μg/L | K4: μg/L | L4: μg/L | M4: μg/L | N4: μg/L | O4: μg/L | P4: μg/L | Q4: μg/L | T4: mg/L | U4: mg/L | V4: mg/L | W4: mg/L | Y4: mg/L | AA4: µg/L | AB4: µg/L | AD4: µg/L | AE4: µg/L | AF4: µg/L | AG4: µg/L | AH4: µg/L | AI4: µg/L | AJ4: µg/L | AK4: µg/L | AL4: μg/L | AM4: μg/L | AN4: μg/L | AO4: μg/L | AP4: μg/L | AQ4: μg/L | AR4: mg/L | AS4: mg/L | AT4: mg/L | AU4: mg/L | AV4: mg/L | AW4: mg/L | AX4: mg/L | AY4: mg/L | AZ4: mg/L | BA4: mg/L | BB4: μg/L | BC4: mg/L | BD4: 度 | BE4: 度 | BI4: mg/L | BJ4: mg/L | BK4: mg/L | BL4: mg/L | BM4: mg/L | BN4: mg/L | BP4: mg/L | BR4: μg/L | BS4: CFU/mL | BV4: mg/L
B5: 1 | C5: 1 | D5: 0 | E5: 0 | F5: 0 | G5: 0 | H5: 0 | I5: 0 | J5: 0 | K5: 0 | L5: 0 | M5: 0 | N5: 0 | O5: 0 | P5: 0 | Q5: 0 | R5: 0 | S5: 0 | T5: 1 | U5: 1 | V5: 1 | W5: 1 | X5: 1 | Y5: 1 | Z5: 1 | AA5: 0 | AB5: 0 | AC5: 0 | AD5: 0 | AE5: 0 | AF5: 0 | AG5: 0 | AH5: 0 | AI5: 0 | AJ5: 0 | AK5: 0 | AL5: 0 | AM5: 0 | AN5: 0 | AO5: 0 | AP5: 0 | AQ5: 0 | AR5: 1 | AS5: 1 | AT5: 1 | AU5: 0 | AV5: 1 | AW5: 1 | AX5: 1 | AY5: 0 | AZ5: 0 | BA5: 0 | BB5: 1 | BC5: 1 | BD5: 1 | BE5: 1 | BF5: 1 | BG5: 1 | BH5: 1 | BI5: 0 | BJ5: 0 | BK5: 0 | BL5: 1 | BM5: 1 | BN5: 1 | BO5: 1 | BP5: 0 | BQ5: 0 | BR5: 0 | BS5: 0 | BT5: 0 | BU5: 0 | BV5: 1 | BW5: 1 | BX5: 1 | BY5: 1 | BZ5: 0 | CA5: 1

Sheet cnt_押川
B1: 1 | C1: 2 | D1: 3 | E1: 5 | F1: 6 | G1: 7 | H1: 8 | I1: 13 | J1: 32 | K1: 33(30) | L1: 34 | M1: 35 | N1: 37(18) | O1: 1 | P1: 2 | Q1: 3 | R1: 4 | S1: 10 | T1: 12 | U1: 38 | V1: 21 | W1: 9 | X1: 11 | Y1: 36 | Z1: 39(17) | AA1: 14 | AB1: 15 | AC1: 16 | AD1: 17 | AE1: 18 | AF1: 19 | AG1: 20 | AH1: 23 | AI1: 25 | AJ1: 29 | AK1: 30 | AL1: 27 | AM1: 5 | AN1: 8 | AO1: 20 | AP1: 21 | AQ1: 29 | AR1: 22 | AS1: 24 | AT1: 28 | AU1: 26 | AV1: 31 | AW1: 40(24) | AX1: 41 | AY1: 43 | AZ1: 42 | BA1: 44 | BB1: 45 | BC1: 46 | BD1: 50 | BE1: 51(25) | BF1: 47（26） | BG1: 49 | BH1: 48 | BI1: 9 | BJ1: 13 | BK1: 14 | BL1: 32 | BM1: 19 | BN1: 33 | BO1: 27 | BP1: 22 | BQ1: 23 | BR1: 31 | BS1: 28 | BT1: 38 | BU1: 39 | BV1: 35 | BW1: 16 | CA1: 34
B2: 01_細菌 | D2: 2_金属 | R2: 3_Hg | S2: 4_CN | T2: 5_IC （別途項目あり） | AA2: 7_VOC | AR2: 8_ハロ酢酸 | AU2: 9_臭素酸 | AV2: 10_ホルムアルデヒド | AW2: 11_蒸発残留物 | AX2: 12_陰イオン界面 | AY2: 13_カビ臭物質 | BA2: 14_非イオン界面 | BB2: 15_フェノール | BC2: 16_TOC | BD2: 17_色度濁度 | BI2: 目1_フタル酸 | BJ2: 目2_ジクロロ・抱水 | BL2: 目4_酸度・アルカリ度 | BP2: 目6_過マンガン酸カリウム | BQ2: 目7_TON | BR2: 目9_PFOS・PFOA | BS2: 目8_従属・指標菌 | BT2: 他1_クリプト・ジアルジア | BV2: 05_IC | BW2: 採水データ | CA2: 17_色度濁度
B3: 一般細菌 | C3: 大腸菌 _定性 | D3: カドミウム及びその化合物 | E3: セレン及びその化合物 | F3: 鉛及びその化合物 | G3: ヒ素及びその化合物 | H3: 六価クロム化合物 | I3: ホウ素及びその化合物 | J3: 亜鉛及びその化合物 | K3: アルミニウム及びその化合物 | L3: 鉄及びその化合物 | M3: 銅及びその化合物 | N3: マンガン及びその化合物 | O3: アンチモン及びその化合物 | P3: ウラン及びその化合物 | Q3: ニッケル及びその化合物 | R3: 水銀及びその化合物 | S3: シアン化物イオン及び塩化シアン | T3: フッ素及びその化合物 | U3: 塩化物イオン | V3: 塩素酸 | W3: 亜硝酸態 窒素 | X3: 硝酸態窒素及び亜硝酸態窒素 | Y3: ナトリウム及びその化合物 | Z3: カルシウム、マグネシウム等（硬度） | AA3: 四塩化炭素 | AB3: 1,4-ジオキサン | AC3: シス及びトランス‐１,２‐ジクロロエチレン | AD3: ジクロロメタン | AE3: テトラクロロエチレン | AF3: トリクロロエチレン | AG3: ベンゼン | AH3: クロロホルム | AI3: ジブロモクロロメタン | AJ3: ブロモジクロロメタン | AK3: ブロモホルム | AL3: 総トリハロメタン | AM3: 1,2-ジクロロエタン | AN3: トルエン | AO3: 1,1,1-トリクロロエタン | AP3: メチル-t-ブチルエーテル | AQ3: 1,1-ジクロロエチレン | AR3: クロロ酢酸 | AS3: ジクロロ酢酸 | AT3: トリクロロ酢酸 | AU3: 臭素酸 | AV3: ホルムアルデヒド | AW3: 蒸発残留物 | AX3: 陰イオン界面活性剤 | AY3: 2－メチルイソボルネオール | AZ3: ジェオスミン | BA3: 非イオン界面活性剤 | BB3: フェノール類 | BC3: 有機物 （全有機炭素（TOC）の量） | BD3: 色度 | BE3: 濁度 | BF3: pH | BG3: 臭気 | BH3: 味 | BI3: フタル酸ジ(2-エチルヘキシル) | BJ3: ジクロロアセトニトリル | BK3: 抱水クロラール | BL3: 総酸度 | BM3: 遊離炭酸 | BN3: 総アルカリ度 | BO3: 腐食性 (ﾗﾝｹﾞﾘｱ指数) | BP3: 有機物等(過マンガン酸カリウム消費量) | BQ3: 臭気強度 | BR3: PFOS及びPFOA | BS3: 従属栄養細菌 | BT3: クリプトスポリジウム | BU3: ジアルジア | BV3: 硝酸態窒素 | BW3: 残塩 | BX3: 気温 | BY3: 水温 | BZ3: 農薬類 | CA3: 電気伝導度
B4: (個/mL) | D4: μg/L | E4: μg/L | F4: μg/L | G4: μg/L | H4: μg/L | I4: μg/L | J4: μg/L | K4: μg/L | L4: μg/L | M4: μg/L | N4: μg/L | O4: μg/L | P4: μg/L | Q4: μg/L | T4: mg/L | U4: mg/L | V4: mg/L | W4: mg/L | Y4: mg/L | AA4: µg/L | AB4: µg/L | AD4: µg/L | AE4: µg/L | AF4: µg/L | AG4: µg/L | AH4: µg/L | AI4: µg/L | AJ4: µg/L | AK4: µg/L | AL4: μg/L | AM4: μg/L | AN4: μg/L | AO4: μg/L | AP4: μg/L | AQ4: μg/L | AR4: mg/L | AS4: mg/L | AT4: mg/L | AU4: mg/L | AV4: mg/L | AW4: mg/L | AX4: mg/L | AY4: mg/L | AZ4: mg/L | BA4: mg/L | BB4: μg/L | BC4: mg/L | BD4: 度 | BE4: 度 | BI4: mg/L | BJ4: mg/L | BK4: mg/L | BL4: mg/L | BM4: mg/L | BN4: mg/L | BP4: mg/L | BR4: μg/L | BS4: CFU/mL | BV4: mg/L
B5: 1 | C5: 1 | D5: 0 | E5: 0 | F5: 0 | G5: 0 | H5: 0 | I5: 0 | J5: 0 | K5: 0 | L5: 0 | M5: 0 | N5: 0 | O5: 0 | P5: 0 | Q5: 0 | R5: 0 | S5: 0 | T5: 1 | U5: 1 | V5: 1 | W5: 1 | X5: 1 | Y5: 1 | Z5: 1 | AA5: 0 | AB5: 0 | AC5: 0 | AD5: 0 | AE5: 0 | AF5: 0 | AG5: 0 | AH5: 0 | AI5: 0 | AJ5: 0 | AK5: 0 | AL5: 0 | AM5: 0 | AN5: 0 | AO5: 0 | AP5: 0 | AQ5: 0 | AR5: 1 | AS5: 1 | AT5: 1 | AU5: 0 | AV5: 1 | AW5: 1 | AX5: 1 | AY5: 0 | AZ5: 0 | BA5: 0 | BB5: 1 | BC5: 1 | BD5: 1 | BE5: 1 | BF5: 1 | BG5: 1 | BH5: 1 | BI5: 0 | BJ5: 0 | BK5: 0 | BL5: 1 | BM5: 1 | BN5: 1 | BO5: 1 | BP5: 0 | BQ5: 0 | BR5: 0 | BS5: 0 | BT5: 0 | BU5: 0 | BV5: 1 | BW5: 1 | BX5: 1 | BY5: 1 | BZ5: 0 | CA5: 1

Sheet cnt_川手
B1: 1 | C1: 2 | D1: 3 | E1: 5 | F1: 6 | G1: 7 | H1: 8 | I1: 13 | J1: 32 | K1: 33(30) | L1: 34 | M1: 35 | N1: 37(18) | O1: 1 | P1: 2 | Q1: 3 | R1: 4 | S1: 10 | T1: 12 | U1: 38 | V1: 21 | W1: 9 | X1: 11 | Y1: 36 | Z1: 39(17) | AA1: 14 | AB1: 15 | AC1: 16 | AD1: 17 | AE1: 18 | AF1: 19 | AG1: 20 | AH1: 23 | AI1: 25 | AJ1: 29 | AK1: 30 | AL1: 27 | AM1: 5 | AN1: 8 | AO1: 20 | AP1: 21 | AQ1: 29 | AR1: 22 | AS1: 24 | AT1: 28 | AU1: 26 | AV1: 31 | AW1: 40(24) | AX1: 41 | AY1: 43 | AZ1: 42 | BA1: 44 | BB1: 45 | BC1: 46 | BD1: 50 | BE1: 51(25) | BF1: 47（26） | BG1: 49 | BH1: 48 | BI1: 9 | BJ1: 13 | BK1: 14 | BL1: 32 | BM1: 19 | BN1: 33 | BO1: 27 | BP1: 22 | BQ1: 23 | BR1: 31 | BS1: 28 | BT1: 38 | BU1: 39 | BV1: 35 | BW1: 16 | CA1: 34
B2: 01_細菌 | D2: 2_金属 | R2: 3_Hg | S2: 4_CN | T2: 5_IC （別途項目あり） | AA2: 7_VOC | AR2: 8_ハロ酢酸 | AU2: 9_臭素酸 | AV2: 10_ホルムアルデヒド | AW2: 11_蒸発残留物 | AX2: 12_陰イオン界面 | AY2: 13_カビ臭物質 | BA2: 14_非イオン界面 | BB2: 15_フェノール | BC2: 16_TOC | BD2: 17_色度濁度 | BI2: 目1_フタル酸 | BJ2: 目2_ジクロロ・抱水 | BL2: 目4_酸度・アルカリ度 | BP2: 目6_過マンガン酸カリウム | BQ2: 目7_TON | BR2: 目9_PFOS・PFOA | BS2: 目8_従属・指標菌 | BT2: 他1_クリプト・ジアルジア | BV2: 05_IC | BW2: 採水データ | CA2: 17_色度濁度
B3: 一般細菌 | C3: 大腸菌 _定性 | D3: カドミウム及びその化合物 | E3: セレン及びその化合物 | F3: 鉛及びその化合物 | G3: ヒ素及びその化合物 | H3: 六価クロム化合物 | I3: ホウ素及びその化合物 | J3: 亜鉛及びその化合物 | K3: アルミニウム及びその化合物 | L3: 鉄及びその化合物 | M3: 銅及びその化合物 | N3: マンガン及びその化合物 | O3: アンチモン及びその化合物 | P3: ウラン及びその化合物 | Q3: ニッケル及びその化合物 | R3: 水銀及びその化合物 | S3: シアン化物イオン及び塩化シアン | T3: フッ素及びその化合物 | U3: 塩化物イオン | V3: 塩素酸 | W3: 亜硝酸態 窒素 | X3: 硝酸態窒素及び亜硝酸態窒素 | Y3: ナトリウム及びその化合物 | Z3: カルシウム、マグネシウム等（硬度） | AA3: 四塩化炭素 | AB3: 1,4-ジオキサン | AC3: シス及びトランス‐１,２‐ジクロロエチレン | AD3: ジクロロメタン | AE3: テトラクロロエチレン | AF3: トリクロロエチレン | AG3: ベンゼン | AH3: クロロホルム | AI3: ジブロモクロロメタン | AJ3: ブロモジクロロメタン | AK3: ブロモホルム | AL3: 総トリハロメタン | AM3: 1,2-ジクロロエタン | AN3: トルエン | AO3: 1,1,1-トリクロロエタン | AP3: メチル-t-ブチルエーテル | AQ3: 1,1-ジクロロエチレン | AR3: クロロ酢酸 | AS3: ジクロロ酢酸 | AT3: トリクロロ酢酸 | AU3: 臭素酸 | AV3: ホルムアルデヒド | AW3: 蒸発残留物 | AX3: 陰イオン界面活性剤 | AY3: 2－メチルイソボルネオール | AZ3: ジェオスミン | BA3: 非イオン界面活性剤 | BB3: フェノール類 | BC3: 有機物 （全有機炭素（TOC）の量） | BD3: 色度 | BE3: 濁度 | BF3: pH | BG3: 臭気 | BH3: 味 | BI3: フタル酸ジ(2-エチルヘキシル) | BJ3: ジクロロアセトニトリル | BK3: 抱水クロラール | BL3: 総酸度 | BM3: 遊離炭酸 | BN3: 総アルカリ度 | BO3: 腐食性 (ﾗﾝｹﾞﾘｱ指数) | BP3: 有機物等(過マンガン酸カリウム消費量) | BQ3: 臭気強度 | BR3: PFOS及びPFOA | BS3: 従属栄養細菌 | BT3: クリプトスポリジウム | BU3: ジアルジア | BV3: 硝酸態窒素 | BW3: 残塩 | BX3: 気温 | BY3: 水温 | BZ3: 農薬類 | CA3: 電気伝導度
B4: (個/mL) | D4: μg/L | E4: μg/L | F4: μg/L | G4: μg/L | H4: μg/L | I4: μg/L | J4: μg/L | K4: μg/L | L4: μg/L | M4: μg/L | N4: μg/L | O4: μg/L | P4: μg/L | Q4: μg/L | T4: mg/L | U4: mg/L | V4: mg/L | W4: mg/L | Y4: mg/L | AA4: µg/L | AB4: µg/L | AD4: µg/L | AE4: µg/L | AF4: µg/L | AG4: µg/L | AH4: µg/L | AI4: µg/L | AJ4: µg/L | AK4: µg/L | AL4: μg/L | AM4: μg/L | AN4: μg/L | AO4: μg/L | AP4: μg/L | AQ4: μg/L | AR4: mg/L | AS4: mg/L | AT4: mg/L | AU4: mg/L | AV4: mg/L | AW4: mg/L | AX4: mg/L | AY4: mg/L | AZ4: mg/L | BA4: mg/L | BB4: μg/L | BC4: mg/L | BD4: 度 | BE4: 度 | BI4: mg/L | BJ4: mg/L | BK4: mg/L | BL4: mg/L | BM4: mg/L | BN4: mg/L | BP4: mg/L | BR4: μg/L | BS4: CFU/mL | BV4: mg/L
B5: 1 | C5: 1 | D5: 0 | E5: 0 | F5: 0 | G5: 0 | H5: 0 | I5: 0 | J5: 0 | K5: 0 | L5: 0 | M5: 0 | N5: 0 | O5: 0 | P5: 0 | Q5: 0 | R5: 0 | S5: 0 | T5: 1 | U5: 1 | V5: 1 | W5: 1 | X5: 1 | Y5: 1 | Z5: 1 | AA5: 0 | AB5: 0 | AC5: 0 | AD5: 0 | AE5: 0 | AF5: 0 | AG5: 0 | AH5: 0 | AI5: 0 | AJ5: 0 | AK5: 0 | AL5: 0 | AM5: 0 | AN5: 0 | AO5: 0 | AP5: 0 | AQ5: 0 | AR5: 1 | AS5: 1 | AT5: 1 | AU5: 0 | AV5: 1 | AW5: 1 | AX5: 1 | AY5: 0 | AZ5: 0 | BA5: 0 | BB5: 1 | BC5: 1 | BD5: 1 | BE5: 1 | BF5: 1 | BG5: 1 | BH5: 1 | BI5: 0 | BJ5: 0 | BK5: 0 | BL5: 1 | BM5: 1 | BN5: 1 | BO5: 1 | BP5: 0 | BQ5: 0 | BR5: 0 | BS5: 0 | BT5: 0 | BU5: 0 | BV5: 1 | BW5: 1 | BX5: 1 | BY5: 1 | BZ5: 0 | CA5: 1

Sheet 天気タグ
C1: 天気 （共通）
A3: 1行目 | B3: =C3-1 -> 0 | C3: 1 | D3: 2 | E3: 3 | F3: 4 | G3: 5 | H3: 6 | I3: 7 | J3: 8 | K3: 9 | L3: 10 | M3: 11 | N3: 12 | O3: 13 | P3: 14 | Q3: 15 | R3: 16 | S3: 17 | T3: 18 | U3: 19 | V3: 20 | W3: 21 | X3: 22 | Y3: 23 | Z3: 24 | AA3: 25 | AB3: 26 | AC3: 27 | AD3: 28 | AE3: 29 | AF3: 30 | AG3: 31 | AH3: 月末 参照用
A4: 2行目 | B4: 先月末 | C4: 天候 | D4: 天候 | E4: 天候 | F4: 天候 | G4: 天候 | H4: 天候 | I4: 天候 | J4: 天候 | K4: 天候 | L4: 天候 | M4: 天候 | N4: 天候 | O4: 天候 | P4: 天候 | Q4: 天候 | R4: 天候 | S4: 天候 | T4: 天候 | U4: 天候 | V4: 天候 | W4: 天候 | X4: 天候 | Y4: 天候 | Z4: 天候 | AA4: 天候 | AB4: 天候 | AC4: 天候 | AD4: 天候 | AE4: 天候 | AF4: 天候 | AG4: 天候
A5: 3行目 | B5: 5
A6: 4行目 | AH6: =INDEX(C41:AG41,MATCH(MAX(C41:AG41)+1,C41:AG41,1)) -> 5 | AI6: =AH6*1 -> 5
A7: 5行目 | AH7: 演算タグ
A8: 6行目
A9: 7行目
A10: 8行目
A11: 9行目
A12: 10行目
A13: 11行目
A14: 12行目
A15: 13行目
A16: 14行目
A17: 15行目
A18: 16行目
A19: 17行目
... A30: 28行目
A31: 29行目 | C31: 雨/曇 | D31: 晴/曇 | E31: 曇/雨 | F31: 雨/曇 | G31: 晴/曇 | H31: 曇 | I31: 晴/曇 | J31: 曇|雨 | K31: 晴|曇 | L31: 晴 | M31: 晴|曇 | N31: 晴|曇 | O31: 曇|雨 | P31: 曇/晴 | Q31: 晴 | R31: 晴 | S31: 晴 | T31: 晴 | U31: 晴 | V31: 晴/曇 | W31: 雨|曇 | X31: 雨/曇 | Y31: 曇 | Z31: 曇 | AA31: 晴 | AB31: 晴/曇
A32: 30行目
A33: 31行目
A34: 32行目
A35: 33行目
A36: 34行目
A37: 35行目 | B37: =IF(B5="","",VLOOKUP(B5,変換!$B$1:$C$28,2,FALSE)) -> 晴/曇 | C37: =C5&C6&C7&C8&C9&C10&C11&C12&C13&C14&C15&C16&C17&C18&C19&C20&C21&C22&C23&C24&C25&C26&C27&C28&C29&C30&C31&C32&C33&C34&C35&C36 -> 雨/曇 | D37: =D5&D6&D7&D8&D9&D10&D11&D12&D13&D14&D15&D16&D17&D18&D19&D20&D21&D22&D23&D24&D25&D26&D27&D28&D29&D30&D31&D32&D33&D34&D35&D36 -> 晴/曇 | E37: =E5&E6&E7&E8&E9&E10&E11&E12&E13&E14&E15&E16&E17&E18&E19&E20&E21&E22&E23&E24&E25&E26&E27&E28&E29&E30&E31&E32&E33&E34&E35&E36 -> 曇/雨 | F37: =F5&F6&F7&F8&F9&F10&F11&F12&F13&F14&F15&F16&F17&F18&F19&F20&F21&F22&F23&F24&F25&F26&F27&F28&F29&F30&F31&F32&F33&F34&F35&F36 -> 雨/曇 | G37: =G5&G6&G7&G8&G9&G10&G11&G12&G13&G14&G15&G16&G17&G18&G19&G20&G21&G22&G23&G24&G25&G26&G27&G28&G29&G30&G31&G32&G33&G34&G35&G36 -> 晴/曇 | H37: =H5&H6&H7&H8&H9&H10&H11&H12&H13&H14&H15&H16&H17&H18&H19&H20&H21&H22&H23&H24&H25&H26&H27&H28&H29&H30&H31&H32&H33&H34&H35&H36 -> 曇 | I37: =I5&I6&I7&I8&I9&I10&I11&I12&I13&I14&I15&I16&I17&I18&I19&I20&I21&I22&I23&I24&I25&I26&I27&I28&I29&I30&I31&I32&I33&I34&I35&I36 -> 晴/曇 | J37: =J5&J6&J7&J8&J9&J10&J11&J12&J13&J14&J15&J16&J17&J18&J19&J20&J21&J22&J23&J24&J25&J26&J27&J28&J29&J30&J31&J32&J33&J34&J35&J36 -> 曇|雨 | ... AG37: =AG5&AG6&AG7&AG8&AG9&AG10&AG11&AG12&AG13&AG14&AG15&AG16&AG17&AG18&AG19&AG20&AG21&AG22&AG23&AG24&AG25&AG26&AG27&AG28&AG29&AG30&AG31&AG32&AG33&AG34&AG35&AG36
A38: 36行目 | C38: =IF(C6="","",C6) | D38: =IF(D6="","",D6) | E38: =IF(E6="","",E6) | F38: =IF(F6="","",F6) | G38: =IF(G6="","",G6) | H38: =IF(H6="","",H6) | I38: =IF(I6="","",I6) | J38: =IF(J6="","",J6) | ... AG38: =IF(AG6="","",AG6)
A39: 37行目 | C39: =IF(C7="","",C7) | D39: =IF(D7="","",D7) | E39: =IF(E7="","",E7) | F39: =IF(F7="","",F7) | G39: =IF(G7="","",G7) | H39: =IF(H7="","",H7) | I39: =IF(I7="","",I7) | J39: =IF(J7="","",J7) | ... AG39: =IF(AG7="","",AG7)
A41: 変換 | C41: =IF(C37="","",VLOOKUP(C37,変換!$B$31:$C$58,2,FALSE)) -> 12 | D41: =IF(D37="","",VLOOKUP(D37,変換!$B$31:$C$58,2,FALSE)) -> 5 | E41: =IF(E37="","",VLOOKUP(E37,変換!$B$31:$C$58,2,FALSE)) -> 9 | F41: =IF(F37="","",VLOOKUP(F37,変換!$B$31:$C$58,2,FALSE)) -> 12 | G41: =IF(G37="","",VLOOKUP(G37,変換!$B$31:$C$58,2,FALSE)) -> 5 | H41: =IF(H37="","",VLOOKUP(H37,変換!$B$31:$C$58,2,FALSE)) -> 2 | I41: =IF(I37="","",VLOOKUP(I37,変換!$B$31:$C$58,2,FALSE)) -> 5 | J41: =IF(J37="","",VLOOKUP(J37,変換!$B$31:$C$58,2,FALSE)) -> 21 | ... AG41: =IF(AG37="","",VLOOKUP(AG37,変換!$B$31:$C$58,2,FALSE))

Sheet 変換
A1: 天候 | B1: 1 | C1: 晴 | E1: 臭気 | F1: 1 | G1: 異常なし | J1: 味 | K1: 1 | L1: 異常なし | N1: 定性 | O1: 1 | P1: （ － ）
A2: 天候 | B2: 2 | C2: 曇 | E2: 臭気 | F2: 2 | G2: 藻臭 | J2: 味 | K2: 2 | L2: 塩味 | N2: 定性 | O2: 2 | P2: （ ＋ ）
A3: 天候 | B3: 3 | C3: 雨 | E3: 臭気 | F3: 3 | G3: かび臭 | J3: 味 | K3: 3 | L3: 苦味
A4: 天候 | B4: 4 | C4: 雪 | E4: 臭気 | F4: 4 | G4: 土臭 | J4: 味 | K4: 4 | L4: 渋味 | N4: クリプトスポリジウム
A5: 天候 | B5: 5 | C5: 晴/曇 | E5: 臭気 | F5: 5 | G5: 沢沼臭 | J5: 味 | K5: 5 | L5: 甘味 | N5: ジアルジア
A6: 天候 | B6: 6 | C6: 晴/雨 | E6: 臭気 | F6: 6 | G6: 硫化水素臭 | J6: 味 | K6: 6 | L6: 酸味 | N6: 検出・不検出 | O6: 1 | P6: 検出
A7: 天候 | B7: 7 | C7: 晴/雪 | E7: 臭気 | F7: 7 | G7: 金属臭 | N7: 検出・不検出 | O7: 2 | P7: 不検出
A8: 天候 | B8: 8 | C8: 曇/晴 | E8: 臭気 | F8: 8 | G8: 金気臭
A9: 天候 | B9: 9 | C9: 曇/雨 | E9: 臭気 | F9: 9 | G9: 芳香性臭気
A10: 天候 | B10: 10 | C10: 曇/雪 | E10: 臭気 | F10: 10 | G10: その他植物性臭気
A11: 天候 | B11: 11 | C11: 雨/晴 | E11: 臭気 | F11: 11 | G11: 魚臭・生ぐさ臭
A12: 天候 | B12: 12 | C12: 雨/曇 | E12: 臭気 | F12: 12 | G12: その他薬品性臭気
A13: 天候 | B13: 13 | C13: 雨/雪 | E13: 臭気 | F13: 13 | G13: 腐敗性臭気
A14: 天候 | B14: 14 | C14: 雪/晴
A15: 天候 | B15: 15 | C15: 雪/曇
A16: 天候 | B16: 16 | C16: 雪/雨
A17: 天候 | B17: 17 | C17: 晴|曇
A18: 天候 | B18: 18 | C18: 晴|雨
A19: 天候 | B19: 19 | C19: 晴|雪
A20: 天候 | B20: 20 | C20: 曇|晴
A21: 天候 | B21: 21 | C21: 曇|雨
A22: 天候 | B22: 22 | C22: 曇|雪
A23: 天候 | B23: 23 | C23: 雨|晴
A24: 天候 | B24: 24 | C24: 雨|曇
A25: 天候 | B25: 25 | C25: 雨|雪
... A28: 天候 | B28: 28 | C28: 雪|雨
A30: 再変換用
A31: 天候 | B31: 晴 | C31: 1
A32: 天候 | B32: 曇 | C32: 2
A33: 天候 | B33: 雨 | C33: 3
A34: 天候 | B34: 雪 | C34: 4
A35: 天候 | B35: 晴/曇 | C35: 5
A36: 天候 | B36: 晴/雨 | C36: 6
A37: 天候 | B37: 晴/雪 | C37: 7
A38: 天候 | B38: 曇/晴 | C38: 8
A39: 天候 | B39: 曇/雨 | C39: 9
A40: 天候 | B40: 曇/雪 | C40: 10
A41: 天候 | B41: 雨/晴 | C41: 11
A42: 天候 | B42: 雨/曇 | C42: 12
... A58: 天候 | B58: 雪|雨 | C58: 28

Sheet 色見本
A1: abcdefg | B1: abcdefg
