Workbook

Sheet 地域区分影響額簡易計算シート
B2: 介護報酬地域区分影響額簡易計算シート
B3: ①サービス種別 ②月間単位数を入力することで地域区分変更に伴う影響額の見込みを計算できます。
B4: ※本体報酬等の地域区分以外の条件は令和８年度と変わらない前提とする簡易計算となります。
E6: 自動計算（入力不要）
B7: ①サービス種別 | C7: ②月間単位数 | E7: ３級地（15%） | G7: 4級地（12%） | I7: 2級地（16%）
E8: 令和8年度 （単位単価） | F8: 令和8年度 （報酬額） | G8: 単位単価 | H8: 報酬額 | I8: 単位単価 | J8: 報酬額
E9: =IFERROR(VLOOKUP(B9,介護級地一覧!A:E,4,0),"") | F9: =IFERROR(ROUNDDOWN(C9*E9,0),"") | G9: =IFERROR(VLOOKUP(B9,介護級地一覧!A:E,5,0),"") | H9: =IFERROR(ROUNDDOWN(C9*G9,0),"") | I9: =IFERROR(VLOOKUP(B9,介護級地一覧!A:E,3,0),"") | J9: =IFERROR(ROUNDDOWN(C9*I9,0),"")
E10: =IFERROR(VLOOKUP(B10,介護級地一覧!A:E,4,0),"") | F10: =IFERROR(ROUNDDOWN(C10*E10,0),"") | G10: =IFERROR(VLOOKUP(B10,介護級地一覧!A:E,5,0),"") | H10: =IFERROR(ROUNDDOWN(C10*G10,0),"") | I10: =IFERROR(VLOOKUP(B10,介護級地一覧!A:E,3,0),"") | J10: =IFERROR(ROUNDDOWN(C10*I10,0),"")
E11: =IFERROR(VLOOKUP(B11,介護級地一覧!A:E,4,0),"") | F11: =IFERROR(ROUNDDOWN(C11*E11,0),"") | G11: =IFERROR(VLOOKUP(B11,介護級地一覧!A:E,5,0),"") | H11: =IFERROR(ROUNDDOWN(C11*G11,0),"") | I11: =IFERROR(VLOOKUP(B11,介護級地一覧!A:E,3,0),"") | J11: =IFERROR(ROUNDDOWN(C11*I11,0),"")
E12: =IFERROR(VLOOKUP(B12,介護級地一覧!A:E,4,0),"") | F12: =IFERROR(ROUNDDOWN(C12*E12,0),"") | G12: =IFERROR(VLOOKUP(B12,介護級地一覧!A:E,5,0),"") | H12: =IFERROR(ROUNDDOWN(C12*G12,0),"") | I12: =IFERROR(VLOOKUP(B12,介護級地一覧!A:E,3,0),"") | J12: =IFERROR(ROUNDDOWN(C12*I12,0),"")
E13: =IFERROR(VLOOKUP(B13,介護級地一覧!A:E,4,0),"") | F13: =IFERROR(ROUNDDOWN(C13*E13,0),"") | G13: =IFERROR(VLOOKUP(B13,介護級地一覧!A:E,5,0),"") | H13: =IFERROR(ROUNDDOWN(C13*G13,0),"") | I13: =IFERROR(VLOOKUP(B13,介護級地一覧!A:E,3,0),"") | J13: =IFERROR(ROUNDDOWN(C13*I13,0),"")
E14: 計 | F14: =SUM(F9:F13) -> 0 | H14: =SUM(H9:H13) -> 0 | J14: =SUM(J9:J13) -> 0
B15: 簡易計算結果（月あたりの影響額）
B16: 地域区分が３級地（15％）から４級地（12％）に下がった場合 | E16: =SUM(F9:F13)-SUM(H9:H13) -> 0 | H16: 円の減額 | I16: ⤵
B17: 地域区分が３級地（15％）から２級地（16％）に上がった場合 | E17: =SUM(J9:J13)-SUM(F9:F13) -> 0 | H17: 円の増額 | I17: ⤴

Sheet （入力例）地域区分影響額簡易計算シート
B2: 介護報酬地域区分影響額簡易計算シート
B3: ①サービス種別 ②月間単位数を入力することで地域区分変更に伴う影響額の見込みを計算できます。
B4: ※本体報酬等の地域区分以外の条件は令和８年度と変わらない前提とする簡易計算となります。
E6: 自動計算（入力不要）
B7: ①サービス種別 | C7: ②月間単位数 | E7: ３級地（15%） | G7: 4級地（12%） | I7: 2級地（16%）
E8: 令和8年度 （単位単価） | F8: 令和8年度 （報酬額） | G8: 単位単価 | H8: 報酬額 | I8: 単位単価 | J8: 報酬額
B9: 訪問介護 | C9: =5000*50 -> 250000 | E9: =IFERROR(VLOOKUP(B9,介護級地一覧!A:E,4,0),"") -> 11.05 | F9: =IFERROR(ROUNDDOWN(C9*E9,0),"") -> 2762500 | G9: =IFERROR(VLOOKUP(B9,介護級地一覧!A:E,5,0),"") -> 10.84 | H9: =IFERROR(ROUNDDOWN(C9*G9,0),"") -> 2710000 | I9: =IFERROR(VLOOKUP(B9,介護級地一覧!A:E,3,0),"") -> 11.12 | J9: =IFERROR(ROUNDDOWN(C9*I9,0),"") -> 2780000
B10: 訪問看護 | C10: =5000*50 -> 250000 | E10: =IFERROR(VLOOKUP(B10,介護級地一覧!A:E,4,0),"") -> 11.05 | F10: =IFERROR(ROUNDDOWN(C10*E10,0),"") -> 2762500 | G10: =IFERROR(VLOOKUP(B10,介護級地一覧!A:E,5,0),"") -> 10.84 | H10: =IFERROR(ROUNDDOWN(C10*G10,0),"") -> 2710000 | I10: =IFERROR(VLOOKUP(B10,介護級地一覧!A:E,3,0),"") -> 11.12 | J10: =IFERROR(ROUNDDOWN(C10*I10,0),"") -> 2780000
B11: 居宅介護支援(介護予防支援) | C11: =5000*50 -> 250000 | E11: =IFERROR(VLOOKUP(B11,介護級地一覧!A:E,4,0),"") -> 11.05 | F11: =IFERROR(ROUNDDOWN(C11*E11,0),"") -> 2762500 | G11: =IFERROR(VLOOKUP(B11,介護級地一覧!A:E,5,0),"") -> 10.84 | H11: =IFERROR(ROUNDDOWN(C11*G11,0),"") -> 2710000 | I11: =IFERROR(VLOOKUP(B11,介護級地一覧!A:E,3,0),"") -> 11.12 | J11: =IFERROR(ROUNDDOWN(C11*I11,0),"") -> 2780000
E12: =IFERROR(VLOOKUP(B12,介護級地一覧!A:E,4,0),"") | F12: =IFERROR(ROUNDDOWN(C12*E12,0),"") | G12: =IFERROR(VLOOKUP(B12,介護級地一覧!A:E,5,0),"") | H12: =IFERROR(ROUNDDOWN(C12*G12,0),"") | I12: =IFERROR(VLOOKUP(B12,介護級地一覧!A:E,3,0),"") | J12: =IFERROR(ROUNDDOWN(C12*I12,0),"")
E13: =IFERROR(VLOOKUP(B13,介護級地一覧!A:E,4,0),"") | F13: =IFERROR(ROUNDDOWN(C13*E13,0),"") | G13: =IFERROR(VLOOKUP(B13,介護級地一覧!A:E,5,0),"") | H13: =IFERROR(ROUNDDOWN(C13*G13,0),"") | I13: =IFERROR(VLOOKUP(B13,介護級地一覧!A:E,3,0),"") | J13: =IFERROR(ROUNDDOWN(C13*I13,0),"")
E14: 計 | F14: =SUM(F9:F13) -> 8287500 | H14: =SUM(H9:H13) -> 8130000 | J14: =SUM(J9:J13) -> 8340000
B15: 簡易計算結果（月あたりの影響額）
B16: 地域区分が３級地（15％）から４級地（12％）に下がった場合 | E16: =SUM(F9:F13)-SUM(H9:H13) -> 157500 | H16: 円の減額 | I16: ⤵
B17: 地域区分が３級地（15％）から２級地（16％）に上がった場合 | E17: =SUM(J9:J13)-SUM(F9:F13) -> 52500 | H17: 円の増額 | I17: ⤴

Sheet 介護級地一覧
A1: サービス種類 | B1: １級地 | C1: ２級地 | D1: ３級地 | E1: ４級地 | F1: ５級地 | G1: ６級地 | H1: ７級地 | I1: その他
A2: 上乗せ割合 | B2: 0.2 | C2: 0.16 | D2: 0.15 | E2: 0.12 | F2: 0.1 | G2: 0.06 | H2: 0.03 | I2: 0
A3: 訪問介護 | B3: 11.4 | C3: 11.12 | D3: 11.05 | E3: 10.84 | F3: 10.7 | G3: 10.42 | H3: 10.21 | I3: 10
A4: 訪問入浴介護 | B4: 11.4 | C4: 11.12 | D4: 11.05 | E4: 10.84 | F4: 10.7 | G4: 10.42 | H4: 10.21 | I4: 10
A5: 訪問看護 | B5: 11.4 | C5: 11.12 | D5: 11.05 | E5: 10.84 | F5: 10.7 | G5: 10.42 | H5: 10.21 | I5: 10
A6: 定期巡回・随時対応型訪問介護看護 | B6: 11.4 | C6: 11.12 | D6: 11.05 | E6: 10.84 | F6: 10.7 | G6: 10.42 | H6: 10.21 | I6: 10
A7: 夜間訪問型訪問介護 | B7: 11.4 | C7: 11.12 | D7: 11.05 | E7: 10.84 | F7: 10.7 | G7: 10.42 | H7: 10.21 | I7: 10
A8: 居宅介護支援(介護予防支援) | B8: 11.4 | C8: 11.12 | D8: 11.05 | E8: 10.84 | F8: 10.7 | G8: 10.42 | H8: 10.21 | I8: 10
A9: 訪問リハビリテーション | B9: 11.1 | C9: 10.88 | D9: 10.83 | E9: 10.66 | F9: 10.55 | G9: 10.33 | H9: 10.17 | I9: 10
A10: 通所リハビリテーション | B10: 11.1 | C10: 10.88 | D10: 10.83 | E10: 10.66 | F10: 10.55 | G10: 10.33 | H10: 10.17 | I10: 10
A11: 短期入所生活介護 | B11: 11.1 | C11: 10.88 | D11: 10.83 | E11: 10.66 | F11: 10.55 | G11: 10.33 | H11: 10.17 | I11: 10
A12: 認知症対応型通所介護 | B12: 11.1 | C12: 10.88 | D12: 10.83 | E12: 10.66 | F12: 10.55 | G12: 10.33 | H12: 10.17 | I12: 10
A13: 小規模多機能型居宅介護 | B13: 11.1 | C13: 10.88 | D13: 10.83 | E13: 10.66 | F13: 10.55 | G13: 10.33 | H13: 10.17 | I13: 10
... A23: 居宅療養管理指導、福祉用具貸与 | B23: 10 | C23: 10 | D23: 10 | E23: 10 | F23: 10 | G23: 10 | H23: 10 | I23: 10
